Workbook

Sheet OrderForm
C1: ORDER FORM | G1: ProbeSynthesis Biyoteknoloji Inc.
G2: Prof. Dr. Ahmet Taner Kışlalı 2768th Street No. 35
G3: 06810 Çankaya, Ankara, Turkey
G4: Doğanbey/7331140712
G5: www.probesynthesis.com
G6: info@probesynthesis.com
G7: 0535 050 5158
G8: 0532 054 2045
B10: INVOICE INFORMATION | F10: CONTACT INFORMATION
B11: ORDER DATE: | F11: FULL NAME:
B12: FULL NAME: | F12: SHIPPING ADDRESS:
B13: INSTITUTION / ORGANIZATION: | F13: EMAIL ADDRESS:
B14: BILLING ADDRESS: | F14: PHONE 1:
B15: PROJECT NUMBER: | F15: PHONE 2:
B16: TAX OFFICE:
B17: TAX ID / PERSONAL ID NUMBER: | F17: PLEASE ENSURE YOUR SHIPPING INFORMATION IS COMPLETE. OUR DELIVERY TIME IS 3–5 BUSINESS DAYS WITHIN TÜRKİYE!
A18: NOTE | B18: WHEN ENTERING OLIGONUCLEOTIDE SEQUENCES: | F18: - Please make sure your order information is entered correctly to ensure accurate processing of your order. - For primer orders, leave the “5' - 3' Modification” field blank to ensure correct calculation. - For probe orders, please select HPLC Purification. - Prices may change for orders containing invalid characters and spaces. Please check. | J18: Total Number of Orders | K18: =COUNTA(C24:C323) -> 0
B19: ENTER YOUR SEQUENCE IN THE SEQUENCE CELL IN 5' → 3' ORIENTATION ONLY. | J19: Total Number of Bases | K19: =SUMPRODUCT( LEN(SUBSTITUTE(SUBSTITUTE(SUBSTITUTE(C24:C323,"+",""),"*",""),"I","")) ) + SUMPRODUCT((LEN(UPPER(C24:C323))-LEN(SUBSTITUTE(UPPER(C24:C323),"R","")))*1) + SUMPRODUCT((LEN(UPPER(C24:C323))-LEN(SUBSTITUTE(UPPER(C24:C323),"Y","")))*1) + SUMPRODUCT((LEN(UPPER(C24:C323))-LEN(SUBSTITUTE(UPPER(C24:C323),"S","")))*1) + SUMPRODUCT((LEN(UPPER(C24:C323))-LEN(SUBSTITUTE(UPPER(C24:C323),"W","")))*1) + SUMPRODUCT((LEN(UPPER(C24:C323))-LEN(SUBSTITUTE(UPPER(C24:C323),"K","")))*1) + SUMPRODUCT((LEN(UPPER(C24:C323))-LEN(SUBSTITUTE(UPPER(C24:C323),"M","")))*1) + SUMPRODUCT((LEN(UPPER(C24:C323))-LEN(SUBSTITUTE(UPPER(C24:C323),"B","")))*2) + SUMPRODUCT((LEN(UPPER(C24:C323))-LEN(SUBSTITUTE(UPPER(C24:C323),"D","")))*2) + SUMPRODUCT((LEN(UPPER(C24:C323))-LEN(SUBSTITUTE(UPPER(C24:C323),"H","")))*2) + SUMPRODUCT((LEN(UPPER(C24:C323))-LEN(SUBSTITUTE(UPPER(C24:C323),"V","")))*2) + SUMPRODUCT((LEN(UPPER(C24:C323))-LEN(SUBSTITUTE(UPPER(C24:C323),"N","")))*3) -> 0
B20: DO NOT USE INVALID OR LOWERCASE LETTERS, DO NOT LEAVE SPACES IN THE SEQUENCE CELL. | J20: Total Number of Primers | K20: =COUNTIFS(C24:C323, "<>", D24:D323, "=") -> 0
B21: INDICATE LNA (+G), PHOSPHOROTHIOATE (*G), INOSINE, OR DEGENERATE BASES IN YOUR SEQUENCE. | J21: Total Number of Probes | K21: =COUNTIFS(C24:C323, "<>", D24:D323, "<>") -> 0
B22: FOR ALL SEQUENCES, DO NOT FORGET TO SELECT SCALE, PURIFICATION, AND MODIFICATION (IF APPLICABLE). | J22: Total Price | K22: =SUM(H24:H323) -> 0
A23: No | B23: Oligo Name | C23: Oligo Sequence 5' --> 3' | D23: 5' - 3' Modification | E23: Scale (nmol) | F23: Purification | G23: Length (bp) | H23: Price (€) | I23: Sequence Check | J23: Degenerate | K23: Note
A24: 1 | G24: =IF(C24="","", LEN( SUBSTITUTE( SUBSTITUTE( SUBSTITUTE(C24,"+",""), "*",""), "I","") ) ) | H24: {=IF( ISBLANK(C24), "", IF( ISBLANK(D24), ( ( G24 + (LEN(C24)-LEN(SUBSTITUTE(UPPER(C24),"R",""))) + (LEN(C24)-LEN(SUBSTITUTE(UPPER(C24),"Y",""))) + (LEN(C24)-LEN(SUBSTITUTE(UPPER(C24),"M",""))) + (LEN(C24)-LEN(SUBSTITUTE(UPPER(C24),"K",""))) + (LEN(C24)-LEN(SUBSTITUTE(UPPER(C24),"S",""))) + (LEN(C24)-LEN(SUBSTITUTE(UPPER(C24),"W",""))) + 2*(LEN(C24)-LEN(SUBSTITUTE(UPPER(C24),"B",""))) + 2*(LEN(C24)-LEN(SUBSTITUTE(UPPER(C24),"D",""))) + 2*(LEN(C24)-LEN(SUBSTITUTE(UPPER(C24),"H",""))) + 2*(LEN(C24)-LEN(SUBSTITUTE(UPPER(C24),"V",""))) + 3*(LEN(C24)-LEN(SUBSTITUTE(UPPER(C24),"N",""))) ) * INDEX(PrimerPrices!$C$2:$C$500, MATCH(TRIM(E24) & "|" & TRIM(F24), PrimerPrices!$D$2:$D$500, 0) ) ), INDEX(ProbePrices!$D$2:$D$500, MATCH(TRIM(D24) & "|" & TRIM(E24) & "|" & TRIM(F24), ProbePrices!$E$2:$E$500, 0) ) ) + (LEN(C24)-LEN(SUBSTITUTE(C24,"+",""))) * 10 + (LEN(UPPER(C24))-LEN(SUBSTITUTE(UPPER(C24),"I",""))) * 10 + (LEN(C24)-LEN(SUBSTITUTE(C24,"*",""))) * 10 )} | I24: =IF(C24="","", TRIM( IF(U24<>"",U24&", ","")& IF(V24<>"",V24&", ","")& IF(W24<>"",W24&", ","")& IF(X24<>"",X24&", ","")& IF(Y24<>"",Y24&", ","")& IF(Z24<>"",Z24&", ","") ) ) | J24: =IF(C24="","", TRIM( IF(LEN(C24)-LEN(SUBSTITUTE(UPPER(C24),"R",""))>0,"R ("&(LEN(C24)-LEN(SUBSTITUTE(UPPER(C24),"R","")))&"), ","")& IF(LEN(C24)-LEN(SUBSTITUTE(UPPER(C24),"Y",""))>0,"Y ("&(LEN(C24)-LEN(SUBSTITUTE(UPPER(C24),"Y","")))&"), ","")& IF(LEN(C24)-LEN(SUBSTITUTE(UPPER(C24),"M",""))>0,"M ("&(LEN(C24)-LEN(SUBSTITUTE(UPPER(C24),"M","")))&"), ","")& IF(LEN(C24)-LEN(SUBSTITUTE(UPPER(C24),"K",""))>0,"K ("&(LEN(C24)-LEN(SUBSTITUTE(UPPER(C24),"K","")))&"), ","")& IF(LEN(C24)-LEN(SUBSTITUTE(UPPER(C24),"S",""))>0,"S ("&(LEN(C24)-LEN(SUBSTITUTE(UPPER(C24),"S","")))&"), ","")& IF(LEN(C24)-LEN(SUBSTITUTE(UPPER(C24),"W",""))>0,"W ("&(LEN(C24)-LEN(SUBSTITUTE(UPPER(C24),"W","")))&"), ","")& IF(LEN(C24)-LEN(SUBSTITUTE(UPPER(C24),"B",""))>0,"B ("&(LEN(C24)-LEN(SUBSTITUTE(UPPER(C24),"B","")))&"), ","")& IF(LEN(C24)-LEN(SUBSTITUTE(UPPER(C24),"D",""))>0,"D ("&(LEN(C24)-LEN(SUBSTITUTE(UPPER(C24),"D","")))&"), ","")& IF(LEN(C24)-LEN(SUBSTITUTE(UPPER(C24),"H",""))>0,"H ("&(LEN(C24)-LEN(SUBSTITUTE(UPPER(C24),"H","")))&"), ","")& IF(LEN(C24)-LEN(SUBSTITUTE(UPPER(C24),"V",""))>0,"V ("&(LEN(C24)-LEN(SUBSTITUTE(UPPER(C24),"V","")))&"), ","")& IF(LEN(C24)-LEN(SUBSTITUTE(UPPER(C24),"N",""))>0,"N ("&(LEN(C24)-LEN(SUBSTITUTE(UPPER(C24),"N","")))&"), ","") ) ) | U24: =IF(C24="","", IF(LEN(C24)<>LEN(SUBSTITUTE(C24," ","")),"Boşluk var","") ) | V24: =IF(SUM( LEN(UPPER(C24))-LEN(SUBSTITUTE(UPPER(C24),"R","")), LEN(UPPER(C24))-LEN(SUBSTITUTE(UPPER(C24),"Y","")), LEN(UPPER(C24))-LEN(SUBSTITUTE(UPPER(C24),"S","")), LEN(UPPER(C24))-LEN(SUBSTITUTE(UPPER(C24),"W","")), LEN(UPPER(C24))-LEN(SUBSTITUTE(UPPER(C24),"K","")), LEN(UPPER(C24))-LEN(SUBSTITUTE(UPPER(C24),"M","")), LEN(UPPER(C24))-LEN(SUBSTITUTE(UPPER(C24),"B","")), LEN(UPPER(C24))-LEN(SUBSTITUTE(UPPER(C24),"D","")), LEN(UPPER(C24))-LEN(SUBSTITUTE(UPPER(C24),"H","")), LEN(UPPER(C24))-LEN(SUBSTITUTE(UPPER(C24),"V","")), LEN(UPPER(C24))-LEN(SUBSTITUTE(UPPER(C24),"N","")) )>0,"Dejenere var","") | W24: =IF(LEN(UPPER(C24))-LEN(SUBSTITUTE(UPPER(C24),"I",""))>0,"inosine var","") | X24: =IF(LEN(C24)-LEN(SUBSTITUTE(C24,"+",""))>0,"lna var","") | Y24: =IF(LEN(C24)-LEN(SUBSTITUTE(C24,"*",""))>0,"phosphorothioate var","") | Z24: =IF( LEN( SUBSTITUTE( SUBSTITUTE( SUBSTITUTE( SUBSTITUTE( SUBSTITUTE( SUBSTITUTE( SUBSTITUTE( SUBSTITUTE( SUBSTITUTE( SUBSTITUTE( SUBSTITUTE( SUBSTITUTE( SUBSTITUTE( SUBSTITUTE( SUBSTITUTE( SUBSTITUTE( SUBSTITUTE( SUBSTITUTE( SUBSTITUTE( UPPER(C24), "A",""), "C",""), "G",""), "T",""), "R",""), "Y",""), "S",""), "W",""), "K",""), "M",""), "B",""), "D",""), "H",""), "V",""), "N",""), "I",""), "+",""), "*",""), " ","") )>0,"Geçersiz karakter","")
A25: 2 | G25: =IF(C25="","", LEN( SUBSTITUTE( SUBSTITUTE( SUBSTITUTE(C25,"+",""), "*",""), "I","") ) ) | H25: {=IF( ISBLANK(C25), "", IF( ISBLANK(D25), ( ( G25 + (LEN(C25)-LEN(SUBSTITUTE(UPPER(C25),"R",""))) + (LEN(C25)-LEN(SUBSTITUTE(UPPER(C25),"Y",""))) + (LEN(C25)-LEN(SUBSTITUTE(UPPER(C25),"M",""))) + (LEN(C25)-LEN(SUBSTITUTE(UPPER(C25),"K",""))) + (LEN(C25)-LEN(SUBSTITUTE(UPPER(C25),"S",""))) + (LEN(C25)-LEN(SUBSTITUTE(UPPER(C25),"W",""))) + 2*(LEN(C25)-LEN(SUBSTITUTE(UPPER(C25),"B",""))) + 2*(LEN(C25)-LEN(SUBSTITUTE(UPPER(C25),"D",""))) + 2*(LEN(C25)-LEN(SUBSTITUTE(UPPER(C25),"H",""))) + 2*(LEN(C25)-LEN(SUBSTITUTE(UPPER(C25),"V",""))) + 3*(LEN(C25)-LEN(SUBSTITUTE(UPPER(C25),"N",""))) ) * INDEX(PrimerPrices!$C$2:$C$500, MATCH(TRIM(E25) & "|" & TRIM(F25), PrimerPrices!$D$2:$D$500, 0) ) ), INDEX(ProbePrices!$D$2:$D$500, MATCH(TRIM(D25) & "|" & TRIM(E25) & "|" & TRIM(F25), ProbePrices!$E$2:$E$500, 0) ) ) + (LEN(C25)-LEN(SUBSTITUTE(C25,"+",""))) * 10 + (LEN(UPPER(C25))-LEN(SUBSTITUTE(UPPER(C25),"I",""))) * 10 + (LEN(C25)-LEN(SUBSTITUTE(C25,"*",""))) * 10 )} | I25: =IF(C25="","", TRIM( IF(U25<>"",U25&", ","")& IF(V25<>"",V25&", ","")& IF(W25<>"",W25&", ","")& IF(X25<>"",X25&", ","")& IF(Y25<>"",Y25&", ","")& IF(Z25<>"",Z25&", ","") ) ) | J25: =IF(C25="","", TRIM( IF(LEN(C25)-LEN(SUBSTITUTE(UPPER(C25),"R",""))>0,"R ("&(LEN(C25)-LEN(SUBSTITUTE(UPPER(C25),"R","")))&"), ","")& IF(LEN(C25)-LEN(SUBSTITUTE(UPPER(C25),"Y",""))>0,"Y ("&(LEN(C25)-LEN(SUBSTITUTE(UPPER(C25),"Y","")))&"), ","")& IF(LEN(C25)-LEN(SUBSTITUTE(UPPER(C25),"M",""))>0,"M ("&(LEN(C25)-LEN(SUBSTITUTE(UPPER(C25),"M","")))&"), ","")& IF(LEN(C25)-LEN(SUBSTITUTE(UPPER(C25),"K",""))>0,"K ("&(LEN(C25)-LEN(SUBSTITUTE(UPPER(C25),"K","")))&"), ","")& IF(LEN(C25)-LEN(SUBSTITUTE(UPPER(C25),"S",""))>0,"S ("&(LEN(C25)-LEN(SUBSTITUTE(UPPER(C25),"S","")))&"), ","")& IF(LEN(C25)-LEN(SUBSTITUTE(UPPER(C25),"W",""))>0,"W ("&(LEN(C25)-LEN(SUBSTITUTE(UPPER(C25),"W","")))&"), ","")& IF(LEN(C25)-LEN(SUBSTITUTE(UPPER(C25),"B",""))>0,"B ("&(LEN(C25)-LEN(SUBSTITUTE(UPPER(C25),"B","")))&"), ","")& IF(LEN(C25)-LEN(SUBSTITUTE(UPPER(C25),"D",""))>0,"D ("&(LEN(C25)-LEN(SUBSTITUTE(UPPER(C25),"D","")))&"), ","")& IF(LEN(C25)-LEN(SUBSTITUTE(UPPER(C25),"H",""))>0,"H ("&(LEN(C25)-LEN(SUBSTITUTE(UPPER(C25),"H","")))&"), ","")& IF(LEN(C25)-LEN(SUBSTITUTE(UPPER(C25),"V",""))>0,"V ("&(LEN(C25)-LEN(SUBSTITUTE(UPPER(C25),"V","")))&"), ","")& IF(LEN(C25)-LEN(SUBSTITUTE(UPPER(C25),"N",""))>0,"N ("&(LEN(C25)-LEN(SUBSTITUTE(UPPER(C25),"N","")))&"), ","") ) ) | U25: =IF(C25="","", IF(LEN(C25)<>LEN(SUBSTITUTE(C25," ","")),"Boşluk var","") ) | V25: =IF(SUM( LEN(UPPER(C25))-LEN(SUBSTITUTE(UPPER(C25),"R","")), LEN(UPPER(C25))-LEN(SUBSTITUTE(UPPER(C25),"Y","")), LEN(UPPER(C25))-LEN(SUBSTITUTE(UPPER(C25),"S","")), LEN(UPPER(C25))-LEN(SUBSTITUTE(UPPER(C25),"W","")), LEN(UPPER(C25))-LEN(SUBSTITUTE(UPPER(C25),"K","")), LEN(UPPER(C25))-LEN(SUBSTITUTE(UPPER(C25),"M","")), LEN(UPPER(C25))-LEN(SUBSTITUTE(UPPER(C25),"B","")), LEN(UPPER(C25))-LEN(SUBSTITUTE(UPPER(C25),"D","")), LEN(UPPER(C25))-LEN(SUBSTITUTE(UPPER(C25),"H","")), LEN(UPPER(C25))-LEN(SUBSTITUTE(UPPER(C25),"V","")), LEN(UPPER(C25))-LEN(SUBSTITUTE(UPPER(C25),"N","")) )>0,"Dejenere var","") | W25: =IF(LEN(UPPER(C25))-LEN(SUBSTITUTE(UPPER(C25),"I",""))>0,"inosine var","") | X25: =IF(LEN(C25)-LEN(SUBSTITUTE(C25,"+",""))>0,"lna var","") | Y25: =IF(LEN(C25)-LEN(SUBSTITUTE(C25,"*",""))>0,"phosphorothioate var","") | Z25: =IF( LEN( SUBSTITUTE( SUBSTITUTE( SUBSTITUTE( SUBSTITUTE( SUBSTITUTE( SUBSTITUTE( SUBSTITUTE( SUBSTITUTE( SUBSTITUTE( SUBSTITUTE( SUBSTITUTE( SUBSTITUTE( SUBSTITUTE( SUBSTITUTE( SUBSTITUTE( SUBSTITUTE( SUBSTITUTE( SUBSTITUTE( SUBSTITUTE( UPPER(C25), "A",""), "C",""), "G",""), "T",""), "R",""), "Y",""), "S",""), "W",""), "K",""), "M",""), "B",""), "D",""), "H",""), "V",""), "N",""), "I",""), "+",""), "*",""), " ","") )>0,"Geçersiz karakter","")
A26: 3 | G26: =IF(C26="","", LEN( SUBSTITUTE( SUBSTITUTE( SUBSTITUTE(C26,"+",""), "*",""), "I","") ) ) | H26: {=IF( ISBLANK(C26), "", IF( ISBLANK(D26), ( ( G26 + (LEN(C26)-LEN(SUBSTITUTE(UPPER(C26),"R",""))) + (LEN(C26)-LEN(SUBSTITUTE(UPPER(C26),"Y",""))) + (LEN(C26)-LEN(SUBSTITUTE(UPPER(C26),"M",""))) + (LEN(C26)-LEN(SUBSTITUTE(UPPER(C26),"K",""))) + (LEN(C26)-LEN(SUBSTITUTE(UPPER(C26),"S",""))) + (LEN(C26)-LEN(SUBSTITUTE(UPPER(C26),"W",""))) + 2*(LEN(C26)-LEN(SUBSTITUTE(UPPER(C26),"B",""))) + 2*(LEN(C26)-LEN(SUBSTITUTE(UPPER(C26),"D",""))) + 2*(LEN(C26)-LEN(SUBSTITUTE(UPPER(C26),"H",""))) + 2*(LEN(C26)-LEN(SUBSTITUTE(UPPER(C26),"V",""))) + 3*(LEN(C26)-LEN(SUBSTITUTE(UPPER(C26),"N",""))) ) * INDEX(PrimerPrices!$C$2:$C$500, MATCH(TRIM(E26) & "|" & TRIM(F26), PrimerPrices!$D$2:$D$500, 0) ) ), INDEX(ProbePrices!$D$2:$D$500, MATCH(TRIM(D26) & "|" & TRIM(E26) & "|" & TRIM(F26), ProbePrices!$E$2:$E$500, 0) ) ) + (LEN(C26)-LEN(SUBSTITUTE(C26,"+",""))) * 10 + (LEN(UPPER(C26))-LEN(SUBSTITUTE(UPPER(C26),"I",""))) * 10 + (LEN(C26)-LEN(SUBSTITUTE(C26,"*",""))) * 10 )} | I26: =IF(C26="","", TRIM( IF(U26<>"",U26&", ","")& IF(V26<>"",V26&", ","")& IF(W26<>"",W26&", ","")& IF(X26<>"",X26&", ","")& IF(Y26<>"",Y26&", ","")& IF(Z26<>"",Z26&", ","") ) ) | J26: =IF(C26="","", TRIM( IF(LEN(C26)-LEN(SUBSTITUTE(UPPER(C26),"R",""))>0,"R ("&(LEN(C26)-LEN(SUBSTITUTE(UPPER(C26),"R","")))&"), ","")& IF(LEN(C26)-LEN(SUBSTITUTE(UPPER(C26),"Y",""))>0,"Y ("&(LEN(C26)-LEN(SUBSTITUTE(UPPER(C26),"Y","")))&"), ","")& IF(LEN(C26)-LEN(SUBSTITUTE(UPPER(C26),"M",""))>0,"M ("&(LEN(C26)-LEN(SUBSTITUTE(UPPER(C26),"M","")))&"), ","")& IF(LEN(C26)-LEN(SUBSTITUTE(UPPER(C26),"K",""))>0,"K ("&(LEN(C26)-LEN(SUBSTITUTE(UPPER(C26),"K","")))&"), ","")& IF(LEN(C26)-LEN(SUBSTITUTE(UPPER(C26),"S",""))>0,"S ("&(LEN(C26)-LEN(SUBSTITUTE(UPPER(C26),"S","")))&"), ","")& IF(LEN(C26)-LEN(SUBSTITUTE(UPPER(C26),"W",""))>0,"W ("&(LEN(C26)-LEN(SUBSTITUTE(UPPER(C26),"W","")))&"), ","")& IF(LEN(C26)-LEN(SUBSTITUTE(UPPER(C26),"B",""))>0,"B ("&(LEN(C26)-LEN(SUBSTITUTE(UPPER(C26),"B","")))&"), ","")& IF(LEN(C26)-LEN(SUBSTITUTE(UPPER(C26),"D",""))>0,"D ("&(LEN(C26)-LEN(SUBSTITUTE(UPPER(C26),"D","")))&"), ","")& IF(LEN(C26)-LEN(SUBSTITUTE(UPPER(C26),"H",""))>0,"H ("&(LEN(C26)-LEN(SUBSTITUTE(UPPER(C26),"H","")))&"), ","")& IF(LEN(C26)-LEN(SUBSTITUTE(UPPER(C26),"V",""))>0,"V ("&(LEN(C26)-LEN(SUBSTITUTE(UPPER(C26),"V","")))&"), ","")& IF(LEN(C26)-LEN(SUBSTITUTE(UPPER(C26),"N",""))>0,"N ("&(LEN(C26)-LEN(SUBSTITUTE(UPPER(C26),"N","")))&"), ","") ) ) | U26: =IF(C26="","", IF(LEN(C26)<>LEN(SUBSTITUTE(C26," ","")),"Boşluk var","") ) | V26: =IF(SUM( LEN(UPPER(C26))-LEN(SUBSTITUTE(UPPER(C26),"R","")), LEN(UPPER(C26))-LEN(SUBSTITUTE(UPPER(C26),"Y","")), LEN(UPPER(C26))-LEN(SUBSTITUTE(UPPER(C26),"S","")), LEN(UPPER(C26))-LEN(SUBSTITUTE(UPPER(C26),"W","")), LEN(UPPER(C26))-LEN(SUBSTITUTE(UPPER(C26),"K","")), LEN(UPPER(C26))-LEN(SUBSTITUTE(UPPER(C26),"M","")), LEN(UPPER(C26))-LEN(SUBSTITUTE(UPPER(C26),"B","")), LEN(UPPER(C26))-LEN(SUBSTITUTE(UPPER(C26),"D","")), LEN(UPPER(C26))-LEN(SUBSTITUTE(UPPER(C26),"H","")), LEN(UPPER(C26))-LEN(SUBSTITUTE(UPPER(C26),"V","")), LEN(UPPER(C26))-LEN(SUBSTITUTE(UPPER(C26),"N","")) )>0,"Dejenere var","") | W26: =IF(LEN(UPPER(C26))-LEN(SUBSTITUTE(UPPER(C26),"I",""))>0,"inosine var","") | X26: =IF(LEN(C26)-LEN(SUBSTITUTE(C26,"+",""))>0,"lna var","") | Y26: =IF(LEN(C26)-LEN(SUBSTITUTE(C26,"*",""))>0,"phosphorothioate var","") | Z26: =IF( LEN( SUBSTITUTE( SUBSTITUTE( SUBSTITUTE( SUBSTITUTE( SUBSTITUTE( SUBSTITUTE( SUBSTITUTE( SUBSTITUTE( SUBSTITUTE( SUBSTITUTE( SUBSTITUTE( SUBSTITUTE( SUBSTITUTE( SUBSTITUTE( SUBSTITUTE( SUBSTITUTE( SUBSTITUTE( SUBSTITUTE( SUBSTITUTE( UPPER(C26), "A",""), "C",""), "G",""), "T",""), "R",""), "Y",""), "S",""), "W",""), "K",""), "M",""), "B",""), "D",""), "H",""), "V",""), "N",""), "I",""), "+",""), "*",""), " ","") )>0,"Geçersiz karakter","")
A27: 4 | G27: =IF(C27="","", LEN( SUBSTITUTE( SUBSTITUTE( SUBSTITUTE(C27,"+",""), "*",""), "I","") ) ) | H27: {=IF( ISBLANK(C27), "", IF( ISBLANK(D27), ( ( G27 + (LEN(C27)-LEN(SUBSTITUTE(UPPER(C27),"R",""))) + (LEN(C27)-LEN(SUBSTITUTE(UPPER(C27),"Y",""))) + (LEN(C27)-LEN(SUBSTITUTE(UPPER(C27),"M",""))) + (LEN(C27)-LEN(SUBSTITUTE(UPPER(C27),"K",""))) + (LEN(C27)-LEN(SUBSTITUTE(UPPER(C27),"S",""))) + (LEN(C27)-LEN(SUBSTITUTE(UPPER(C27),"W",""))) + 2*(LEN(C27)-LEN(SUBSTITUTE(UPPER(C27),"B",""))) + 2*(LEN(C27)-LEN(SUBSTITUTE(UPPER(C27),"D",""))) + 2*(LEN(C27)-LEN(SUBSTITUTE(UPPER(C27),"H",""))) + 2*(LEN(C27)-LEN(SUBSTITUTE(UPPER(C27),"V",""))) + 3*(LEN(C27)-LEN(SUBSTITUTE(UPPER(C27),"N",""))) ) * INDEX(PrimerPrices!$C$2:$C$500, MATCH(TRIM(E27) & "|" & TRIM(F27), PrimerPrices!$D$2:$D$500, 0) ) ), INDEX(ProbePrices!$D$2:$D$500, MATCH(TRIM(D27) & "|" & TRIM(E27) & "|" & TRIM(F27), ProbePrices!$E$2:$E$500, 0) ) ) + (LEN(C27)-LEN(SUBSTITUTE(C27,"+",""))) * 10 + (LEN(UPPER(C27))-LEN(SUBSTITUTE(UPPER(C27),"I",""))) * 10 + (LEN(C27)-LEN(SUBSTITUTE(C27,"*",""))) * 10 )} | I27: =IF(C27="","", TRIM( IF(U27<>"",U27&", ","")& IF(V27<>"",V27&", ","")& IF(W27<>"",W27&", ","")& IF(X27<>"",X27&", ","")& IF(Y27<>"",Y27&", ","")& IF(Z27<>"",Z27&", ","") ) ) | J27: =IF(C27="","", TRIM( IF(LEN(C27)-LEN(SUBSTITUTE(UPPER(C27),"R",""))>0,"R ("&(LEN(C27)-LEN(SUBSTITUTE(UPPER(C27),"R","")))&"), ","")& IF(LEN(C27)-LEN(SUBSTITUTE(UPPER(C27),"Y",""))>0,"Y ("&(LEN(C27)-LEN(SUBSTITUTE(UPPER(C27),"Y","")))&"), ","")& IF(LEN(C27)-LEN(SUBSTITUTE(UPPER(C27),"M",""))>0,"M ("&(LEN(C27)-LEN(SUBSTITUTE(UPPER(C27),"M","")))&"), ","")& IF(LEN(C27)-LEN(SUBSTITUTE(UPPER(C27),"K",""))>0,"K ("&(LEN(C27)-LEN(SUBSTITUTE(UPPER(C27),"K","")))&"), ","")& IF(LEN(C27)-LEN(SUBSTITUTE(UPPER(C27),"S",""))>0,"S ("&(LEN(C27)-LEN(SUBSTITUTE(UPPER(C27),"S","")))&"), ","")& IF(LEN(C27)-LEN(SUBSTITUTE(UPPER(C27),"W",""))>0,"W ("&(LEN(C27)-LEN(SUBSTITUTE(UPPER(C27),"W","")))&"), ","")& IF(LEN(C27)-LEN(SUBSTITUTE(UPPER(C27),"B",""))>0,"B ("&(LEN(C27)-LEN(SUBSTITUTE(UPPER(C27),"B","")))&"), ","")& IF(LEN(C27)-LEN(SUBSTITUTE(UPPER(C27),"D",""))>0,"D ("&(LEN(C27)-LEN(SUBSTITUTE(UPPER(C27),"D","")))&"), ","")& IF(LEN(C27)-LEN(SUBSTITUTE(UPPER(C27),"H",""))>0,"H ("&(LEN(C27)-LEN(SUBSTITUTE(UPPER(C27),"H","")))&"), ","")& IF(LEN(C27)-LEN(SUBSTITUTE(UPPER(C27),"V",""))>0,"V ("&(LEN(C27)-LEN(SUBSTITUTE(UPPER(C27),"V","")))&"), ","")& IF(LEN(C27)-LEN(SUBSTITUTE(UPPER(C27),"N",""))>0,"N ("&(LEN(C27)-LEN(SUBSTITUTE(UPPER(C27),"N","")))&"), ","") ) ) | U27: =IF(C27="","", IF(LEN(C27)<>LEN(SUBSTITUTE(C27," ","")),"Boşluk var","") ) | V27: =IF(SUM( LEN(UPPER(C27))-LEN(SUBSTITUTE(UPPER(C27),"R","")), LEN(UPPER(C27))-LEN(SUBSTITUTE(UPPER(C27),"Y","")), LEN(UPPER(C27))-LEN(SUBSTITUTE(UPPER(C27),"S","")), LEN(UPPER(C27))-LEN(SUBSTITUTE(UPPER(C27),"W","")), LEN(UPPER(C27))-LEN(SUBSTITUTE(UPPER(C27),"K","")), LEN(UPPER(C27))-LEN(SUBSTITUTE(UPPER(C27),"M","")), LEN(UPPER(C27))-LEN(SUBSTITUTE(UPPER(C27),"B","")), LEN(UPPER(C27))-LEN(SUBSTITUTE(UPPER(C27),"D","")), LEN(UPPER(C27))-LEN(SUBSTITUTE(UPPER(C27),"H","")), LEN(UPPER(C27))-LEN(SUBSTITUTE(UPPER(C27),"V","")), LEN(UPPER(C27))-LEN(SUBSTITUTE(UPPER(C27),"N","")) )>0,"Dejenere var","") | W27: =IF(LEN(UPPER(C27))-LEN(SUBSTITUTE(UPPER(C27),"I",""))>0,"inosine var","") | X27: =IF(LEN(C27)-LEN(SUBSTITUTE(C27,"+",""))>0,"lna var","") | Y27: =IF(LEN(C27)-LEN(SUBSTITUTE(C27,"*",""))>0,"phosphorothioate var","") | Z27: =IF( LEN( SUBSTITUTE( SUBSTITUTE( SUBSTITUTE( SUBSTITUTE( SUBSTITUTE( SUBSTITUTE( SUBSTITUTE( SUBSTITUTE( SUBSTITUTE( SUBSTITUTE( SUBSTITUTE( SUBSTITUTE( SUBSTITUTE( SUBSTITUTE( SUBSTITUTE( SUBSTITUTE( SUBSTITUTE( SUBSTITUTE( SUBSTITUTE( UPPER(C27), "A",""), "C",""), "G",""), "T",""), "R",""), "Y",""), "S",""), "W",""), "K",""), "M",""), "B",""), "D",""), "H",""), "V",""), "N",""), "I",""), "+",""), "*",""), " ","") )>0,"Geçersiz karakter","")
A28: 5 | G28: =IF(C28="","", LEN( SUBSTITUTE( SUBSTITUTE( SUBSTITUTE(C28,"+",""), "*",""), "I","") ) ) | H28: {=IF( ISBLANK(C28), "", IF( ISBLANK(D28), ( ( G28 + (LEN(C28)-LEN(SUBSTITUTE(UPPER(C28),"R",""))) + (LEN(C28)-LEN(SUBSTITUTE(UPPER(C28),"Y",""))) + (LEN(C28)-LEN(SUBSTITUTE(UPPER(C28),"M",""))) + (LEN(C28)-LEN(SUBSTITUTE(UPPER(C28),"K",""))) + (LEN(C28)-LEN(SUBSTITUTE(UPPER(C28),"S",""))) + (LEN(C28)-LEN(SUBSTITUTE(UPPER(C28),"W",""))) + 2*(LEN(C28)-LEN(SUBSTITUTE(UPPER(C28),"B",""))) + 2*(LEN(C28)-LEN(SUBSTITUTE(UPPER(C28),"D",""))) + 2*(LEN(C28)-LEN(SUBSTITUTE(UPPER(C28),"H",""))) + 2*(LEN(C28)-LEN(SUBSTITUTE(UPPER(C28),"V",""))) + 3*(LEN(C28)-LEN(SUBSTITUTE(UPPER(C28),"N",""))) ) * INDEX(PrimerPrices!$C$2:$C$500, MATCH(TRIM(E28) & "|" & TRIM(F28), PrimerPrices!$D$2:$D$500, 0) ) ), INDEX(ProbePrices!$D$2:$D$500, MATCH(TRIM(D28) & "|" & TRIM(E28) & "|" & TRIM(F28), ProbePrices!$E$2:$E$500, 0) ) ) + (LEN(C28)-LEN(SUBSTITUTE(C28,"+",""))) * 10 + (LEN(UPPER(C28))-LEN(SUBSTITUTE(UPPER(C28),"I",""))) * 10 + (LEN(C28)-LEN(SUBSTITUTE(C28,"*",""))) * 10 )} | I28: =IF(C28="","", TRIM( IF(U28<>"",U28&", ","")& IF(V28<>"",V28&", ","")& IF(W28<>"",W28&", ","")& IF(X28<>"",X28&", ","")& IF(Y28<>"",Y28&", ","")& IF(Z28<>"",Z28&", ","") ) ) | J28: =IF(C28="","", TRIM( IF(LEN(C28)-LEN(SUBSTITUTE(UPPER(C28),"R",""))>0,"R ("&(LEN(C28)-LEN(SUBSTITUTE(UPPER(C28),"R","")))&"), ","")& IF(LEN(C28)-LEN(SUBSTITUTE(UPPER(C28),"Y",""))>0,"Y ("&(LEN(C28)-LEN(SUBSTITUTE(UPPER(C28),"Y","")))&"), ","")& IF(LEN(C28)-LEN(SUBSTITUTE(UPPER(C28),"M",""))>0,"M ("&(LEN(C28)-LEN(SUBSTITUTE(UPPER(C28),"M","")))&"), ","")& IF(LEN(C28)-LEN(SUBSTITUTE(UPPER(C28),"K",""))>0,"K ("&(LEN(C28)-LEN(SUBSTITUTE(UPPER(C28),"K","")))&"), ","")& IF(LEN(C28)-LEN(SUBSTITUTE(UPPER(C28),"S",""))>0,"S ("&(LEN(C28)-LEN(SUBSTITUTE(UPPER(C28),"S","")))&"), ","")& IF(LEN(C28)-LEN(SUBSTITUTE(UPPER(C28),"W",""))>0,"W ("&(LEN(C28)-LEN(SUBSTITUTE(UPPER(C28),"W","")))&"), ","")& IF(LEN(C28)-LEN(SUBSTITUTE(UPPER(C28),"B",""))>0,"B ("&(LEN(C28)-LEN(SUBSTITUTE(UPPER(C28),"B","")))&"), ","")& IF(LEN(C28)-LEN(SUBSTITUTE(UPPER(C28),"D",""))>0,"D ("&(LEN(C28)-LEN(SUBSTITUTE(UPPER(C28),"D","")))&"), ","")& IF(LEN(C28)-LEN(SUBSTITUTE(UPPER(C28),"H",""))>0,"H ("&(LEN(C28)-LEN(SUBSTITUTE(UPPER(C28),"H","")))&"), ","")& IF(LEN(C28)-LEN(SUBSTITUTE(UPPER(C28),"V",""))>0,"V ("&(LEN(C28)-LEN(SUBSTITUTE(UPPER(C28),"V","")))&"), ","")& IF(LEN(C28)-LEN(SUBSTITUTE(UPPER(C28),"N",""))>0,"N ("&(LEN(C28)-LEN(SUBSTITUTE(UPPER(C28),"N","")))&"), ","") ) ) | U28: =IF(C28="","", IF(LEN(C28)<>LEN(SUBSTITUTE(C28," ","")),"Boşluk var","") ) | V28: =IF(SUM( LEN(UPPER(C28))-LEN(SUBSTITUTE(UPPER(C28),"R","")), LEN(UPPER(C28))-LEN(SUBSTITUTE(UPPER(C28),"Y","")), LEN(UPPER(C28))-LEN(SUBSTITUTE(UPPER(C28),"S","")), LEN(UPPER(C28))-LEN(SUBSTITUTE(UPPER(C28),"W","")), LEN(UPPER(C28))-LEN(SUBSTITUTE(UPPER(C28),"K","")), LEN(UPPER(C28))-LEN(SUBSTITUTE(UPPER(C28),"M","")), LEN(UPPER(C28))-LEN(SUBSTITUTE(UPPER(C28),"B","")), LEN(UPPER(C28))-LEN(SUBSTITUTE(UPPER(C28),"D","")), LEN(UPPER(C28))-LEN(SUBSTITUTE(UPPER(C28),"H","")), LEN(UPPER(C28))-LEN(SUBSTITUTE(UPPER(C28),"V","")), LEN(UPPER(C28))-LEN(SUBSTITUTE(UPPER(C28),"N","")) )>0,"Dejenere var","") | W28: =IF(LEN(UPPER(C28))-LEN(SUBSTITUTE(UPPER(C28),"I",""))>0,"inosine var","") | X28: =IF(LEN(C28)-LEN(SUBSTITUTE(C28,"+",""))>0,"lna var","") | Y28: =IF(LEN(C28)-LEN(SUBSTITUTE(C28,"*",""))>0,"phosphorothioate var","") | Z28: =IF( LEN( SUBSTITUTE( SUBSTITUTE( SUBSTITUTE( SUBSTITUTE( SUBSTITUTE( SUBSTITUTE( SUBSTITUTE( SUBSTITUTE( SUBSTITUTE( SUBSTITUTE( SUBSTITUTE( SUBSTITUTE( SUBSTITUTE( SUBSTITUTE( SUBSTITUTE( SUBSTITUTE( SUBSTITUTE( SUBSTITUTE( SUBSTITUTE( UPPER(C28), "A",""), "C",""), "G",""), "T",""), "R",""), "Y",""), "S",""), "W",""), "K",""), "M",""), "B",""), "D",""), "H",""), "V",""), "N",""), "I",""), "+",""), "*",""), " ","") )>0,"Geçersiz karakter","")
A29: 6 | G29: =IF(C29="","", LEN( SUBSTITUTE( SUBSTITUTE( SUBSTITUTE(C29,"+",""), "*",""), "I","") ) ) | H29: {=IF( ISBLANK(C29), "", IF( ISBLANK(D29), ( ( G29 + (LEN(C29)-LEN(SUBSTITUTE(UPPER(C29),"R",""))) + (LEN(C29)-LEN(SUBSTITUTE(UPPER(C29),"Y",""))) + (LEN(C29)-LEN(SUBSTITUTE(UPPER(C29),"M",""))) + (LEN(C29)-LEN(SUBSTITUTE(UPPER(C29),"K",""))) + (LEN(C29)-LEN(SUBSTITUTE(UPPER(C29),"S",""))) + (LEN(C29)-LEN(SUBSTITUTE(UPPER(C29),"W",""))) + 2*(LEN(C29)-LEN(SUBSTITUTE(UPPER(C29),"B",""))) + 2*(LEN(C29)-LEN(SUBSTITUTE(UPPER(C29),"D",""))) + 2*(LEN(C29)-LEN(SUBSTITUTE(UPPER(C29),"H",""))) + 2*(LEN(C29)-LEN(SUBSTITUTE(UPPER(C29),"V",""))) + 3*(LEN(C29)-LEN(SUBSTITUTE(UPPER(C29),"N",""))) ) * INDEX(PrimerPrices!$C$2:$C$500, MATCH(TRIM(E29) & "|" & TRIM(F29), PrimerPrices!$D$2:$D$500, 0) ) ), INDEX(ProbePrices!$D$2:$D$500, MATCH(TRIM(D29) & "|" & TRIM(E29) & "|" & TRIM(F29), ProbePrices!$E$2:$E$500, 0) ) ) + (LEN(C29)-LEN(SUBSTITUTE(C29,"+",""))) * 10 + (LEN(UPPER(C29))-LEN(SUBSTITUTE(UPPER(C29),"I",""))) * 10 + (LEN(C29)-LEN(SUBSTITUTE(C29,"*",""))) * 10 )} | I29: =IF(C29="","", TRIM( IF(U29<>"",U29&", ","")& IF(V29<>"",V29&", ","")& IF(W29<>"",W29&", ","")& IF(X29<>"",X29&", ","")& IF(Y29<>"",Y29&", ","")& IF(Z29<>"",Z29&", ","") ) ) | J29: =IF(C29="","", TRIM( IF(LEN(C29)-LEN(SUBSTITUTE(UPPER(C29),"R",""))>0,"R ("&(LEN(C29)-LEN(SUBSTITUTE(UPPER(C29),"R","")))&"), ","")& IF(LEN(C29)-LEN(SUBSTITUTE(UPPER(C29),"Y",""))>0,"Y ("&(LEN(C29)-LEN(SUBSTITUTE(UPPER(C29),"Y","")))&"), ","")& IF(LEN(C29)-LEN(SUBSTITUTE(UPPER(C29),"M",""))>0,"M ("&(LEN(C29)-LEN(SUBSTITUTE(UPPER(C29),"M","")))&"), ","")& IF(LEN(C29)-LEN(SUBSTITUTE(UPPER(C29),"K",""))>0,"K ("&(LEN(C29)-LEN(SUBSTITUTE(UPPER(C29),"K","")))&"), ","")& IF(LEN(C29)-LEN(SUBSTITUTE(UPPER(C29),"S",""))>0,"S ("&(LEN(C29)-LEN(SUBSTITUTE(UPPER(C29),"S","")))&"), ","")& IF(LEN(C29)-LEN(SUBSTITUTE(UPPER(C29),"W",""))>0,"W ("&(LEN(C29)-LEN(SUBSTITUTE(UPPER(C29),"W","")))&"), ","")& IF(LEN(C29)-LEN(SUBSTITUTE(UPPER(C29),"B",""))>0,"B ("&(LEN(C29)-LEN(SUBSTITUTE(UPPER(C29),"B","")))&"), ","")& IF(LEN(C29)-LEN(SUBSTITUTE(UPPER(C29),"D",""))>0,"D ("&(LEN(C29)-LEN(SUBSTITUTE(UPPER(C29),"D","")))&"), ","")& IF(LEN(C29)-LEN(SUBSTITUTE(UPPER(C29),"H",""))>0,"H ("&(LEN(C29)-LEN(SUBSTITUTE(UPPER(C29),"H","")))&"), ","")& IF(LEN(C29)-LEN(SUBSTITUTE(UPPER(C29),"V",""))>0,"V ("&(LEN(C29)-LEN(SUBSTITUTE(UPPER(C29),"V","")))&"), ","")& IF(LEN(C29)-LEN(SUBSTITUTE(UPPER(C29),"N",""))>0,"N ("&(LEN(C29)-LEN(SUBSTITUTE(UPPER(C29),"N","")))&"), ","") ) ) | U29: =IF(C29="","", IF(LEN(C29)<>LEN(SUBSTITUTE(C29," ","")),"Boşluk var","") ) | V29: =IF(SUM( LEN(UPPER(C29))-LEN(SUBSTITUTE(UPPER(C29),"R","")), LEN(UPPER(C29))-LEN(SUBSTITUTE(UPPER(C29),"Y","")), LEN(UPPER(C29))-LEN(SUBSTITUTE(UPPER(C29),"S","")), LEN(UPPER(C29))-LEN(SUBSTITUTE(UPPER(C29),"W","")), LEN(UPPER(C29))-LEN(SUBSTITUTE(UPPER(C29),"K","")), LEN(UPPER(C29))-LEN(SUBSTITUTE(UPPER(C29),"M","")), LEN(UPPER(C29))-LEN(SUBSTITUTE(UPPER(C29),"B","")), LEN(UPPER(C29))-LEN(SUBSTITUTE(UPPER(C29),"D","")), LEN(UPPER(C29))-LEN(SUBSTITUTE(UPPER(C29),"H","")), LEN(UPPER(C29))-LEN(SUBSTITUTE(UPPER(C29),"V","")), LEN(UPPER(C29))-LEN(SUBSTITUTE(UPPER(C29),"N","")) )>0,"Dejenere var","") | W29: =IF(LEN(UPPER(C29))-LEN(SUBSTITUTE(UPPER(C29),"I",""))>0,"inosine var","") | X29: =IF(LEN(C29)-LEN(SUBSTITUTE(C29,"+",""))>0,"lna var","") | Y29: =IF(LEN(C29)-LEN(SUBSTITUTE(C29,"*",""))>0,"phosphorothioate var","") | Z29: =IF( LEN( SUBSTITUTE( SUBSTITUTE( SUBSTITUTE( SUBSTITUTE( SUBSTITUTE( SUBSTITUTE( SUBSTITUTE( SUBSTITUTE( SUBSTITUTE( SUBSTITUTE( SUBSTITUTE( SUBSTITUTE( SUBSTITUTE( SUBSTITUTE( SUBSTITUTE( SUBSTITUTE( SUBSTITUTE( SUBSTITUTE( SUBSTITUTE( UPPER(C29), "A",""), "C",""), "G",""), "T",""), "R",""), "Y",""), "S",""), "W",""), "K",""), "M",""), "B",""), "D",""), "H",""), "V",""), "N",""), "I",""), "+",""), "*",""), " ","") )>0,"Geçersiz karakter","")
A30: 7 | G30: =IF(C30="","", LEN( SUBSTITUTE( SUBSTITUTE( SUBSTITUTE(C30,"+",""), "*",""), "I","") ) ) | H30: {=IF( ISBLANK(C30), "", IF( ISBLANK(D30), ( ( G30 + (LEN(C30)-LEN(SUBSTITUTE(UPPER(C30),"R",""))) + (LEN(C30)-LEN(SUBSTITUTE(UPPER(C30),"Y",""))) + (LEN(C30)-LEN(SUBSTITUTE(UPPER(C30),"M",""))) + (LEN(C30)-LEN(SUBSTITUTE(UPPER(C30),"K",""))) + (LEN(C30)-LEN(SUBSTITUTE(UPPER(C30),"S",""))) + (LEN(C30)-LEN(SUBSTITUTE(UPPER(C30),"W",""))) + 2*(LEN(C30)-LEN(SUBSTITUTE(UPPER(C30),"B",""))) + 2*(LEN(C30)-LEN(SUBSTITUTE(UPPER(C30),"D",""))) + 2*(LEN(C30)-LEN(SUBSTITUTE(UPPER(C30),"H",""))) + 2*(LEN(C30)-LEN(SUBSTITUTE(UPPER(C30),"V",""))) + 3*(LEN(C30)-LEN(SUBSTITUTE(UPPER(C30),"N",""))) ) * INDEX(PrimerPrices!$C$2:$C$500, MATCH(TRIM(E30) & "|" & TRIM(F30), PrimerPrices!$D$2:$D$500, 0) ) ), INDEX(ProbePrices!$D$2:$D$500, MATCH(TRIM(D30) & "|" & TRIM(E30) & "|" & TRIM(F30), ProbePrices!$E$2:$E$500, 0) ) ) + (LEN(C30)-LEN(SUBSTITUTE(C30,"+",""))) * 10 + (LEN(UPPER(C30))-LEN(SUBSTITUTE(UPPER(C30),"I",""))) * 10 + (LEN(C30)-LEN(SUBSTITUTE(C30,"*",""))) * 10 )} | I30: =IF(C30="","", TRIM( IF(U30<>"",U30&", ","")& IF(V30<>"",V30&", ","")& IF(W30<>"",W30&", ","")& IF(X30<>"",X30&", ","")& IF(Y30<>"",Y30&", ","")& IF(Z30<>"",Z30&", ","") ) ) | J30: =IF(C30="","", TRIM( IF(LEN(C30)-LEN(SUBSTITUTE(UPPER(C30),"R",""))>0,"R ("&(LEN(C30)-LEN(SUBSTITUTE(UPPER(C30),"R","")))&"), ","")& IF(LEN(C30)-LEN(SUBSTITUTE(UPPER(C30),"Y",""))>0,"Y ("&(LEN(C30)-LEN(SUBSTITUTE(UPPER(C30),"Y","")))&"), ","")& IF(LEN(C30)-LEN(SUBSTITUTE(UPPER(C30),"M",""))>0,"M ("&(LEN(C30)-LEN(SUBSTITUTE(UPPER(C30),"M","")))&"), ","")& IF(LEN(C30)-LEN(SUBSTITUTE(UPPER(C30),"K",""))>0,"K ("&(LEN(C30)-LEN(SUBSTITUTE(UPPER(C30),"K","")))&"), ","")& IF(LEN(C30)-LEN(SUBSTITUTE(UPPER(C30),"S",""))>0,"S ("&(LEN(C30)-LEN(SUBSTITUTE(UPPER(C30),"S","")))&"), ","")& IF(LEN(C30)-LEN(SUBSTITUTE(UPPER(C30),"W",""))>0,"W ("&(LEN(C30)-LEN(SUBSTITUTE(UPPER(C30),"W","")))&"), ","")& IF(LEN(C30)-LEN(SUBSTITUTE(UPPER(C30),"B",""))>0,"B ("&(LEN(C30)-LEN(SUBSTITUTE(UPPER(C30),"B","")))&"), ","")& IF(LEN(C30)-LEN(SUBSTITUTE(UPPER(C30),"D",""))>0,"D ("&(LEN(C30)-LEN(SUBSTITUTE(UPPER(C30),"D","")))&"), ","")& IF(LEN(C30)-LEN(SUBSTITUTE(UPPER(C30),"H",""))>0,"H ("&(LEN(C30)-LEN(SUBSTITUTE(UPPER(C30),"H","")))&"), ","")& IF(LEN(C30)-LEN(SUBSTITUTE(UPPER(C30),"V",""))>0,"V ("&(LEN(C30)-LEN(SUBSTITUTE(UPPER(C30),"V","")))&"), ","")& IF(LEN(C30)-LEN(SUBSTITUTE(UPPER(C30),"N",""))>0,"N ("&(LEN(C30)-LEN(SUBSTITUTE(UPPER(C30),"N","")))&"), ","") ) ) | U30: =IF(C30="","", IF(LEN(C30)<>LEN(SUBSTITUTE(C30," ","")),"Boşluk var","") ) | V30: =IF(SUM( LEN(UPPER(C30))-LEN(SUBSTITUTE(UPPER(C30),"R","")), LEN(UPPER(C30))-LEN(SUBSTITUTE(UPPER(C30),"Y","")), LEN(UPPER(C30))-LEN(SUBSTITUTE(UPPER(C30),"S","")), LEN(UPPER(C30))-LEN(SUBSTITUTE(UPPER(C30),"W","")), LEN(UPPER(C30))-LEN(SUBSTITUTE(UPPER(C30),"K","")), LEN(UPPER(C30))-LEN(SUBSTITUTE(UPPER(C30),"M","")), LEN(UPPER(C30))-LEN(SUBSTITUTE(UPPER(C30),"B","")), LEN(UPPER(C30))-LEN(SUBSTITUTE(UPPER(C30),"D","")), LEN(UPPER(C30))-LEN(SUBSTITUTE(UPPER(C30),"H","")), LEN(UPPER(C30))-LEN(SUBSTITUTE(UPPER(C30),"V","")), LEN(UPPER(C30))-LEN(SUBSTITUTE(UPPER(C30),"N","")) )>0,"Dejenere var","") | W30: =IF(LEN(UPPER(C30))-LEN(SUBSTITUTE(UPPER(C30),"I",""))>0,"inosine var","") | X30: =IF(LEN(C30)-LEN(SUBSTITUTE(C30,"+",""))>0,"lna var","") | Y30: =IF(LEN(C30)-LEN(SUBSTITUTE(C30,"*",""))>0,"phosphorothioate var","") | Z30: =IF( LEN( SUBSTITUTE( SUBSTITUTE( SUBSTITUTE( SUBSTITUTE( SUBSTITUTE( SUBSTITUTE( SUBSTITUTE( SUBSTITUTE( SUBSTITUTE( SUBSTITUTE( SUBSTITUTE( SUBSTITUTE( SUBSTITUTE( SUBSTITUTE( SUBSTITUTE( SUBSTITUTE( SUBSTITUTE( SUBSTITUTE( SUBSTITUTE( UPPER(C30), "A",""), "C",""), "G",""), "T",""), "R",""), "Y",""), "S",""), "W",""), "K",""), "M",""), "B",""), "D",""), "H",""), "V",""), "N",""), "I",""), "+",""), "*",""), " ","") )>0,"Geçersiz karakter","")
A31: 8 | G31: =IF(C31="","", LEN( SUBSTITUTE( SUBSTITUTE( SUBSTITUTE(C31,"+",""), "*",""), "I","") ) ) | H31: {=IF( ISBLANK(C31), "", IF( ISBLANK(D31), ( ( G31 + (LEN(C31)-LEN(SUBSTITUTE(UPPER(C31),"R",""))) + (LEN(C31)-LEN(SUBSTITUTE(UPPER(C31),"Y",""))) + (LEN(C31)-LEN(SUBSTITUTE(UPPER(C31),"M",""))) + (LEN(C31)-LEN(SUBSTITUTE(UPPER(C31),"K",""))) + (LEN(C31)-LEN(SUBSTITUTE(UPPER(C31),"S",""))) + (LEN(C31)-LEN(SUBSTITUTE(UPPER(C31),"W",""))) + 2*(LEN(C31)-LEN(SUBSTITUTE(UPPER(C31),"B",""))) + 2*(LEN(C31)-LEN(SUBSTITUTE(UPPER(C31),"D",""))) + 2*(LEN(C31)-LEN(SUBSTITUTE(UPPER(C31),"H",""))) + 2*(LEN(C31)-LEN(SUBSTITUTE(UPPER(C31),"V",""))) + 3*(LEN(C31)-LEN(SUBSTITUTE(UPPER(C31),"N",""))) ) * INDEX(PrimerPrices!$C$2:$C$500, MATCH(TRIM(E31) & "|" & TRIM(F31), PrimerPrices!$D$2:$D$500, 0) ) ), INDEX(ProbePrices!$D$2:$D$500, MATCH(TRIM(D31) & "|" & TRIM(E31) & "|" & TRIM(F31), ProbePrices!$E$2:$E$500, 0) ) ) + (LEN(C31)-LEN(SUBSTITUTE(C31,"+",""))) * 10 + (LEN(UPPER(C31))-LEN(SUBSTITUTE(UPPER(C31),"I",""))) * 10 + (LEN(C31)-LEN(SUBSTITUTE(C31,"*",""))) * 10 )} | I31: =IF(C31="","", TRIM( IF(U31<>"",U31&", ","")& IF(V31<>"",V31&", ","")& IF(W31<>"",W31&", ","")& IF(X31<>"",X31&", ","")& IF(Y31<>"",Y31&", ","")& IF(Z31<>"",Z31&", ","") ) ) | J31: =IF(C31="","", TRIM( IF(LEN(C31)-LEN(SUBSTITUTE(UPPER(C31),"R",""))>0,"R ("&(LEN(C31)-LEN(SUBSTITUTE(UPPER(C31),"R","")))&"), ","")& IF(LEN(C31)-LEN(SUBSTITUTE(UPPER(C31),"Y",""))>0,"Y ("&(LEN(C31)-LEN(SUBSTITUTE(UPPER(C31),"Y","")))&"), ","")& IF(LEN(C31)-LEN(SUBSTITUTE(UPPER(C31),"M",""))>0,"M ("&(LEN(C31)-LEN(SUBSTITUTE(UPPER(C31),"M","")))&"), ","")& IF(LEN(C31)-LEN(SUBSTITUTE(UPPER(C31),"K",""))>0,"K ("&(LEN(C31)-LEN(SUBSTITUTE(UPPER(C31),"K","")))&"), ","")& IF(LEN(C31)-LEN(SUBSTITUTE(UPPER(C31),"S",""))>0,"S ("&(LEN(C31)-LEN(SUBSTITUTE(UPPER(C31),"S","")))&"), ","")& IF(LEN(C31)-LEN(SUBSTITUTE(UPPER(C31),"W",""))>0,"W ("&(LEN(C31)-LEN(SUBSTITUTE(UPPER(C31),"W","")))&"), ","")& IF(LEN(C31)-LEN(SUBSTITUTE(UPPER(C31),"B",""))>0,"B ("&(LEN(C31)-LEN(SUBSTITUTE(UPPER(C31),"B","")))&"), ","")& IF(LEN(C31)-LEN(SUBSTITUTE(UPPER(C31),"D",""))>0,"D ("&(LEN(C31)-LEN(SUBSTITUTE(UPPER(C31),"D","")))&"), ","")& IF(LEN(C31)-LEN(SUBSTITUTE(UPPER(C31),"H",""))>0,"H ("&(LEN(C31)-LEN(SUBSTITUTE(UPPER(C31),"H","")))&"), ","")& IF(LEN(C31)-LEN(SUBSTITUTE(UPPER(C31),"V",""))>0,"V ("&(LEN(C31)-LEN(SUBSTITUTE(UPPER(C31),"V","")))&"), ","")& IF(LEN(C31)-LEN(SUBSTITUTE(UPPER(C31),"N",""))>0,"N ("&(LEN(C31)-LEN(SUBSTITUTE(UPPER(C31),"N","")))&"), ","") ) ) | U31: =IF(C31="","", IF(LEN(C31)<>LEN(SUBSTITUTE(C31," ","")),"Boşluk var","") ) | V31: =IF(SUM( LEN(UPPER(C31))-LEN(SUBSTITUTE(UPPER(C31),"R","")), LEN(UPPER(C31))-LEN(SUBSTITUTE(UPPER(C31),"Y","")), LEN(UPPER(C31))-LEN(SUBSTITUTE(UPPER(C31),"S","")), LEN(UPPER(C31))-LEN(SUBSTITUTE(UPPER(C31),"W","")), LEN(UPPER(C31))-LEN(SUBSTITUTE(UPPER(C31),"K","")), LEN(UPPER(C31))-LEN(SUBSTITUTE(UPPER(C31),"M","")), LEN(UPPER(C31))-LEN(SUBSTITUTE(UPPER(C31),"B","")), LEN(UPPER(C31))-LEN(SUBSTITUTE(UPPER(C31),"D","")), LEN(UPPER(C31))-LEN(SUBSTITUTE(UPPER(C31),"H","")), LEN(UPPER(C31))-LEN(SUBSTITUTE(UPPER(C31),"V","")), LEN(UPPER(C31))-LEN(SUBSTITUTE(UPPER(C31),"N","")) )>0,"Dejenere var","") | W31: =IF(LEN(UPPER(C31))-LEN(SUBSTITUTE(UPPER(C31),"I",""))>0,"inosine var","") | X31: =IF(LEN(C31)-LEN(SUBSTITUTE(C31,"+",""))>0,"lna var","") | Y31: =IF(LEN(C31)-LEN(SUBSTITUTE(C31,"*",""))>0,"phosphorothioate var","") | Z31: =IF( LEN( SUBSTITUTE( SUBSTITUTE( SUBSTITUTE( SUBSTITUTE( SUBSTITUTE( SUBSTITUTE( SUBSTITUTE( SUBSTITUTE( SUBSTITUTE( SUBSTITUTE( SUBSTITUTE( SUBSTITUTE( SUBSTITUTE( SUBSTITUTE( SUBSTITUTE( SUBSTITUTE( SUBSTITUTE( SUBSTITUTE( SUBSTITUTE( UPPER(C31), "A",""), "C",""), "G",""), "T",""), "R",""), "Y",""), "S",""), "W",""), "K",""), "M",""), "B",""), "D",""), "H",""), "V",""), "N",""), "I",""), "+",""), "*",""), " ","") )>0,"Geçersiz karakter","")
A32: 9 | G32: =IF(C32="","", LEN( SUBSTITUTE( SUBSTITUTE( SUBSTITUTE(C32,"+",""), "*",""), "I","") ) ) | H32: {=IF( ISBLANK(C32), "", IF( ISBLANK(D32), ( ( G32 + (LEN(C32)-LEN(SUBSTITUTE(UPPER(C32),"R",""))) + (LEN(C32)-LEN(SUBSTITUTE(UPPER(C32),"Y",""))) + (LEN(C32)-LEN(SUBSTITUTE(UPPER(C32),"M",""))) + (LEN(C32)-LEN(SUBSTITUTE(UPPER(C32),"K",""))) + (LEN(C32)-LEN(SUBSTITUTE(UPPER(C32),"S",""))) + (LEN(C32)-LEN(SUBSTITUTE(UPPER(C32),"W",""))) + 2*(LEN(C32)-LEN(SUBSTITUTE(UPPER(C32),"B",""))) + 2*(LEN(C32)-LEN(SUBSTITUTE(UPPER(C32),"D",""))) + 2*(LEN(C32)-LEN(SUBSTITUTE(UPPER(C32),"H",""))) + 2*(LEN(C32)-LEN(SUBSTITUTE(UPPER(C32),"V",""))) + 3*(LEN(C32)-LEN(SUBSTITUTE(UPPER(C32),"N",""))) ) * INDEX(PrimerPrices!$C$2:$C$500, MATCH(TRIM(E32) & "|" & TRIM(F32), PrimerPrices!$D$2:$D$500, 0) ) ), INDEX(ProbePrices!$D$2:$D$500, MATCH(TRIM(D32) & "|" & TRIM(E32) & "|" & TRIM(F32), ProbePrices!$E$2:$E$500, 0) ) ) + (LEN(C32)-LEN(SUBSTITUTE(C32,"+",""))) * 10 + (LEN(UPPER(C32))-LEN(SUBSTITUTE(UPPER(C32),"I",""))) * 10 + (LEN(C32)-LEN(SUBSTITUTE(C32,"*",""))) * 10 )} | I32: =IF(C32="","", TRIM( IF(U32<>"",U32&", ","")& IF(V32<>"",V32&", ","")& IF(W32<>"",W32&", ","")& IF(X32<>"",X32&", ","")& IF(Y32<>"",Y32&", ","")& IF(Z32<>"",Z32&", ","") ) ) | J32: =IF(C32="","", TRIM( IF(LEN(C32)-LEN(SUBSTITUTE(UPPER(C32),"R",""))>0,"R ("&(LEN(C32)-LEN(SUBSTITUTE(UPPER(C32),"R","")))&"), ","")& IF(LEN(C32)-LEN(SUBSTITUTE(UPPER(C32),"Y",""))>0,"Y ("&(LEN(C32)-LEN(SUBSTITUTE(UPPER(C32),"Y","")))&"), ","")& IF(LEN(C32)-LEN(SUBSTITUTE(UPPER(C32),"M",""))>0,"M ("&(LEN(C32)-LEN(SUBSTITUTE(UPPER(C32),"M","")))&"), ","")& IF(LEN(C32)-LEN(SUBSTITUTE(UPPER(C32),"K",""))>0,"K ("&(LEN(C32)-LEN(SUBSTITUTE(UPPER(C32),"K","")))&"), ","")& IF(LEN(C32)-LEN(SUBSTITUTE(UPPER(C32),"S",""))>0,"S ("&(LEN(C32)-LEN(SUBSTITUTE(UPPER(C32),"S","")))&"), ","")& IF(LEN(C32)-LEN(SUBSTITUTE(UPPER(C32),"W",""))>0,"W ("&(LEN(C32)-LEN(SUBSTITUTE(UPPER(C32),"W","")))&"), ","")& IF(LEN(C32)-LEN(SUBSTITUTE(UPPER(C32),"B",""))>0,"B ("&(LEN(C32)-LEN(SUBSTITUTE(UPPER(C32),"B","")))&"), ","")& IF(LEN(C32)-LEN(SUBSTITUTE(UPPER(C32),"D",""))>0,"D ("&(LEN(C32)-LEN(SUBSTITUTE(UPPER(C32),"D","")))&"), ","")& IF(LEN(C32)-LEN(SUBSTITUTE(UPPER(C32),"H",""))>0,"H ("&(LEN(C32)-LEN(SUBSTITUTE(UPPER(C32),"H","")))&"), ","")& IF(LEN(C32)-LEN(SUBSTITUTE(UPPER(C32),"V",""))>0,"V ("&(LEN(C32)-LEN(SUBSTITUTE(UPPER(C32),"V","")))&"), ","")& IF(LEN(C32)-LEN(SUBSTITUTE(UPPER(C32),"N",""))>0,"N ("&(LEN(C32)-LEN(SUBSTITUTE(UPPER(C32),"N","")))&"), ","") ) ) | U32: =IF(C32="","", IF(LEN(C32)<>LEN(SUBSTITUTE(C32," ","")),"Boşluk var","") ) | V32: =IF(SUM( LEN(UPPER(C32))-LEN(SUBSTITUTE(UPPER(C32),"R","")), LEN(UPPER(C32))-LEN(SUBSTITUTE(UPPER(C32),"Y","")), LEN(UPPER(C32))-LEN(SUBSTITUTE(UPPER(C32),"S","")), LEN(UPPER(C32))-LEN(SUBSTITUTE(UPPER(C32),"W","")), LEN(UPPER(C32))-LEN(SUBSTITUTE(UPPER(C32),"K","")), LEN(UPPER(C32))-LEN(SUBSTITUTE(UPPER(C32),"M","")), LEN(UPPER(C32))-LEN(SUBSTITUTE(UPPER(C32),"B","")), LEN(UPPER(C32))-LEN(SUBSTITUTE(UPPER(C32),"D","")), LEN(UPPER(C32))-LEN(SUBSTITUTE(UPPER(C32),"H","")), LEN(UPPER(C32))-LEN(SUBSTITUTE(UPPER(C32),"V","")), LEN(UPPER(C32))-LEN(SUBSTITUTE(UPPER(C32),"N","")) )>0,"Dejenere var","") | W32: =IF(LEN(UPPER(C32))-LEN(SUBSTITUTE(UPPER(C32),"I",""))>0,"inosine var","") | X32: =IF(LEN(C32)-LEN(SUBSTITUTE(C32,"+",""))>0,"lna var","") | Y32: =IF(LEN(C32)-LEN(SUBSTITUTE(C32,"*",""))>0,"phosphorothioate var","") | Z32: =IF( LEN( SUBSTITUTE( SUBSTITUTE( SUBSTITUTE( SUBSTITUTE( SUBSTITUTE( SUBSTITUTE( SUBSTITUTE( SUBSTITUTE( SUBSTITUTE( SUBSTITUTE( SUBSTITUTE( SUBSTITUTE( SUBSTITUTE( SUBSTITUTE( SUBSTITUTE( SUBSTITUTE( SUBSTITUTE( SUBSTITUTE( SUBSTITUTE( UPPER(C32), "A",""), "C",""), "G",""), "T",""), "R",""), "Y",""), "S",""), "W",""), "K",""), "M",""), "B",""), "D",""), "H",""), "V",""), "N",""), "I",""), "+",""), "*",""), " ","") )>0,"Geçersiz karakter","")
A33: 10 | G33: =IF(C33="","", LEN( SUBSTITUTE( SUBSTITUTE( SUBSTITUTE(C33,"+",""), "*",""), "I","") ) ) | H33: {=IF( ISBLANK(C33), "", IF( ISBLANK(D33), ( ( G33 + (LEN(C33)-LEN(SUBSTITUTE(UPPER(C33),"R",""))) + (LEN(C33)-LEN(SUBSTITUTE(UPPER(C33),"Y",""))) + (LEN(C33)-LEN(SUBSTITUTE(UPPER(C33),"M",""))) + (LEN(C33)-LEN(SUBSTITUTE(UPPER(C33),"K",""))) + (LEN(C33)-LEN(SUBSTITUTE(UPPER(C33),"S",""))) + (LEN(C33)-LEN(SUBSTITUTE(UPPER(C33),"W",""))) + 2*(LEN(C33)-LEN(SUBSTITUTE(UPPER(C33),"B",""))) + 2*(LEN(C33)-LEN(SUBSTITUTE(UPPER(C33),"D",""))) + 2*(LEN(C33)-LEN(SUBSTITUTE(UPPER(C33),"H",""))) + 2*(LEN(C33)-LEN(SUBSTITUTE(UPPER(C33),"V",""))) + 3*(LEN(C33)-LEN(SUBSTITUTE(UPPER(C33),"N",""))) ) * INDEX(PrimerPrices!$C$2:$C$500, MATCH(TRIM(E33) & "|" & TRIM(F33), PrimerPrices!$D$2:$D$500, 0) ) ), INDEX(ProbePrices!$D$2:$D$500, MATCH(TRIM(D33) & "|" & TRIM(E33) & "|" & TRIM(F33), ProbePrices!$E$2:$E$500, 0) ) ) + (LEN(C33)-LEN(SUBSTITUTE(C33,"+",""))) * 10 + (LEN(UPPER(C33))-LEN(SUBSTITUTE(UPPER(C33),"I",""))) * 10 + (LEN(C33)-LEN(SUBSTITUTE(C33,"*",""))) * 10 )} | I33: =IF(C33="","", TRIM( IF(U33<>"",U33&", ","")& IF(V33<>"",V33&", ","")& IF(W33<>"",W33&", ","")& IF(X33<>"",X33&", ","")& IF(Y33<>"",Y33&", ","")& IF(Z33<>"",Z33&", ","") ) ) | J33: =IF(C33="","", TRIM( IF(LEN(C33)-LEN(SUBSTITUTE(UPPER(C33),"R",""))>0,"R ("&(LEN(C33)-LEN(SUBSTITUTE(UPPER(C33),"R","")))&"), ","")& IF(LEN(C33)-LEN(SUBSTITUTE(UPPER(C33),"Y",""))>0,"Y ("&(LEN(C33)-LEN(SUBSTITUTE(UPPER(C33),"Y","")))&"), ","")& IF(LEN(C33)-LEN(SUBSTITUTE(UPPER(C33),"M",""))>0,"M ("&(LEN(C33)-LEN(SUBSTITUTE(UPPER(C33),"M","")))&"), ","")& IF(LEN(C33)-LEN(SUBSTITUTE(UPPER(C33),"K",""))>0,"K ("&(LEN(C33)-LEN(SUBSTITUTE(UPPER(C33),"K","")))&"), ","")& IF(LEN(C33)-LEN(SUBSTITUTE(UPPER(C33),"S",""))>0,"S ("&(LEN(C33)-LEN(SUBSTITUTE(UPPER(C33),"S","")))&"), ","")& IF(LEN(C33)-LEN(SUBSTITUTE(UPPER(C33),"W",""))>0,"W ("&(LEN(C33)-LEN(SUBSTITUTE(UPPER(C33),"W","")))&"), ","")& IF(LEN(C33)-LEN(SUBSTITUTE(UPPER(C33),"B",""))>0,"B ("&(LEN(C33)-LEN(SUBSTITUTE(UPPER(C33),"B","")))&"), ","")& IF(LEN(C33)-LEN(SUBSTITUTE(UPPER(C33),"D",""))>0,"D ("&(LEN(C33)-LEN(SUBSTITUTE(UPPER(C33),"D","")))&"), ","")& IF(LEN(C33)-LEN(SUBSTITUTE(UPPER(C33),"H",""))>0,"H ("&(LEN(C33)-LEN(SUBSTITUTE(UPPER(C33),"H","")))&"), ","")& IF(LEN(C33)-LEN(SUBSTITUTE(UPPER(C33),"V",""))>0,"V ("&(LEN(C33)-LEN(SUBSTITUTE(UPPER(C33),"V","")))&"), ","")& IF(LEN(C33)-LEN(SUBSTITUTE(UPPER(C33),"N",""))>0,"N ("&(LEN(C33)-LEN(SUBSTITUTE(UPPER(C33),"N","")))&"), ","") ) ) | U33: =IF(C33="","", IF(LEN(C33)<>LEN(SUBSTITUTE(C33," ","")),"Boşluk var","") ) | V33: =IF(SUM( LEN(UPPER(C33))-LEN(SUBSTITUTE(UPPER(C33),"R","")), LEN(UPPER(C33))-LEN(SUBSTITUTE(UPPER(C33),"Y","")), LEN(UPPER(C33))-LEN(SUBSTITUTE(UPPER(C33),"S","")), LEN(UPPER(C33))-LEN(SUBSTITUTE(UPPER(C33),"W","")), LEN(UPPER(C33))-LEN(SUBSTITUTE(UPPER(C33),"K","")), LEN(UPPER(C33))-LEN(SUBSTITUTE(UPPER(C33),"M","")), LEN(UPPER(C33))-LEN(SUBSTITUTE(UPPER(C33),"B","")), LEN(UPPER(C33))-LEN(SUBSTITUTE(UPPER(C33),"D","")), LEN(UPPER(C33))-LEN(SUBSTITUTE(UPPER(C33),"H","")), LEN(UPPER(C33))-LEN(SUBSTITUTE(UPPER(C33),"V","")), LEN(UPPER(C33))-LEN(SUBSTITUTE(UPPER(C33),"N","")) )>0,"Dejenere var","") | W33: =IF(LEN(UPPER(C33))-LEN(SUBSTITUTE(UPPER(C33),"I",""))>0,"inosine var","") | X33: =IF(LEN(C33)-LEN(SUBSTITUTE(C33,"+",""))>0,"lna var","") | Y33: =IF(LEN(C33)-LEN(SUBSTITUTE(C33,"*",""))>0,"phosphorothioate var","") | Z33: =IF( LEN( SUBSTITUTE( SUBSTITUTE( SUBSTITUTE( SUBSTITUTE( SUBSTITUTE( SUBSTITUTE( SUBSTITUTE( SUBSTITUTE( SUBSTITUTE( SUBSTITUTE( SUBSTITUTE( SUBSTITUTE( SUBSTITUTE( SUBSTITUTE( SUBSTITUTE( SUBSTITUTE( SUBSTITUTE( SUBSTITUTE( SUBSTITUTE( UPPER(C33), "A",""), "C",""), "G",""), "T",""), "R",""), "Y",""), "S",""), "W",""), "K",""), "M",""), "B",""), "D",""), "H",""), "V",""), "N",""), "I",""), "+",""), "*",""), " ","") )>0,"Geçersiz karakter","")
A34: 11 | G34: =IF(C34="","", LEN( SUBSTITUTE( SUBSTITUTE( SUBSTITUTE(C34,"+",""), "*",""), "I","") ) ) | H34: {=IF( ISBLANK(C34), "", IF( ISBLANK(D34), ( ( G34 + (LEN(C34)-LEN(SUBSTITUTE(UPPER(C34),"R",""))) + (LEN(C34)-LEN(SUBSTITUTE(UPPER(C34),"Y",""))) + (LEN(C34)-LEN(SUBSTITUTE(UPPER(C34),"M",""))) + (LEN(C34)-LEN(SUBSTITUTE(UPPER(C34),"K",""))) + (LEN(C34)-LEN(SUBSTITUTE(UPPER(C34),"S",""))) + (LEN(C34)-LEN(SUBSTITUTE(UPPER(C34),"W",""))) + 2*(LEN(C34)-LEN(SUBSTITUTE(UPPER(C34),"B",""))) + 2*(LEN(C34)-LEN(SUBSTITUTE(UPPER(C34),"D",""))) + 2*(LEN(C34)-LEN(SUBSTITUTE(UPPER(C34),"H",""))) + 2*(LEN(C34)-LEN(SUBSTITUTE(UPPER(C34),"V",""))) + 3*(LEN(C34)-LEN(SUBSTITUTE(UPPER(C34),"N",""))) ) * INDEX(PrimerPrices!$C$2:$C$500, MATCH(TRIM(E34) & "|" & TRIM(F34), PrimerPrices!$D$2:$D$500, 0) ) ), INDEX(ProbePrices!$D$2:$D$500, MATCH(TRIM(D34) & "|" & TRIM(E34) & "|" & TRIM(F34), ProbePrices!$E$2:$E$500, 0) ) ) + (LEN(C34)-LEN(SUBSTITUTE(C34,"+",""))) * 10 + (LEN(UPPER(C34))-LEN(SUBSTITUTE(UPPER(C34),"I",""))) * 10 + (LEN(C34)-LEN(SUBSTITUTE(C34,"*",""))) * 10 )} | I34: =IF(C34="","", TRIM( IF(U34<>"",U34&", ","")& IF(V34<>"",V34&", ","")& IF(W34<>"",W34&", ","")& IF(X34<>"",X34&", ","")& IF(Y34<>"",Y34&", ","")& IF(Z34<>"",Z34&", ","") ) ) | J34: =IF(C34="","", TRIM( IF(LEN(C34)-LEN(SUBSTITUTE(UPPER(C34),"R",""))>0,"R ("&(LEN(C34)-LEN(SUBSTITUTE(UPPER(C34),"R","")))&"), ","")& IF(LEN(C34)-LEN(SUBSTITUTE(UPPER(C34),"Y",""))>0,"Y ("&(LEN(C34)-LEN(SUBSTITUTE(UPPER(C34),"Y","")))&"), ","")& IF(LEN(C34)-LEN(SUBSTITUTE(UPPER(C34),"M",""))>0,"M ("&(LEN(C34)-LEN(SUBSTITUTE(UPPER(C34),"M","")))&"), ","")& IF(LEN(C34)-LEN(SUBSTITUTE(UPPER(C34),"K",""))>0,"K ("&(LEN(C34)-LEN(SUBSTITUTE(UPPER(C34),"K","")))&"), ","")& IF(LEN(C34)-LEN(SUBSTITUTE(UPPER(C34),"S",""))>0,"S ("&(LEN(C34)-LEN(SUBSTITUTE(UPPER(C34),"S","")))&"), ","")& IF(LEN(C34)-LEN(SUBSTITUTE(UPPER(C34),"W",""))>0,"W ("&(LEN(C34)-LEN(SUBSTITUTE(UPPER(C34),"W","")))&"), ","")& IF(LEN(C34)-LEN(SUBSTITUTE(UPPER(C34),"B",""))>0,"B ("&(LEN(C34)-LEN(SUBSTITUTE(UPPER(C34),"B","")))&"), ","")& IF(LEN(C34)-LEN(SUBSTITUTE(UPPER(C34),"D",""))>0,"D ("&(LEN(C34)-LEN(SUBSTITUTE(UPPER(C34),"D","")))&"), ","")& IF(LEN(C34)-LEN(SUBSTITUTE(UPPER(C34),"H",""))>0,"H ("&(LEN(C34)-LEN(SUBSTITUTE(UPPER(C34),"H","")))&"), ","")& IF(LEN(C34)-LEN(SUBSTITUTE(UPPER(C34),"V",""))>0,"V ("&(LEN(C34)-LEN(SUBSTITUTE(UPPER(C34),"V","")))&"), ","")& IF(LEN(C34)-LEN(SUBSTITUTE(UPPER(C34),"N",""))>0,"N ("&(LEN(C34)-LEN(SUBSTITUTE(UPPER(C34),"N","")))&"), ","") ) ) | U34: =IF(C34="","", IF(LEN(C34)<>LEN(SUBSTITUTE(C34," ","")),"Boşluk var","") ) | V34: =IF(SUM( LEN(UPPER(C34))-LEN(SUBSTITUTE(UPPER(C34),"R","")), LEN(UPPER(C34))-LEN(SUBSTITUTE(UPPER(C34),"Y","")), LEN(UPPER(C34))-LEN(SUBSTITUTE(UPPER(C34),"S","")), LEN(UPPER(C34))-LEN(SUBSTITUTE(UPPER(C34),"W","")), LEN(UPPER(C34))-LEN(SUBSTITUTE(UPPER(C34),"K","")), LEN(UPPER(C34))-LEN(SUBSTITUTE(UPPER(C34),"M","")), LEN(UPPER(C34))-LEN(SUBSTITUTE(UPPER(C34),"B","")), LEN(UPPER(C34))-LEN(SUBSTITUTE(UPPER(C34),"D","")), LEN(UPPER(C34))-LEN(SUBSTITUTE(UPPER(C34),"H","")), LEN(UPPER(C34))-LEN(SUBSTITUTE(UPPER(C34),"V","")), LEN(UPPER(C34))-LEN(SUBSTITUTE(UPPER(C34),"N","")) )>0,"Dejenere var","") | W34: =IF(LEN(UPPER(C34))-LEN(SUBSTITUTE(UPPER(C34),"I",""))>0,"inosine var","") | X34: =IF(LEN(C34)-LEN(SUBSTITUTE(C34,"+",""))>0,"lna var","") | Y34: =IF(LEN(C34)-LEN(SUBSTITUTE(C34,"*",""))>0,"phosphorothioate var","") | Z34: =IF( LEN( SUBSTITUTE( SUBSTITUTE( SUBSTITUTE( SUBSTITUTE( SUBSTITUTE( SUBSTITUTE( SUBSTITUTE( SUBSTITUTE( SUBSTITUTE( SUBSTITUTE( SUBSTITUTE( SUBSTITUTE( SUBSTITUTE( SUBSTITUTE( SUBSTITUTE( SUBSTITUTE( SUBSTITUTE( SUBSTITUTE( SUBSTITUTE( UPPER(C34), "A",""), "C",""), "G",""), "T",""), "R",""), "Y",""), "S",""), "W",""), "K",""), "M",""), "B",""), "D",""), "H",""), "V",""), "N",""), "I",""), "+",""), "*",""), " ","") )>0,"Geçersiz karakter","")
A35: 12 | G35: =IF(C35="","", LEN( SUBSTITUTE( SUBSTITUTE( SUBSTITUTE(C35,"+",""), "*",""), "I","") ) ) | H35: {=IF( ISBLANK(C35), "", IF( ISBLANK(D35), ( ( G35 + (LEN(C35)-LEN(SUBSTITUTE(UPPER(C35),"R",""))) + (LEN(C35)-LEN(SUBSTITUTE(UPPER(C35),"Y",""))) + (LEN(C35)-LEN(SUBSTITUTE(UPPER(C35),"M",""))) + (LEN(C35)-LEN(SUBSTITUTE(UPPER(C35),"K",""))) + (LEN(C35)-LEN(SUBSTITUTE(UPPER(C35),"S",""))) + (LEN(C35)-LEN(SUBSTITUTE(UPPER(C35),"W",""))) + 2*(LEN(C35)-LEN(SUBSTITUTE(UPPER(C35),"B",""))) + 2*(LEN(C35)-LEN(SUBSTITUTE(UPPER(C35),"D",""))) + 2*(LEN(C35)-LEN(SUBSTITUTE(UPPER(C35),"H",""))) + 2*(LEN(C35)-LEN(SUBSTITUTE(UPPER(C35),"V",""))) + 3*(LEN(C35)-LEN(SUBSTITUTE(UPPER(C35),"N",""))) ) * INDEX(PrimerPrices!$C$2:$C$500, MATCH(TRIM(E35) & "|" & TRIM(F35), PrimerPrices!$D$2:$D$500, 0) ) ), INDEX(ProbePrices!$D$2:$D$500, MATCH(TRIM(D35) & "|" & TRIM(E35) & "|" & TRIM(F35), ProbePrices!$E$2:$E$500, 0) ) ) + (LEN(C35)-LEN(SUBSTITUTE(C35,"+",""))) * 10 + (LEN(UPPER(C35))-LEN(SUBSTITUTE(UPPER(C35),"I",""))) * 10 + (LEN(C35)-LEN(SUBSTITUTE(C35,"*",""))) * 10 )} | I35: =IF(C35="","", TRIM( IF(U35<>"",U35&", ","")& IF(V35<>"",V35&", ","")& IF(W35<>"",W35&", ","")& IF(X35<>"",X35&", ","")& IF(Y35<>"",Y35&", ","")& IF(Z35<>"",Z35&", ","") ) ) | J35: =IF(C35="","", TRIM( IF(LEN(C35)-LEN(SUBSTITUTE(UPPER(C35),"R",""))>0,"R ("&(LEN(C35)-LEN(SUBSTITUTE(UPPER(C35),"R","")))&"), ","")& IF(LEN(C35)-LEN(SUBSTITUTE(UPPER(C35),"Y",""))>0,"Y ("&(LEN(C35)-LEN(SUBSTITUTE(UPPER(C35),"Y","")))&"), ","")& IF(LEN(C35)-LEN(SUBSTITUTE(UPPER(C35),"M",""))>0,"M ("&(LEN(C35)-LEN(SUBSTITUTE(UPPER(C35),"M","")))&"), ","")& IF(LEN(C35)-LEN(SUBSTITUTE(UPPER(C35),"K",""))>0,"K ("&(LEN(C35)-LEN(SUBSTITUTE(UPPER(C35),"K","")))&"), ","")& IF(LEN(C35)-LEN(SUBSTITUTE(UPPER(C35),"S",""))>0,"S ("&(LEN(C35)-LEN(SUBSTITUTE(UPPER(C35),"S","")))&"), ","")& IF(LEN(C35)-LEN(SUBSTITUTE(UPPER(C35),"W",""))>0,"W ("&(LEN(C35)-LEN(SUBSTITUTE(UPPER(C35),"W","")))&"), ","")& IF(LEN(C35)-LEN(SUBSTITUTE(UPPER(C35),"B",""))>0,"B ("&(LEN(C35)-LEN(SUBSTITUTE(UPPER(C35),"B","")))&"), ","")& IF(LEN(C35)-LEN(SUBSTITUTE(UPPER(C35),"D",""))>0,"D ("&(LEN(C35)-LEN(SUBSTITUTE(UPPER(C35),"D","")))&"), ","")& IF(LEN(C35)-LEN(SUBSTITUTE(UPPER(C35),"H",""))>0,"H ("&(LEN(C35)-LEN(SUBSTITUTE(UPPER(C35),"H","")))&"), ","")& IF(LEN(C35)-LEN(SUBSTITUTE(UPPER(C35),"V",""))>0,"V ("&(LEN(C35)-LEN(SUBSTITUTE(UPPER(C35),"V","")))&"), ","")& IF(LEN(C35)-LEN(SUBSTITUTE(UPPER(C35),"N",""))>0,"N ("&(LEN(C35)-LEN(SUBSTITUTE(UPPER(C35),"N","")))&"), ","") ) ) | U35: =IF(C35="","", IF(LEN(C35)<>LEN(SUBSTITUTE(C35," ","")),"Boşluk var","") ) | V35: =IF(SUM( LEN(UPPER(C35))-LEN(SUBSTITUTE(UPPER(C35),"R","")), LEN(UPPER(C35))-LEN(SUBSTITUTE(UPPER(C35),"Y","")), LEN(UPPER(C35))-LEN(SUBSTITUTE(UPPER(C35),"S","")), LEN(UPPER(C35))-LEN(SUBSTITUTE(UPPER(C35),"W","")), LEN(UPPER(C35))-LEN(SUBSTITUTE(UPPER(C35),"K","")), LEN(UPPER(C35))-LEN(SUBSTITUTE(UPPER(C35),"M","")), LEN(UPPER(C35))-LEN(SUBSTITUTE(UPPER(C35),"B","")), LEN(UPPER(C35))-LEN(SUBSTITUTE(UPPER(C35),"D","")), LEN(UPPER(C35))-LEN(SUBSTITUTE(UPPER(C35),"H","")), LEN(UPPER(C35))-LEN(SUBSTITUTE(UPPER(C35),"V","")), LEN(UPPER(C35))-LEN(SUBSTITUTE(UPPER(C35),"N","")) )>0,"Dejenere var","") | W35: =IF(LEN(UPPER(C35))-LEN(SUBSTITUTE(UPPER(C35),"I",""))>0,"inosine var","") | X35: =IF(LEN(C35)-LEN(SUBSTITUTE(C35,"+",""))>0,"lna var","") | Y35: =IF(LEN(C35)-LEN(SUBSTITUTE(C35,"*",""))>0,"phosphorothioate var","") | Z35: =IF( LEN( SUBSTITUTE( SUBSTITUTE( SUBSTITUTE( SUBSTITUTE( SUBSTITUTE( SUBSTITUTE( SUBSTITUTE( SUBSTITUTE( SUBSTITUTE( SUBSTITUTE( SUBSTITUTE( SUBSTITUTE( SUBSTITUTE( SUBSTITUTE( SUBSTITUTE( SUBSTITUTE( SUBSTITUTE( SUBSTITUTE( SUBSTITUTE( UPPER(C35), "A",""), "C",""), "G",""), "T",""), "R",""), "Y",""), "S",""), "W",""), "K",""), "M",""), "B",""), "D",""), "H",""), "V",""), "N",""), "I",""), "+",""), "*",""), " ","") )>0,"Geçersiz karakter","")
... A323: 300 | G323: =IF(C323="","", LEN( SUBSTITUTE( SUBSTITUTE( SUBSTITUTE(C323,"+",""), "*",""), "I","") ) ) | H323: {=IF( ISBLANK(C323), "", IF( ISBLANK(D323), ( ( G323 + (LEN(C323)-LEN(SUBSTITUTE(UPPER(C323),"R",""))) + (LEN(C323)-LEN(SUBSTITUTE(UPPER(C323),"Y",""))) + (LEN(C323)-LEN(SUBSTITUTE(UPPER(C323),"M",""))) + (LEN(C323)-LEN(SUBSTITUTE(UPPER(C323),"K",""))) + (LEN(C323)-LEN(SUBSTITUTE(UPPER(C323),"S",""))) + (LEN(C323)-LEN(SUBSTITUTE(UPPER(C323),"W",""))) + 2*(LEN(C323)-LEN(SUBSTITUTE(UPPER(C323),"B",""))) + 2*(LEN(C323)-LEN(SUBSTITUTE(UPPER(C323),"D",""))) + 2*(LEN(C323)-LEN(SUBSTITUTE(UPPER(C323),"H",""))) + 2*(LEN(C323)-LEN(SUBSTITUTE(UPPER(C323),"V",""))) + 3*(LEN(C323)-LEN(SUBSTITUTE(UPPER(C323),"N",""))) ) * INDEX(PrimerPrices!$C$2:$C$500, MATCH(TRIM(E323) & "|" & TRIM(F323), PrimerPrices!$D$2:$D$500, 0) ) ), INDEX(ProbePrices!$D$2:$D$500, MATCH(TRIM(D323) & "|" & TRIM(E323) & "|" & TRIM(F323), ProbePrices!$E$2:$E$500, 0) ) ) + (LEN(C323)-LEN(SUBSTITUTE(C323,"+",""))) * 10 + (LEN(UPPER(C323))-LEN(SUBSTITUTE(UPPER(C323),"I",""))) * 10 + (LEN(C323)-LEN(SUBSTITUTE(C323,"*",""))) * 10 )} | I323: =IF(C323="","", TRIM( IF(U323<>"",U323&", ","")& IF(V323<>"",V323&", ","")& IF(W323<>"",W323&", ","")& IF(X323<>"",X323&", ","")& IF(Y323<>"",Y323&", ","")& IF(Z323<>"",Z323&", ","") ) ) | J323: =IF(C323="","", TRIM( IF(LEN(C323)-LEN(SUBSTITUTE(UPPER(C323),"R",""))>0,"R ("&(LEN(C323)-LEN(SUBSTITUTE(UPPER(C323),"R","")))&"), ","")& IF(LEN(C323)-LEN(SUBSTITUTE(UPPER(C323),"Y",""))>0,"Y ("&(LEN(C323)-LEN(SUBSTITUTE(UPPER(C323),"Y","")))&"), ","")& IF(LEN(C323)-LEN(SUBSTITUTE(UPPER(C323),"M",""))>0,"M ("&(LEN(C323)-LEN(SUBSTITUTE(UPPER(C323),"M","")))&"), ","")& IF(LEN(C323)-LEN(SUBSTITUTE(UPPER(C323),"K",""))>0,"K ("&(LEN(C323)-LEN(SUBSTITUTE(UPPER(C323),"K","")))&"), ","")& IF(LEN(C323)-LEN(SUBSTITUTE(UPPER(C323),"S",""))>0,"S ("&(LEN(C323)-LEN(SUBSTITUTE(UPPER(C323),"S","")))&"), ","")& IF(LEN(C323)-LEN(SUBSTITUTE(UPPER(C323),"W",""))>0,"W ("&(LEN(C323)-LEN(SUBSTITUTE(UPPER(C323),"W","")))&"), ","")& IF(LEN(C323)-LEN(SUBSTITUTE(UPPER(C323),"B",""))>0,"B ("&(LEN(C323)-LEN(SUBSTITUTE(UPPER(C323),"B","")))&"), ","")& IF(LEN(C323)-LEN(SUBSTITUTE(UPPER(C323),"D",""))>0,"D ("&(LEN(C323)-LEN(SUBSTITUTE(UPPER(C323),"D","")))&"), ","")& IF(LEN(C323)-LEN(SUBSTITUTE(UPPER(C323),"H",""))>0,"H ("&(LEN(C323)-LEN(SUBSTITUTE(UPPER(C323),"H","")))&"), ","")& IF(LEN(C323)-LEN(SUBSTITUTE(UPPER(C323),"V",""))>0,"V ("&(LEN(C323)-LEN(SUBSTITUTE(UPPER(C323),"V","")))&"), ","")& IF(LEN(C323)-LEN(SUBSTITUTE(UPPER(C323),"N",""))>0,"N ("&(LEN(C323)-LEN(SUBSTITUTE(UPPER(C323),"N","")))&"), ","") ) ) | U323: =IF(C323="","", IF(LEN(C323)<>LEN(SUBSTITUTE(C323," ","")),"Boşluk var","") ) | V323: =IF(SUM( LEN(UPPER(C323))-LEN(SUBSTITUTE(UPPER(C323),"R","")), LEN(UPPER(C323))-LEN(SUBSTITUTE(UPPER(C323),"Y","")), LEN(UPPER(C323))-LEN(SUBSTITUTE(UPPER(C323),"S","")), LEN(UPPER(C323))-LEN(SUBSTITUTE(UPPER(C323),"W","")), LEN(UPPER(C323))-LEN(SUBSTITUTE(UPPER(C323),"K","")), LEN(UPPER(C323))-LEN(SUBSTITUTE(UPPER(C323),"M","")), LEN(UPPER(C323))-LEN(SUBSTITUTE(UPPER(C323),"B","")), LEN(UPPER(C323))-LEN(SUBSTITUTE(UPPER(C323),"D","")), LEN(UPPER(C323))-LEN(SUBSTITUTE(UPPER(C323),"H","")), LEN(UPPER(C323))-LEN(SUBSTITUTE(UPPER(C323),"V","")), LEN(UPPER(C323))-LEN(SUBSTITUTE(UPPER(C323),"N","")) )>0,"Dejenere var","") | W323: =IF(LEN(UPPER(C323))-LEN(SUBSTITUTE(UPPER(C323),"I",""))>0,"inosine var","") | X323: =IF(LEN(C323)-LEN(SUBSTITUTE(C323,"+",""))>0,"lna var","") | Y323: =IF(LEN(C323)-LEN(SUBSTITUTE(C323,"*",""))>0,"phosphorothioate var","") | Z323: =IF( LEN( SUBSTITUTE( SUBSTITUTE( SUBSTITUTE( SUBSTITUTE( SUBSTITUTE( SUBSTITUTE( SUBSTITUTE( SUBSTITUTE( SUBSTITUTE( SUBSTITUTE( SUBSTITUTE( SUBSTITUTE( SUBSTITUTE( SUBSTITUTE( SUBSTITUTE( SUBSTITUTE( SUBSTITUTE( SUBSTITUTE( SUBSTITUTE( UPPER(C323), "A",""), "C",""), "G",""), "T",""), "R",""), "Y",""), "S",""), "W",""), "K",""), "M",""), "B",""), "D",""), "H",""), "V",""), "N",""), "I",""), "+",""), "*",""), " ","") )>0,"Geçersiz karakter","")

Sheet PRODUCT PRICE LIST
C2: PRODUCT PRICE LIST
C5: Product Name | D5: 5' Modification | E5: Synthesis Scale | I5: 3' Modification | J5: Purification | K5: Delivery Time
E6: 25 nmol | F6: 50 nmol | G6: 100 nmol | H6: 200 nmol
C7: Primer | D7: None | E7: X | F7: 0.28 | G7: 0.35 | H7: 0.45 | I7: None | J7: Desalt | K7: 3 Business Days
C8: OPC | D8: None | E8: X | F8: 0.32 | G8: 0.38 | H8: 0.5 | I8: None | J8: OPC | K8: 3 Business Days
C9: Primer(-PK) | D9: None | E9: X | F9: 0.32 | G9: 0.38 | H9: 0.5 | I9: None | J9: RPC/OPC | K9: 3 Business Days
C10: Primer (HPLC) | D10: None | E10: X | F10: 0.43 | G10: 0.49 | H10: 0.54 | I10: None | J10: HPLC | K10: 3 Business Days
C11: Product Name | D11: 5' Modification | E11: Synthesis Scale | I11: 3' Modification | J11: Purification | K11: Delivery Time
E12: 25 nmol | F12: 50 nmol | G12: 100 nmol | H12: 200 nmol
C13: 5' FAM | D13: FAM | E13: X | F13: 65 | G13: 86 | H13: 108 | I13: None | J13: HPLC | K13: 3 Business Days
C14: 5' HEX | D14: HEX | E14: X | F14: 65 | G14: 86 | H14: 108 | I14: None | J14: HPLC | K14: 3 Business Days
C15: 5' ROX | D15: ROX | E15: X | F15: 86 | G15: 108 | H15: 130 | I15: None | J15: HPLC | K15: 3 Business Days
C16: 5' Cy5 | D16: Cy5 | E16: X | F16: 86 | G16: 108 | H16: 130 | I16: None | J16: HPLC | K16: 3 Business Days
C17: 5' Cy5.5 | D17: Cy5.5 | E17: X | F17: 108 | G17: 130 | H17: 162 | I17: None | J17: HPLC | K17: 10 Business Days
C18: 5' Cy3 | D18: Cy3 | E18: X | F18: 86 | G18: 108 | H18: 130 | I18: None | J18: HPLC | K18: 3 Business Days
C19: 5' Cy3.5 | D19: Cy3.5 | E19: X | F19: 108 | G19: 130 | H19: 162 | I19: None | J19: HPLC | K19: 10 Business Days
C20: 5' VIC | D20: VIC | E20: X | F20: 76 | G20: 97 | H20: 119 | I20: None | J20: HPLC | K20: 3 Business Days
C21: 5' NED | D21: NED | E21: X | F21: 76 | G21: 97 | H21: 119 | I21: None | J21: HPLC | K21: 10 Business Days
C22: 5' JOE | D22: JOE | E22: X | F22: 76 | G22: 97 | H22: 119 | I22: None | J22: HPLC | K22: 10 Business Days
C23: 5' PET | D23: PET | E23: X | F23: 76 | G23: 97 | H23: 119 | I23: None | J23: HPLC | K23: 10 Business Days
C24: 5' Yakima Yellow | D24: Yakima Yellow | E24: X | F24: 86 | G24: 108 | H24: 130 | I24: None | J24: HPLC | K24: 3 Business Days
... C27: 5' Hexyl Amine | D27: Hexyl Amine | E27: X | F27: 86 | G27: 130 | H27: 162 | I27: None | J27: HPLC | K27: 3 Business Days
C28: Product Name | D28: 5' Modification | E28: Synthesis Scale | I28: 3' Modification | J28: Purification | K28: Delivery Time
E29: 25 nmol | F29: 50 nmol | G29: 100 nmol | H29: 200 nmol
C30: FAM - BHQ | D30: FAM | E30: X | F30: 130 | G30: 160 | H30: 190 | I30: BHQ1 | J30: HPLC | K30: 3 Business Days
C31: HEX - BHQ | D31: HEX | E31: X | F31: 130 | G31: 160 | H31: 190 | I31: BHQ1 | J31: HPLC | K31: 3 Business Days
C32: ROX - BHQ2 | D32: ROX | E32: X | F32: 324 | G32: 346 | H32: 410 | I32: BHQ2-BHQ3 | J32: HPLC | K32: 3 Business Days
C33: Cy5 - BHQ2 | D33: Cy5 | E33: X | F33: 324 | G33: 346 | H33: 410 | I33: BHQ2-BHQ3 | J33: HPLC | K33: 3 Business Days
C34: Cy5,5 - BHQ2 | D34: Cy5,5 | E34: X | F34: 432 | G34: 454 | H34: 486 | I34: BHQ2-BHQ3 | J34: HPLC | K34: 10 Business Days
C35: Cy3 - BHQ2 | D35: Cy3 | E35: X | F35: 432 | G35: 454 | H35: 486 | I35: BHQ2-BHQ3 | J35: HPLC | K35: 3 Business Days
C36: Cy3.5 - BHQ2 | D36: Cy3.5 | E36: X | F36: 432 | G36: 454 | H36: 486 | I36: BHQ2-BHQ3 | J36: HPLC | K36: 10 Business Days
C37: FAM - FQFQ | D37: FAM | E37: X | F37: 216 | G37: 238 | H37: 270 | I37: Internal Quencher | J37: HPLC | K37: 3 Business Days
C38: HEX - FQFQ | D38: HEX | E38: X | F38: 216 | G38: 238 | H38: 270 | I38: Internal Quencher | J38: HPLC | K38: 3 Business Days
C39: FAM - MGB | D39: FAM | E39: X | F39: 162 | G39: 194 | H39: 216 | I39: MGB/NFQ | J39: HPLC | K39: 3 Business Days
C40: HEX - MGB | D40: HEX | E40: X | F40: 162 | G40: 194 | H40: 216 | I40: MGB/NFQ | J40: HPLC | K40: 3 Business Days
C41: Tamra - BHQ | D41: TAMRA | E41: X | F41: 194 | G41: 238 | H41: 270 | I41: BHQ1 | J41: HPLC | K41: 3 Business Days
... C48: HEX - Tamra | D48: HEX | E48: X | F48: 130 | G48: 162 | H48: 194 | I48: Tamra | J48: HPLC | K48: 3 Business Days
C49: VIC - BHQ | D49: VIC | E49: X | F49: 140 | G49: 173 | H49: 205 | I49: BHQ1 | J49: HPLC
C50: Product Name | D50: 5' Modification | E50: Synthesis Scale | I50: 3' Modification | J50: Purification | K50: Delivery Time
E51: 25 nmol | F51: 50 nmol | G51: 100 nmol | H51: 200 nmol
...

Sheet PrimerPrices
A1: Scale | B1: Purification | C1: Price per nt | D1: Combo
A2: 50 nmol | B2: DESALT | C2: 0.28 | D2: =TRIM(A2) & "|" & TRIM(B2) -> 50 nmol|DESALT
A3: 100 nmol | B3: DESALT | C3: 0.35 | D3: =TRIM(A3) & "|" & TRIM(B3) -> 100 nmol|DESALT
A4: 200 nmol | B4: DESALT | C4: 0.45 | D4: =TRIM(A4) & "|" & TRIM(B4) -> 200 nmol|DESALT
A5: 50 nmol | B5: HPLC | C5: 0.43 | D5: =TRIM(A5) & "|" & TRIM(B5) -> 50 nmol|HPLC
A6: 100 nmol | B6: HPLC | C6: 0.49 | D6: =TRIM(A6) & "|" & TRIM(B6) -> 100 nmol|HPLC
A7: 200 nmol | B7: HPLC | C7: 0.54 | D7: =TRIM(A7) & "|" & TRIM(B7) -> 200 nmol|HPLC
A8: 50 nmol | B8: RPC | C8: 0.32 | D8: =TRIM(A8) & "|" & TRIM(B8) -> 50 nmol|RPC
A9: 100 nmol | B9: RPC | C9: 0.38 | D9: =TRIM(A9) & "|" & TRIM(B9) -> 100 nmol|RPC
A10: 200 nmol | B10: RPC | C10: 0.5 | D10: =TRIM(A10) & "|" & TRIM(B10) -> 200 nmol|RPC
A11: 50 nmol | B11: OPC | C11: 0.32 | D11: =TRIM(A11) & "|" & TRIM(B11) -> 50 nmol|OPC
A12: 100 nmol | B12: OPC | C12: 0.38 | D12: =TRIM(A12) & "|" & TRIM(B12) -> 100 nmol|OPC
A13: 200 nmol | B13: OPC | C13: 0.5 | D13: =TRIM(A13) & "|" & TRIM(B13) -> 200 nmol|OPC

Sheet ProbePrices
A1: Modification | B1: Scale | C1: Purification | D1: Flat Price | E1: New
A2: 5' FAM | B2: 50 nmol | C2: HPLC | D2: 65 | E2: =TRIM(A2) & "|" & TRIM(B2) & "|" & TRIM(C2) -> 5' FAM|50 nmol|HPLC
A3: 5' FAM | B3: 100 nmol | C3: HPLC | D3: 86 | E3: =TRIM(A3) & "|" & TRIM(B3) & "|" & TRIM(C3) -> 5' FAM|100 nmol|HPLC
A4: 5' FAM | B4: 200 nmol | C4: HPLC | D4: 108 | E4: =TRIM(A4) & "|" & TRIM(B4) & "|" & TRIM(C4) -> 5' FAM|200 nmol|HPLC
A5: 5' HEX | B5: 50 nmol | C5: HPLC | D5: 65 | E5: =TRIM(A5) & "|" & TRIM(B5) & "|" & TRIM(C5) -> 5' HEX|50 nmol|HPLC
A6: 5' HEX | B6: 100 nmol | C6: HPLC | D6: 86 | E6: =TRIM(A6) & "|" & TRIM(B6) & "|" & TRIM(C6) -> 5' HEX|100 nmol|HPLC
A7: 5' HEX | B7: 200 nmol | C7: HPLC | D7: 108 | E7: =TRIM(A7) & "|" & TRIM(B7) & "|" & TRIM(C7) -> 5' HEX|200 nmol|HPLC
