Workbook

Sheet OrderForm
C1: ORDER FORM | G1: ProbeSynthesis Biyoteknoloji Inc.
G2: Prof. Dr. Ahmet Taner Kışlalı 2768th Street No. 35
G3: 06810 Çankaya, Ankara, Turkey
G4: Doğanbey/7331140712
G5: www.probesynthesis.com
G6: info@probesynthesis.com
G7: 0535 050 5158
G8: 0532 054 2045
B10: INVOICE INFORMATION | F10: CONTACT INFORMATION
B11: ORDER DATE: | F11: FULL NAME:
B12: FULL NAME: | F12: SHIPPING ADDRESS:
B13: INSTITUTION / ORGANIZATION: | F13: EMAIL ADDRESS:
B14: BILLING ADDRESS: | F14: PHONE 1:
B15: PROJECT NUMBER: | F15: PHONE 2:
B16: TAX OFFICE:
B17: TAX ID / PERSONAL ID NUMBER: | F17: PLEASE ENSURE YOUR SHIPPING INFORMATION IS COMPLETE. OUR DELIVERY TIME IS 3–5 BUSINESS DAYS!
A18: NOTE | B18: WHEN ENTERING OLIGONUCLEOTIDE SEQUENCES: | F18: - Please make sure your order information is entered correctly to ensure accurate processing of your order. - For primer orders, leave the “5' - 3' Modification” field blank to ensure correct calculation. - For probe orders, please select HPLC Purification. | I18: Total Number of Orders | J18: =COUNTA(C24:C323) -> 0
B19: ENTER YOUR SEQUENCE IN THE SEQUENCE CELL IN 5' → 3' ORIENTATION ONLY. | I19: Total Number of Bases | J19: =SUM(G24:G323) -> 0
B20: DO NOT USE LOWERCASE LETTERS AND DO NOT LEAVE SPACES IN THE SEQUENCE CELL. | I20: Total Number of Primers | J20: =COUNTIFS(C24:C323, "<>", D24:D323, "=") -> 0
B21: INDICATE ANY LNA (+G), PHOSPHOROTHIOATE (*G), INOSINE, OR DEGENERATE BASES IN YOUR SEQUENCE. | I21: Total Number of Probes | J21: =COUNTIFS(C24:C323, "<>", D24:D323, "<>") -> 0
B22: FOR ALL SEQUENCES, DO NOT FORGET TO SELECT SCALE, PURIFICATION, AND MODIFICATION (IF APPLICABLE). | I22: Total Price | J22: =SUM(H24:H323) -> 0
A23: No | B23: Oligo Name | C23: Oligo Sequence 5' --> 3' | D23: 5' - 3' Modification | E23: Scale (nmol) | F23: Purification | G23: Length (bp) | H23: Price (€) | I23: Degenerate | J23: Note
A24: 1 | G24: =IF(C24="", "", LEN(C24)) | H24: {=IF( ISBLANK(D24), IF( ISBLANK(C24), "", G24 * INDEX(PrimerPrices!$C$2:$C$500, MATCH(TRIM(E24) & "|" & TRIM(F24), PrimerPrices!$D$2:$D$500, 0)) ), INDEX(ProbePrices!$D$2:$D$500, MATCH(TRIM(D24) & "|" & TRIM(E24) & "|" & TRIM(F24), ProbePrices!$E$2:$E$500, 0)) )} | I24: =IFERROR(__xludf.DUMMYFUNCTION("IF( C24="""", """", LEN(C24) - LEN(REGEXREPLACE(UPPER(C24), ""[^AGTC]"", """")) ) "),"")
A25: 2 | G25: =IF(C25="", "", LEN(C25)) | H25: {=IF( ISBLANK(D25), IF( ISBLANK(C25), "", G25 * INDEX(PrimerPrices!$C$2:$C$500, MATCH(TRIM(E25) & "|" & TRIM(F25), PrimerPrices!$D$2:$D$500, 0)) ), INDEX(ProbePrices!$D$2:$D$500, MATCH(TRIM(D25) & "|" & TRIM(E25) & "|" & TRIM(F25), ProbePrices!$E$2:$E$500, 0)) )} | I25: =IFERROR(__xludf.DUMMYFUNCTION("IF( C25="""", """", LEN(C25) - LEN(REGEXREPLACE(UPPER(C25), ""[^AGTC]"", """")) ) "),"")
A26: 3 | G26: =IF(C26="", "", LEN(C26)) | H26: {=IF( ISBLANK(D26), IF( ISBLANK(C26), "", G26 * INDEX(PrimerPrices!$C$2:$C$500, MATCH(TRIM(E26) & "|" & TRIM(F26), PrimerPrices!$D$2:$D$500, 0)) ), INDEX(ProbePrices!$D$2:$D$500, MATCH(TRIM(D26) & "|" & TRIM(E26) & "|" & TRIM(F26), ProbePrices!$E$2:$E$500, 0)) )} | I26: =IFERROR(__xludf.DUMMYFUNCTION("IF( C26="""", """", LEN(C26) - LEN(REGEXREPLACE(UPPER(C26), ""[^AGTC]"", """")) ) "),"")
A27: 4 | G27: =IF(C27="", "", LEN(C27)) | H27: {=IF( ISBLANK(D27), IF( ISBLANK(C27), "", G27 * INDEX(PrimerPrices!$C$2:$C$500, MATCH(TRIM(E27) & "|" & TRIM(F27), PrimerPrices!$D$2:$D$500, 0)) ), INDEX(ProbePrices!$D$2:$D$500, MATCH(TRIM(D27) & "|" & TRIM(E27) & "|" & TRIM(F27), ProbePrices!$E$2:$E$500, 0)) )} | I27: =IFERROR(__xludf.DUMMYFUNCTION("IF( C27="""", """", LEN(C27) - LEN(REGEXREPLACE(UPPER(C27), ""[^AGTC]"", """")) ) "),"")
A28: 5 | G28: =IF(C28="", "", LEN(C28)) | H28: {=IF( ISBLANK(D28), IF( ISBLANK(C28), "", G28 * INDEX(PrimerPrices!$C$2:$C$500, MATCH(TRIM(E28) & "|" & TRIM(F28), PrimerPrices!$D$2:$D$500, 0)) ), INDEX(ProbePrices!$D$2:$D$500, MATCH(TRIM(D28) & "|" & TRIM(E28) & "|" & TRIM(F28), ProbePrices!$E$2:$E$500, 0)) )} | I28: =IFERROR(__xludf.DUMMYFUNCTION("IF( C28="""", """", LEN(C28) - LEN(REGEXREPLACE(UPPER(C28), ""[^AGTC]"", """")) ) "),"")
A29: 6 | G29: =IF(C29="", "", LEN(C29)) | H29: {=IF( ISBLANK(D29), IF( ISBLANK(C29), "", G29 * INDEX(PrimerPrices!$C$2:$C$500, MATCH(TRIM(E29) & "|" & TRIM(F29), PrimerPrices!$D$2:$D$500, 0)) ), INDEX(ProbePrices!$D$2:$D$500, MATCH(TRIM(D29) & "|" & TRIM(E29) & "|" & TRIM(F29), ProbePrices!$E$2:$E$500, 0)) )} | I29: =IFERROR(__xludf.DUMMYFUNCTION("IF( C29="""", """", LEN(C29) - LEN(REGEXREPLACE(UPPER(C29), ""[^AGTC]"", """")) ) "),"")
A30: 7 | G30: =IF(C30="", "", LEN(C30)) | H30: {=IF( ISBLANK(D30), IF( ISBLANK(C30), "", G30 * INDEX(PrimerPrices!$C$2:$C$500, MATCH(TRIM(E30) & "|" & TRIM(F30), PrimerPrices!$D$2:$D$500, 0)) ), INDEX(ProbePrices!$D$2:$D$500, MATCH(TRIM(D30) & "|" & TRIM(E30) & "|" & TRIM(F30), ProbePrices!$E$2:$E$500, 0)) )} | I30: =IFERROR(__xludf.DUMMYFUNCTION("IF( C30="""", """", LEN(C30) - LEN(REGEXREPLACE(UPPER(C30), ""[^AGTC]"", """")) ) "),"")
A31: 8 | G31: =IF(C31="", "", LEN(C31)) | H31: {=IF( ISBLANK(D31), IF( ISBLANK(C31), "", G31 * INDEX(PrimerPrices!$C$2:$C$500, MATCH(TRIM(E31) & "|" & TRIM(F31), PrimerPrices!$D$2:$D$500, 0)) ), INDEX(ProbePrices!$D$2:$D$500, MATCH(TRIM(D31) & "|" & TRIM(E31) & "|" & TRIM(F31), ProbePrices!$E$2:$E$500, 0)) )} | I31: =IFERROR(__xludf.DUMMYFUNCTION("IF( C31="""", """", LEN(C31) - LEN(REGEXREPLACE(UPPER(C31), ""[^AGTC]"", """")) ) "),"")
A32: 9 | G32: =IF(C32="", "", LEN(C32)) | H32: {=IF( ISBLANK(D32), IF( ISBLANK(C32), "", G32 * INDEX(PrimerPrices!$C$2:$C$500, MATCH(TRIM(E32) & "|" & TRIM(F32), PrimerPrices!$D$2:$D$500, 0)) ), INDEX(ProbePrices!$D$2:$D$500, MATCH(TRIM(D32) & "|" & TRIM(E32) & "|" & TRIM(F32), ProbePrices!$E$2:$E$500, 0)) )} | I32: =IFERROR(__xludf.DUMMYFUNCTION("IF( C32="""", """", LEN(C32) - LEN(REGEXREPLACE(UPPER(C32), ""[^AGTC]"", """")) ) "),"")
A33: 10 | G33: =IF(C33="", "", LEN(C33)) | H33: {=IF( ISBLANK(D33), IF( ISBLANK(C33), "", G33 * INDEX(PrimerPrices!$C$2:$C$500, MATCH(TRIM(E33) & "|" & TRIM(F33), PrimerPrices!$D$2:$D$500, 0)) ), INDEX(ProbePrices!$D$2:$D$500, MATCH(TRIM(D33) & "|" & TRIM(E33) & "|" & TRIM(F33), ProbePrices!$E$2:$E$500, 0)) )} | I33: =IFERROR(__xludf.DUMMYFUNCTION("IF( C33="""", """", LEN(C33) - LEN(REGEXREPLACE(UPPER(C33), ""[^AGTC]"", """")) ) "),"")
A34: 11 | G34: =IF(C34="", "", LEN(C34)) | H34: {=IF( ISBLANK(D34), IF( ISBLANK(C34), "", G34 * INDEX(PrimerPrices!$C$2:$C$500, MATCH(TRIM(E34) & "|" & TRIM(F34), PrimerPrices!$D$2:$D$500, 0)) ), INDEX(ProbePrices!$D$2:$D$500, MATCH(TRIM(D34) & "|" & TRIM(E34) & "|" & TRIM(F34), ProbePrices!$E$2:$E$500, 0)) )} | I34: =IFERROR(__xludf.DUMMYFUNCTION("IF( C34="""", """", LEN(C34) - LEN(REGEXREPLACE(UPPER(C34), ""[^AGTC]"", """")) ) "),"")
A35: 12 | G35: =IF(C35="", "", LEN(C35)) | H35: {=IF( ISBLANK(D35), IF( ISBLANK(C35), "", G35 * INDEX(PrimerPrices!$C$2:$C$500, MATCH(TRIM(E35) & "|" & TRIM(F35), PrimerPrices!$D$2:$D$500, 0)) ), INDEX(ProbePrices!$D$2:$D$500, MATCH(TRIM(D35) & "|" & TRIM(E35) & "|" & TRIM(F35), ProbePrices!$E$2:$E$500, 0)) )} | I35: =IFERROR(__xludf.DUMMYFUNCTION("IF( C35="""", """", LEN(C35) - LEN(REGEXREPLACE(UPPER(C35), ""[^AGTC]"", """")) ) "),"")
A36: 13 | G36: =IF(C36="", "", LEN(C36)) | H36: {=IF( ISBLANK(D36), IF( ISBLANK(C36), "", G36 * INDEX(PrimerPrices!$C$2:$C$500, MATCH(TRIM(E36) & "|" & TRIM(F36), PrimerPrices!$D$2:$D$500, 0)) ), INDEX(ProbePrices!$D$2:$D$500, MATCH(TRIM(D36) & "|" & TRIM(E36) & "|" & TRIM(F36), ProbePrices!$E$2:$E$500, 0)) )} | I36: =IFERROR(__xludf.DUMMYFUNCTION("IF( C36="""", """", LEN(C36) - LEN(REGEXREPLACE(UPPER(C36), ""[^AGTC]"", """")) ) "),"")
A37: 14 | G37: =IF(C37="", "", LEN(C37)) | H37: {=IF( ISBLANK(D37), IF( ISBLANK(C37), "", G37 * INDEX(PrimerPrices!$C$2:$C$500, MATCH(TRIM(E37) & "|" & TRIM(F37), PrimerPrices!$D$2:$D$500, 0)) ), INDEX(ProbePrices!$D$2:$D$500, MATCH(TRIM(D37) & "|" & TRIM(E37) & "|" & TRIM(F37), ProbePrices!$E$2:$E$500, 0)) )} | I37: =IFERROR(__xludf.DUMMYFUNCTION("IF( C37="""", """", LEN(C37) - LEN(REGEXREPLACE(UPPER(C37), ""[^AGTC]"", """")) ) "),"")
A38: 15 | G38: =IF(C38="", "", LEN(C38)) | H38: {=IF( ISBLANK(D38), IF( ISBLANK(C38), "", G38 * INDEX(PrimerPrices!$C$2:$C$500, MATCH(TRIM(E38) & "|" & TRIM(F38), PrimerPrices!$D$2:$D$500, 0)) ), INDEX(ProbePrices!$D$2:$D$500, MATCH(TRIM(D38) & "|" & TRIM(E38) & "|" & TRIM(F38), ProbePrices!$E$2:$E$500, 0)) )} | I38: =IFERROR(__xludf.DUMMYFUNCTION("IF( C38="""", """", LEN(C38) - LEN(REGEXREPLACE(UPPER(C38), ""[^AGTC]"", """")) ) "),"")
A39: 16 | G39: =IF(C39="", "", LEN(C39)) | H39: {=IF( ISBLANK(D39), IF( ISBLANK(C39), "", G39 * INDEX(PrimerPrices!$C$2:$C$500, MATCH(TRIM(E39) & "|" & TRIM(F39), PrimerPrices!$D$2:$D$500, 0)) ), INDEX(ProbePrices!$D$2:$D$500, MATCH(TRIM(D39) & "|" & TRIM(E39) & "|" & TRIM(F39), ProbePrices!$E$2:$E$500, 0)) )} | I39: =IFERROR(__xludf.DUMMYFUNCTION("IF( C39="""", """", LEN(C39) - LEN(REGEXREPLACE(UPPER(C39), ""[^AGTC]"", """")) ) "),"")
A40: 17 | G40: =IF(C40="", "", LEN(C40)) | H40: {=IF( ISBLANK(D40), IF( ISBLANK(C40), "", G40 * INDEX(PrimerPrices!$C$2:$C$500, MATCH(TRIM(E40) & "|" & TRIM(F40), PrimerPrices!$D$2:$D$500, 0)) ), INDEX(ProbePrices!$D$2:$D$500, MATCH(TRIM(D40) & "|" & TRIM(E40) & "|" & TRIM(F40), ProbePrices!$E$2:$E$500, 0)) )} | I40: =IFERROR(__xludf.DUMMYFUNCTION("IF( C40="""", """", LEN(C40) - LEN(REGEXREPLACE(UPPER(C40), ""[^AGTC]"", """")) ) "),"")
A41: 18 | G41: =IF(C41="", "", LEN(C41)) | H41: {=IF( ISBLANK(D41), IF( ISBLANK(C41), "", G41 * INDEX(PrimerPrices!$C$2:$C$500, MATCH(TRIM(E41) & "|" & TRIM(F41), PrimerPrices!$D$2:$D$500, 0)) ), INDEX(ProbePrices!$D$2:$D$500, MATCH(TRIM(D41) & "|" & TRIM(E41) & "|" & TRIM(F41), ProbePrices!$E$2:$E$500, 0)) )} | I41: =IFERROR(__xludf.DUMMYFUNCTION("IF( C41="""", """", LEN(C41) - LEN(REGEXREPLACE(UPPER(C41), ""[^AGTC]"", """")) ) "),"")
...

Sheet Product Price List
B2: PRODUCT PRICE LIST
B5: Product Name | C5: 5' Modification | D5: Synthesis Scale | H5: 3' Modification | I5: Purification | J5: Delivery Time
D6: 25 nmol | E6: 50 nmol | F6: 100 nmol | G6: 200 nmol
B7: Primer | C7: None | D7: X | E7: €0,25 | F7: €0,30 | G7: €0,40 | H7: None | I7: Desalt | J7: 3 Business Days
B8: OPC | C8: None | D8: X | E8: €0,30 | F8: €0,35 | G8: €0,45 | H8: None | I8: OPC | J8: 3 Business Days
B9: Primer(-PK) | C9: None | D9: X | E9: €0,30 | F9: €0,35 | G9: €0,45 | H9: None | I9: RPC/OPC | J9: 3 Business Days
B10: Primer (HPLC) | C10: None | D10: X | E10: €0,35 | F10: €0,40 | G10: €0,50 | H10: None | I10: HPLC | J10: 3 Business Days
B11: Product Name | C11: 5' Modification | D11: Synthesis Scale | H11: 3' Modification | I11: Purification | J11: Delivery Time
D12: 25 nmol | E12: 50 nmol | F12: 100 nmol | G12: 200 nmol
B13: 5' FAM | C13: FAM | D13: X | E13: 60 | F13: 80 | G13: 100 | H13: None | I13: HPLC | J13: 3 Business Days
B14: 5' HEX | C14: HEX | D14: X | E14: 60 | F14: 80 | G14: 100 | H14: None | I14: HPLC | J14: 3 Business Days
B15: 5' ROX | C15: ROX | D15: X | E15: 80 | F15: 100 | G15: 120 | H15: None | I15: HPLC | J15: 3 Business Days
B16: 5' Cy5 | C16: Cy5 | D16: X | E16: 80 | F16: 100 | G16: 120 | H16: None | I16: HPLC | J16: 3 Business Days
B17: 5' Cy5.5 | C17: Cy5.5 | D17: X | E17: 100 | F17: 120 | G17: 150 | H17: None | I17: HPLC | J17: 10 Business Days
B18: 5' Cy3 | C18: Cy3 | D18: X | E18: 80 | F18: 100 | G18: 120 | H18: None | I18: HPLC | J18: 3 Business Days
B19: 5' Cy3.5 | C19: Cy3.5 | D19: X | E19: 100 | F19: 120 | G19: 150 | H19: None | I19: HPLC | J19: 10 Business Days
B20: 5' VIC | C20: VIC | D20: X | E20: 70 | F20: 90 | G20: 110 | H20: None | I20: HPLC | J20: 3 Business Days
B21: 5' NED | C21: NED | D21: X | E21: 70 | F21: 90 | G21: 110 | H21: None | I21: HPLC | J21: 10 Business Days
B22: 5' JOE | C22: JOE | D22: X | E22: 70 | F22: 90 | G22: 110 | H22: None | I22: HPLC | J22: 10 Business Days
B23: 5' PET | C23: PET | D23: X | E23: 70 | F23: 90 | G23: 110 | H23: None | I23: HPLC | J23: 10 Business Days
B24: 5' Yakima Yellow | C24: Yakima Yellow | D24: X | E24: 80 | F24: 100 | G24: 120 | H24: None | I24: HPLC | J24: 3 Business Days
... B27: 5' Hexyl Amine | C27: Hexyl Amine | D27: X | E27: 80 | F27: 120 | G27: 150 | H27: None | I27: HPLC | J27: 3 Business Days
B28: Product Name | C28: 5' Modification | D28: Synthesis Scale | H28: 3' Modification | I28: Purification | J28: Delivery Time
D29: 25 nmol | E29: 50 nmol | F29: 100 nmol | G29: 200 nmol
B30: FAM - BHQ | C30: FAM | D30: X | E30: 120 | F30: 150 | G30: 180 | H30: BHQ1 | I30: HPLC | J30: 3 Business Days
B31: HEX - BHQ | C31: HEX | D31: X | E31: 120 | F31: 150 | G31: 180 | H31: BHQ1 | I31: HPLC | J31: 3 Business Days
B32: ROX - BHQ2 | C32: ROX | D32: X | E32: 300 | F32: 320 | G32: 380 | H32: BHQ2 | I32: HPLC | J32: 3 Business Days
B33: Cy5 - BHQ2 | C33: Cy5 | D33: X | E33: 300 | F33: 320 | G33: 380 | H33: BHQ2 | I33: HPLC | J33: 3 Business Days
B34: Cy5,5 - BHQ2 | C34: Cy5,5 | D34: X | E34: 400 | F34: 420 | G34: 450 | H34: BHQ2 | I34: HPLC | J34: 10 Business Days
B35: Cy3 - BHQ2 | C35: Cy3 | D35: X | E35: 400 | F35: 420 | G35: 450 | H35: BHQ2 | I35: HPLC | J35: 3 Business Days
B36: Cy3.5 - BHQ2 | C36: Cy3.5 | D36: X | E36: 400 | F36: 420 | G36: 450 | H36: BHQ2 | I36: HPLC | J36: 10 Business Days
B37: FAM - FQFQ | C37: FAM | D37: X | E37: 200 | F37: 220 | G37: 250 | H37: Internal Quencher | I37: HPLC | J37: 3 Business Days
B38: HEX - FQFQ | C38: HEX | D38: X | E38: 200 | F38: 220 | G38: 250 | H38: Internal Quencher | I38: HPLC | J38: 3 Business Days
B39: FAM - MGB | C39: FAM | D39: X | E39: 150 | F39: 180 | G39: 200 | H39: MGB | I39: HPLC | J39: 3 Business Days
B40: HEX - MGB | C40: HEX | D40: X | E40: 150 | F40: 180 | G40: 200 | H40: MGB | I40: HPLC | J40: 3 Business Days
B41: Tamra - BHQ | C41: TAMRA | D41: X | E41: 180 | F41: 220 | G41: 250 | H41: BHQ1 | I41: HPLC | J41: 3 Business Days
... B48: HEX - Tamra | C48: HEX | D48: X | E48: 120 | F48: 150 | G48: 180 | H48: Tamra | I48: HPLC | J48: 3 Business Days
B49: VIC - BHQ | C49: VIC | D49: X | E49: 130 | F49: 160 | G49: 190 | H49: BHQ1 | I49: HPLC
B50: Product Name | C50: 5' Modification | D50: Synthesis Scale | H50: 3' Modification | I50: Purification | J50: Delivery Time
D51: 25 nmol | E51: 50 nmol | F51: 100 nmol | G51: 200 nmol
...

Sheet PrimerPrices
A1: Scale | B1: Purification | C1: Price per nt | D1: Combo
A2: 50 nmol | B2: DESALT | C2: 0.25 | D2: =TRIM(A2) & "|" & TRIM(B2) -> 50 nmol|DESALT
A3: 100 nmol | B3: DESALT | C3: 0.3 | D3: =TRIM(A3) & "|" & TRIM(B3) -> 100 nmol|DESALT
A4: 200 nmol | B4: DESALT | C4: 0.4 | D4: =TRIM(A4) & "|" & TRIM(B4) -> 200 nmol|DESALT
A5: 50 nmol | B5: HPLC | C5: 0.35 | D5: =TRIM(A5) & "|" & TRIM(B5) -> 50 nmol|HPLC
A6: 100 nmol | B6: HPLC | C6: 0.4 | D6: =TRIM(A6) & "|" & TRIM(B6) -> 100 nmol|HPLC
A7: 200 nmol | B7: HPLC | C7: 0.5 | D7: =TRIM(A7) & "|" & TRIM(B7) -> 200 nmol|HPLC
A8: 50 nmol | B8: RPC | C8: 0.3 | D8: =TRIM(A8) & "|" & TRIM(B8) -> 50 nmol|RPC
A9: 100 nmol | B9: RPC | C9: 0.35 | D9: =TRIM(A9) & "|" & TRIM(B9) -> 100 nmol|RPC
A10: 200 nmol | B10: RPC | C10: 0.45 | D10: =TRIM(A10) & "|" & TRIM(B10) -> 200 nmol|RPC
A11: 50 nmol | B11: OPC | C11: 0.3 | D11: =TRIM(A11) & "|" & TRIM(B11) -> 50 nmol|OPC
A12: 100 nmol | B12: OPC | C12: 0.35 | D12: =TRIM(A12) & "|" & TRIM(B12) -> 100 nmol|OPC
A13: 200 nmol | B13: OPC | C13: 0.45 | D13: =TRIM(A13) & "|" & TRIM(B13) -> 200 nmol|OPC

Sheet ProbePrices
A1: Modification | B1: Scale | C1: Purification | D1: Flat Price | E1: New
A2: 5' FAM | B2: 50 nmol | C2: HPLC | D2: 60 | E2: =TRIM(A2) & "|" & TRIM(B2) & "|" & TRIM(C2) -> 5' FAM|50 nmol|HPLC
A3: 5' FAM | B3: 100 nmol | C3: HPLC | D3: 80 | E3: =TRIM(A3) & "|" & TRIM(B3) & "|" & TRIM(C3) -> 5' FAM|100 nmol|HPLC
A4: 5' FAM | B4: 200 nmol | C4: HPLC | D4: 100 | E4: =TRIM(A4) & "|" & TRIM(B4) & "|" & TRIM(C4) -> 5' FAM|200 nmol|HPLC
A5: 5' HEX | B5: 50 nmol | C5: HPLC | D5: 60 | E5: =TRIM(A5) & "|" & TRIM(B5) & "|" & TRIM(C5) -> 5' HEX|50 nmol|HPLC
A6: 5' HEX | B6: 100 nmol | C6: HPLC | D6: 80 | E6: =TRIM(A6) & "|" & TRIM(B6) & "|" & TRIM(C6) -> 5' HEX|100 nmol|HPLC
A7: 5' HEX | B7: 200 nmol | C7: HPLC | D7: 100 | E7: =TRIM(A7) & "|" & TRIM(B7) & "|" & TRIM(C7) -> 5' HEX|200 nmol|HPLC
A8: 5' ROX | B8: 50 nmol | C8: HPLC | D8: 80 | E8: =TRIM(A8) & "|" & TRIM(B8) & "|" & TRIM(C8) -> 5' ROX|50 nmol|HPLC
A9: 5' ROX | B9: 100 nmol | C9: HPLC | D9: 100 | E9: =TRIM(A9) & "|" & TRIM(B9) & "|" & TRIM(C9) -> 5' ROX|100 nmol|HPLC
A10: 5' ROX | B10: 200 nmol | C10: HPLC | D10: 120 | E10: =TRIM(A10) & "|" & TRIM(B10) & "|" & TRIM(C10) -> 5' ROX|200 nmol|HPLC
A11: 5' Cy5 | B11: 50 nmol | C11: HPLC | D11: 80 | E11: =TRIM(A11) & "|" & TRIM(B11) & "|" & TRIM(C11) -> 5' Cy5|50 nmol|HPLC
A12: 5' Cy5 | B12: 100 nmol | C12: HPLC | D12: 100 | E12: =TRIM(A12) & "|" & TRIM(B12) & "|" & TRIM(C12) -> 5' Cy5|100 nmol|HPLC
A13: 5' Cy5 | B13: 200 nmol | C13: HPLC | D13: 120 | E13: =TRIM(A13) & "|" & TRIM(B13) & "|" & TRIM(C13) -> 5' Cy5|200 nmol|HPLC
... A131: Internal Spacer C3 | B131: 200 nmol | C131: HPLC | D131: 90 | E131: =TRIM(A131) & "|" & TRIM(B131) & "|" & TRIM(C131) -> Internal Spacer C3|200 nmol|HPLC

Sheet DropdownSources
A1: Modifications | B1: Scales | C1: Purifications
A2: 5' FAM | B2: 50 nmol | C2: DESALT
A3: 5' HEX | B3: 100 nmol | C3: HPLC
A4: 5' ROX | B4: 200 nmol | C4: RPC
A5: 5' Cy5 | C5: OPC
A6: 5' FAM - BHQ1 3'
A7: 5' HEX - BHQ1 3'
A8: 5' ROX - BHQ2 3'
A9: 5' Cy5 - BHQ2 3'
A10: 5' FAM - FQFQ 3'
A11: 5' HEX - FQFQ 3'
A12: 5' FAM - MGB 3'
A13: 5' HEX - MGB 3'
A14: 5' Tamra - BHQ1 3'
A15: 5' Cy5.5
A16: 5' Cy3
A17: 5' Cy3.5
... A45: Internal Spacer C3
