Workbook

Sheet OrderForm
C1: ORDER FORM | G1: ProbeSynthesis Biyoteknoloji Inc.
G2: Prof. Dr. Ahmet Taner Kışlalı 2768th Street No. 35
G3: 06810 Çankaya, Ankara, Turkey
G4: Doğanbey/7331140712
G5: www.probesynthesis.com
G6: info@probesynthesis.com
G7: 0535 050 5158
G8: 0532 054 2045
B10: INVOICE INFORMATION | F10: CONTACT INFORMATION
B11: ORDER DATE: | F11: FULL NAME:
B12: FULL NAME: | F12: SHIPPING ADDRESS:
B13: INSTITUTION / ORGANIZATION: | F13: EMAIL ADDRESS:
B14: BILLING ADDRESS: | F14: PHONE 1:
B15: PROJECT NUMBER: | F15: PHONE 2:
B16: TAX OFFICE:
B17: TAX ID / PERSONAL ID NUMBER: | F17: PLEASE ENSURE YOUR SHIPPING INFORMATION IS COMPLETE. OUR DELIVERY TIME IS 3–5 BUSINESS DAYS!
A18: NOTE | B18: WHEN ENTERING OLIGONUCLEOTIDE SEQUENCES: | F18: - Please make sure your order information is entered correctly to ensure accurate processing of your order. - For primer orders, leave the “5' - 3' Modification” field blank to ensure correct calculation. - For probe orders, please select HPLC Purification. | I18: Total Number of Orders | J18: =COUNTA(C24:C323) -> 0
B19: ENTER YOUR SEQUENCE IN THE SEQUENCE CELL IN 5' → 3' ORIENTATION ONLY. | I19: Total Number of Bases | J19: =SUM(G24:G323) -> 0
B20: DO NOT USE LOWERCASE LETTERS AND DO NOT LEAVE SPACES IN THE SEQUENCE CELL. | I20: Total Number of Primers | J20: =COUNTIFS(C24:C323, "<>", D24:D323, "=") -> 0
B21: INDICATE ANY LNA (+G), PHOSPHOROTHIOATE (*G), INOSINE, OR DEGENERATE BASES IN YOUR SEQUENCE. | I21: Total Number of Probes | J21: =COUNTIFS(C24:C323, "<>", D24:D323, "<>") -> 0
B22: FOR ALL SEQUENCES, DO NOT FORGET TO SELECT SCALE, PURIFICATION, AND MODIFICATION (IF APPLICABLE). | I22: Total Price | J22: =SUM(H24:H323) -> 0
A23: No | B23: Oligo Name | C23: Oligo Sequence 5' --> 3' | D23: 5' - 3' Modification | E23: Scale (nmol) | F23: Purification | G23: Length (bp) | H23: Price (€) | I23: Degenerate | J23: Note
A24: 1 | G24: =IF(C24="", "", LEN(C24)) | H24: {=IF( ISBLANK(D24), IF( ISBLANK(C24), "", G24 * INDEX(PrimerPrices!$C$2:$C$500, MATCH(TRIM(E24) & "|" & TRIM(F24), PrimerPrices!$D$2:$D$500, 0)) ), INDEX(ProbePrices!$D$2:$D$500, MATCH(TRIM(D24) & "|" & TRIM(E24) & "|" & TRIM(F24), ProbePrices!$E$2:$E$500, 0)) )} | I24: =IFERROR(__xludf.DUMMYFUNCTION("IF( C24="""", """", LEN(C24) - LEN(REGEXREPLACE(UPPER(C24), ""[^AGTC]"", """")) ) "),"")
A25: 2 | G25: =IF(C25="", "", LEN(C25)) | H25: {=IF( ISBLANK(D25), IF( ISBLANK(C25), "", G25 * INDEX(PrimerPrices!$C$2:$C$500, MATCH(TRIM(E25) & "|" & TRIM(F25), PrimerPrices!$D$2:$D$500, 0)) ), INDEX(ProbePrices!$D$2:$D$500, MATCH(TRIM(D25) & "|" & TRIM(E25) & "|" & TRIM(F25), ProbePrices!$E$2:$E$500, 0)) )} | I25: =IFERROR(__xludf.DUMMYFUNCTION("IF( C25="""", """", LEN(C25) - LEN(REGEXREPLACE(UPPER(C25), ""[^AGTC]"", """")) ) "),"")
A26: 3 | G26: =IF(C26="", "", LEN(C26)) | H26: {=IF( ISBLANK(D26), IF( ISBLANK(C26), "", G26 * INDEX(PrimerPrices!$C$2:$C$500, MATCH(TRIM(E26) & "|" & TRIM(F26), PrimerPrices!$D$2:$D$500, 0)) ), INDEX(ProbePrices!$D$2:$D$500, MATCH(TRIM(D26) & "|" & TRIM(E26) & "|" & TRIM(F26), ProbePrices!$E$2:$E$500, 0)) )} | I26: =IFERROR(__xludf.DUMMYFUNCTION("IF( C26="""", """", LEN(C26) - LEN(REGEXREPLACE(UPPER(C26), ""[^AGTC]"", """")) ) "),"")
A27: 4 | G27: =IF(C27="", "", LEN(C27)) | H27: {=IF( ISBLANK(D27), IF( ISBLANK(C27), "", G27 * INDEX(PrimerPrices!$C$2:$C$500, MATCH(TRIM(E27) & "|" & TRIM(F27), PrimerPrices!$D$2:$D$500, 0)) ), INDEX(ProbePrices!$D$2:$D$500, MATCH(TRIM(D27) & "|" & TRIM(E27) & "|" & TRIM(F27), ProbePrices!$E$2:$E$500, 0)) )} | I27: =IFERROR(__xludf.DUMMYFUNCTION("IF( C27="""", """", LEN(C27) - LEN(REGEXREPLACE(UPPER(C27), ""[^AGTC]"", """")) ) "),"")
A28: 5 | G28: =IF(C28="", "", LEN(C28)) | H28: {=IF( ISBLANK(D28), IF( ISBLANK(C28), "", G28 * INDEX(PrimerPrices!$C$2:$C$500, MATCH(TRIM(E28) & "|" & TRIM(F28), PrimerPrices!$D$2:$D$500, 0)) ), INDEX(ProbePrices!$D$2:$D$500, MATCH(TRIM(D28) & "|" & TRIM(E28) & "|" & TRIM(F28), ProbePrices!$E$2:$E$500, 0)) )} | I28: =IFERROR(__xludf.DUMMYFUNCTION("IF( C28="""", """", LEN(C28) - LEN(REGEXREPLACE(UPPER(C28), ""[^AGTC]"", """")) ) "),"")
A29: 6 | G29: =IF(C29="", "", LEN(C29)) | H29: {=IF( ISBLANK(D29), IF( ISBLANK(C29), "", G29 * INDEX(PrimerPrices!$C$2:$C$500, MATCH(TRIM(E29) & "|" & TRIM(F29), PrimerPrices!$D$2:$D$500, 0)) ), INDEX(ProbePrices!$D$2:$D$500, MATCH(TRIM(D29) & "|" & TRIM(E29) & "|" & TRIM(F29), ProbePrices!$E$2:$E$500, 0)) )} | I29: =IFERROR(__xludf.DUMMYFUNCTION("IF( C29="""", """", LEN(C29) - LEN(REGEXREPLACE(UPPER(C29), ""[^AGTC]"", """")) ) "),"")
A30: 7 | G30: =IF(C30="", "", LEN(C30)) | H30: {=IF( ISBLANK(D30), IF( ISBLANK(C30), "", G30 * INDEX(PrimerPrices!$C$2:$C$500, MATCH(TRIM(E30) & "|" & TRIM(F30), PrimerPrices!$D$2:$D$500, 0)) ), INDEX(ProbePrices!$D$2:$D$500, MATCH(TRIM(D30) & "|" & TRIM(E30) & "|" & TRIM(F30), ProbePrices!$E$2:$E$500, 0)) )} | I30: =IFERROR(__xludf.DUMMYFUNCTION("IF( C30="""", """", LEN(C30) - LEN(REGEXREPLACE(UPPER(C30), ""[^AGTC]"", """")) ) "),"")
A31: 8 | G31: =IF(C31="", "", LEN(C31)) | H31: {=IF( ISBLANK(D31), IF( ISBLANK(C31), "", G31 * INDEX(PrimerPrices!$C$2:$C$500, MATCH(TRIM(E31) & "|" & TRIM(F31), PrimerPrices!$D$2:$D$500, 0)) ), INDEX(ProbePrices!$D$2:$D$500, MATCH(TRIM(D31) & "|" & TRIM(E31) & "|" & TRIM(F31), ProbePrices!$E$2:$E$500, 0)) )} | I31: =IFERROR(__xludf.DUMMYFUNCTION("IF( C31="""", """", LEN(C31) - LEN(REGEXREPLACE(UPPER(C31), ""[^AGTC]"", """")) ) "),"")
A32: 9 | G32: =IF(C32="", "", LEN(C32)) | H32: {=IF( ISBLANK(D32), IF( ISBLANK(C32), "", G32 * INDEX(PrimerPrices!$C$2:$C$500, MATCH(TRIM(E32) & "|" & TRIM(F32), PrimerPrices!$D$2:$D$500, 0)) ), INDEX(ProbePrices!$D$2:$D$500, MATCH(TRIM(D32) & "|" & TRIM(E32) & "|" & TRIM(F32), ProbePrices!$E$2:$E$500, 0)) )} | I32: =IFERROR(__xludf.DUMMYFUNCTION("IF( C32="""", """", LEN(C32) - LEN(REGEXREPLACE(UPPER(C32), ""[^AGTC]"", """")) ) "),"")
A33: 10 | G33: =IF(C33="", "", LEN(C33)) | H33: {=IF( ISBLANK(D33), IF( ISBLANK(C33), "", G33 * INDEX(PrimerPrices!$C$2:$C$500, MATCH(TRIM(E33) & "|" & TRIM(F33), PrimerPrices!$D$2:$D$500, 0)) ), INDEX(ProbePrices!$D$2:$D$500, MATCH(TRIM(D33) & "|" & TRIM(E33) & "|" & TRIM(F33), ProbePrices!$E$2:$E$500, 0)) )} | I33: =IFERROR(__xludf.DUMMYFUNCTION("IF( C33="""", """", LEN(C33) - LEN(REGEXREPLACE(UPPER(C33), ""[^AGTC]"", """")) ) "),"")
A34: 11 | G34: =IF(C34="", "", LEN(C34)) | H34: {=IF( ISBLANK(D34), IF( ISBLANK(C34), "", G34 * INDEX(PrimerPrices!$C$2:$C$500, MATCH(TRIM(E34) & "|" & TRIM(F34), PrimerPrices!$D$2:$D$500, 0)) ), INDEX(ProbePrices!$D$2:$D$500, MATCH(TRIM(D34) & "|" & TRIM(E34) & "|" & TRIM(F34), ProbePrices!$E$2:$E$500, 0)) )} | I34: =IFERROR(__xludf.DUMMYFUNCTION("IF( C34="""", """", LEN(C34) - LEN(REGEXREPLACE(UPPER(C34), ""[^AGTC]"", """")) ) "),"")
A35: 12 | G35: =IF(C35="", "", LEN(C35)) | H35: {=IF( ISBLANK(D35), IF( ISBLANK(C35), "", G35 * INDEX(PrimerPrices!$C$2:$C$500, MATCH(TRIM(E35) & "|" & TRIM(F35), PrimerPrices!$D$2:$D$500, 0)) ), INDEX(ProbePrices!$D$2:$D$500, MATCH(TRIM(D35) & "|" & TRIM(E35) & "|" & TRIM(F35), ProbePrices!$E$2:$E$500, 0)) )} | I35: =IFERROR(__xludf.DUMMYFUNCTION("IF( C35="""", """", LEN(C35) - LEN(REGEXREPLACE(UPPER(C35), ""[^AGTC]"", """")) ) "),"")
A36: 13 | G36: =IF(C36="", "", LEN(C36)) | H36: {=IF( ISBLANK(D36), IF( ISBLANK(C36), "", G36 * INDEX(PrimerPrices!$C$2:$C$500, MATCH(TRIM(E36) & "|" & TRIM(F36), PrimerPrices!$D$2:$D$500, 0)) ), INDEX(ProbePrices!$D$2:$D$500, MATCH(TRIM(D36) & "|" & TRIM(E36) & "|" & TRIM(F36), ProbePrices!$E$2:$E$500, 0)) )} | I36: =IFERROR(__xludf.DUMMYFUNCTION("IF( C36="""", """", LEN(C36) - LEN(REGEXREPLACE(UPPER(C36), ""[^AGTC]"", """")) ) "),"")
A37: 14 | G37: =IF(C37="", "", LEN(C37)) | H37: {=IF( ISBLANK(D37), IF( ISBLANK(C37), "", G37 * INDEX(PrimerPrices!$C$2:$C$500, MATCH(TRIM(E37) & "|" & TRIM(F37), PrimerPrices!$D$2:$D$500, 0)) ), INDEX(ProbePrices!$D$2:$D$500, MATCH(TRIM(D37) & "|" & TRIM(E37) & "|" & TRIM(F37), ProbePrices!$E$2:$E$500, 0)) )} | I37: =IFERROR(__xludf.DUMMYFUNCTION("IF( C37="""", """", LEN(C37) - LEN(REGEXREPLACE(UPPER(C37), ""[^AGTC]"", """")) ) "),"")
A38: 15 | G38: =IF(C38="", "", LEN(C38)) | H38: {=IF( ISBLANK(D38), IF( ISBLANK(C38), "", G38 * INDEX(PrimerPrices!$C$2:$C$500, MATCH(TRIM(E38) & "|" & TRIM(F38), PrimerPrices!$D$2:$D$500, 0)) ), INDEX(ProbePrices!$D$2:$D$500, MATCH(TRIM(D38) & "|" & TRIM(E38) & "|" & TRIM(F38), ProbePrices!$E$2:$E$500, 0)) )} | I38: =IFERROR(__xludf.DUMMYFUNCTION("IF( C38="""", """", LEN(C38) - LEN(REGEXREPLACE(UPPER(C38), ""[^AGTC]"", """")) ) "),"")
A39: 16 | G39: =IF(C39="", "", LEN(C39)) | H39: {=IF( ISBLANK(D39), IF( ISBLANK(C39), "", G39 * INDEX(PrimerPrices!$C$2:$C$500, MATCH(TRIM(E39) & "|" & TRIM(F39), PrimerPrices!$D$2:$D$500, 0)) ), INDEX(ProbePrices!$D$2:$D$500, MATCH(TRIM(D39) & "|" & TRIM(E39) & "|" & TRIM(F39), ProbePrices!$E$2:$E$500, 0)) )} | I39: =IFERROR(__xludf.DUMMYFUNCTION("IF( C39="""", """", LEN(C39) - LEN(REGEXREPLACE(UPPER(C39), ""[^AGTC]"", """")) ) "),"")
A40: 17 | G40: =IF(C40="", "", LEN(C40)) | H40: {=IF( ISBLANK(D40), IF( ISBLANK(C40), "", G40 * INDEX(PrimerPrices!$C$2:$C$500, MATCH(TRIM(E40) & "|" & TRIM(F40), PrimerPrices!$D$2:$D$500, 0)) ), INDEX(ProbePrices!$D$2:$D$500, MATCH(TRIM(D40) & "|" & TRIM(E40) & "|" & TRIM(F40), ProbePrices!$E$2:$E$500, 0)) )} | I40: =IFERROR(__xludf.DUMMYFUNCTION("IF( C40="""", """", LEN(C40) - LEN(REGEXREPLACE(UPPER(C40), ""[^AGTC]"", """")) ) "),"")
A41: 18 | G41: =IF(C41="", "", LEN(C41)) | H41: {=IF( ISBLANK(D41), IF( ISBLANK(C41), "", G41 * INDEX(PrimerPrices!$C$2:$C$500, MATCH(TRIM(E41) & "|" & TRIM(F41), PrimerPrices!$D$2:$D$500, 0)) ), INDEX(ProbePrices!$D$2:$D$500, MATCH(TRIM(D41) & "|" & TRIM(E41) & "|" & TRIM(F41), ProbePrices!$E$2:$E$500, 0)) )} | I41: =IFERROR(__xludf.DUMMYFUNCTION("IF( C41="""", """", LEN(C41) - LEN(REGEXREPLACE(UPPER(C41), ""[^AGTC]"", """")) ) "),"")
A42: 19 | G42: =IF(C42="", "", LEN(C42)) | H42: {=IF( ISBLANK(D42), IF( ISBLANK(C42), "", G42 * INDEX(PrimerPrices!$C$2:$C$500, MATCH(TRIM(E42) & "|" & TRIM(F42), PrimerPrices!$D$2:$D$500, 0)) ), INDEX(ProbePrices!$D$2:$D$500, MATCH(TRIM(D42) & "|" & TRIM(E42) & "|" & TRIM(F42), ProbePrices!$E$2:$E$500, 0)) )} | I42: =IFERROR(__xludf.DUMMYFUNCTION("IF( C42="""", """", LEN(C42) - LEN(REGEXREPLACE(UPPER(C42), ""[^AGTC]"", """")) ) "),"")
A43: 20 | G43: =IF(C43="", "", LEN(C43)) | H43: {=IF( ISBLANK(D43), IF( ISBLANK(C43), "", G43 * INDEX(PrimerPrices!$C$2:$C$500, MATCH(TRIM(E43) & "|" & TRIM(F43), PrimerPrices!$D$2:$D$500, 0)) ), INDEX(ProbePrices!$D$2:$D$500, MATCH(TRIM(D43) & "|" & TRIM(E43) & "|" & TRIM(F43), ProbePrices!$E$2:$E$500, 0)) )} | I43: =IFERROR(__xludf.DUMMYFUNCTION("IF( C43="""", """", LEN(C43) - LEN(REGEXREPLACE(UPPER(C43), ""[^AGTC]"", """")) ) "),"")
A44: 21 | G44: =IF(C44="", "", LEN(C44)) | H44: {=IF( ISBLANK(D44), IF( ISBLANK(C44), "", G44 * INDEX(PrimerPrices!$C$2:$C$500, MATCH(TRIM(E44) & "|" & TRIM(F44), PrimerPrices!$D$2:$D$500, 0)) ), INDEX(ProbePrices!$D$2:$D$500, MATCH(TRIM(D44) & "|" & TRIM(E44) & "|" & TRIM(F44), ProbePrices!$E$2:$E$500, 0)) )} | I44: =IFERROR(__xludf.DUMMYFUNCTION("IF( C44="""", """", LEN(C44) - LEN(REGEXREPLACE(UPPER(C44), ""[^AGTC]"", """")) ) "),"")
A45: 22 | G45: =IF(C45="", "", LEN(C45)) | H45: {=IF( ISBLANK(D45), IF( ISBLANK(C45), "", G45 * INDEX(PrimerPrices!$C$2:$C$500, MATCH(TRIM(E45) & "|" & TRIM(F45), PrimerPrices!$D$2:$D$500, 0)) ), INDEX(ProbePrices!$D$2:$D$500, MATCH(TRIM(D45) & "|" & TRIM(E45) & "|" & TRIM(F45), ProbePrices!$E$2:$E$500, 0)) )} | I45: =IFERROR(__xludf.DUMMYFUNCTION("IF( C45="""", """", LEN(C45) - LEN(REGEXREPLACE(UPPER(C45), ""[^AGTC]"", """")) ) "),"")
A46: 23 | G46: =IF(C46="", "", LEN(C46)) | H46: {=IF( ISBLANK(D46), IF( ISBLANK(C46), "", G46 * INDEX(PrimerPrices!$C$2:$C$500, MATCH(TRIM(E46) & "|" & TRIM(F46), PrimerPrices!$D$2:$D$500, 0)) ), INDEX(ProbePrices!$D$2:$D$500, MATCH(TRIM(D46) & "|" & TRIM(E46) & "|" & TRIM(F46), ProbePrices!$E$2:$E$500, 0)) )} | I46: =IFERROR(__xludf.DUMMYFUNCTION("IF( C46="""", """", LEN(C46) - LEN(REGEXREPLACE(UPPER(C46), ""[^AGTC]"", """")) ) "),"")
A47: 24 | G47: =IF(C47="", "", LEN(C47)) | H47: {=IF( ISBLANK(D47), IF( ISBLANK(C47), "", G47 * INDEX(PrimerPrices!$C$2:$C$500, MATCH(TRIM(E47) & "|" & TRIM(F47), PrimerPrices!$D$2:$D$500, 0)) ), INDEX(ProbePrices!$D$2:$D$500, MATCH(TRIM(D47) & "|" & TRIM(E47) & "|" & TRIM(F47), ProbePrices!$E$2:$E$500, 0)) )} | I47: =IFERROR(__xludf.DUMMYFUNCTION("IF( C47="""", """", LEN(C47) - LEN(REGEXREPLACE(UPPER(C47), ""[^AGTC]"", """")) ) "),"")
A48: 25 | H48: {=IF( ISBLANK(D48), IF( ISBLANK(C48), "", G48 * INDEX(PrimerPrices!$C$2:$C$500, MATCH(TRIM(E48) & "|" & TRIM(F48), PrimerPrices!$D$2:$D$500, 0)) ), INDEX(ProbePrices!$D$2:$D$500, MATCH(TRIM(D48) & "|" & TRIM(E48) & "|" & TRIM(F48), ProbePrices!$E$2:$E$500, 0)) )} | I48: =IFERROR(__xludf.DUMMYFUNCTION("IF( C48="""", """", LEN(C48) - LEN(REGEXREPLACE(UPPER(C48), ""[^AGTC]"", """")) ) "),"")
A49: 26 | G49: =IF(C49="", "", LEN(C49)) | H49: {=IF( ISBLANK(D49), IF( ISBLANK(C49), "", G49 * INDEX(PrimerPrices!$C$2:$C$500, MATCH(TRIM(E49) & "|" & TRIM(F49), PrimerPrices!$D$2:$D$500, 0)) ), INDEX(ProbePrices!$D$2:$D$500, MATCH(TRIM(D49) & "|" & TRIM(E49) & "|" & TRIM(F49), ProbePrices!$E$2:$E$500, 0)) )} | I49: =IFERROR(__xludf.DUMMYFUNCTION("IF( C49="""", """", LEN(C49) - LEN(REGEXREPLACE(UPPER(C49), ""[^AGTC]"", """")) ) "),"")
A50: 27 | G50: =IF(C50="", "", LEN(C50)) | H50: {=IF( ISBLANK(D50), IF( ISBLANK(C50), "", G50 * INDEX(PrimerPrices!$C$2:$C$500, MATCH(TRIM(E50) & "|" & TRIM(F50), PrimerPrices!$D$2:$D$500, 0)) ), INDEX(ProbePrices!$D$2:$D$500, MATCH(TRIM(D50) & "|" & TRIM(E50) & "|" & TRIM(F50), ProbePrices!$E$2:$E$500, 0)) )} | I50: =IFERROR(__xludf.DUMMYFUNCTION("IF( C50="""", """", LEN(C50) - LEN(REGEXREPLACE(UPPER(C50), ""[^AGTC]"", """")) ) "),"")
A51: 28 | G51: =IF(C51="", "", LEN(C51)) | H51: {=IF( ISBLANK(D51), IF( ISBLANK(C51), "", G51 * INDEX(PrimerPrices!$C$2:$C$500, MATCH(TRIM(E51) & "|" & TRIM(F51), PrimerPrices!$D$2:$D$500, 0)) ), INDEX(ProbePrices!$D$2:$D$500, MATCH(TRIM(D51) & "|" & TRIM(E51) & "|" & TRIM(F51), ProbePrices!$E$2:$E$500, 0)) )} | I51: =IFERROR(__xludf.DUMMYFUNCTION("IF( C51="""", """", LEN(C51) - LEN(REGEXREPLACE(UPPER(C51), ""[^AGTC]"", """")) ) "),"")
A52: 29 | G52: =IF(C52="", "", LEN(C52)) | H52: {=IF( ISBLANK(D52), IF( ISBLANK(C52), "", G52 * INDEX(PrimerPrices!$C$2:$C$500, MATCH(TRIM(E52) & "|" & TRIM(F52), PrimerPrices!$D$2:$D$500, 0)) ), INDEX(ProbePrices!$D$2:$D$500, MATCH(TRIM(D52) & "|" & TRIM(E52) & "|" & TRIM(F52), ProbePrices!$E$2:$E$500, 0)) )} | I52: =IFERROR(__xludf.DUMMYFUNCTION("IF( C52="""", """", LEN(C52) - LEN(REGEXREPLACE(UPPER(C52), ""[^AGTC]"", """")) ) "),"")
A53: 30 | G53: =IF(C53="", "", LEN(C53)) | H53: {=IF( ISBLANK(D53), IF( ISBLANK(C53), "", G53 * INDEX(PrimerPrices!$C$2:$C$500, MATCH(TRIM(E53) & "|" & TRIM(F53), PrimerPrices!$D$2:$D$500, 0)) ), INDEX(ProbePrices!$D$2:$D$500, MATCH(TRIM(D53) & "|" & TRIM(E53) & "|" & TRIM(F53), ProbePrices!$E$2:$E$500, 0)) )} | I53: =IFERROR(__xludf.DUMMYFUNCTION("IF( C53="""", """", LEN(C53) - LEN(REGEXREPLACE(UPPER(C53), ""[^AGTC]"", """")) ) "),"")
A54: 31 | G54: =IF(C54="", "", LEN(C54)) | H54: {=IF( ISBLANK(D54), IF( ISBLANK(C54), "", G54 * INDEX(PrimerPrices!$C$2:$C$500, MATCH(TRIM(E54) & "|" & TRIM(F54), PrimerPrices!$D$2:$D$500, 0)) ), INDEX(ProbePrices!$D$2:$D$500, MATCH(TRIM(D54) & "|" & TRIM(E54) & "|" & TRIM(F54), ProbePrices!$E$2:$E$500, 0)) )} | I54: =IFERROR(__xludf.DUMMYFUNCTION("IF( C54="""", """", LEN(C54) - LEN(REGEXREPLACE(UPPER(C54), ""[^AGTC]"", """")) ) "),"")
A55: 32 | G55: =IF(C55="", "", LEN(C55)) | H55: {=IF( ISBLANK(D55), IF( ISBLANK(C55), "", G55 * INDEX(PrimerPrices!$C$2:$C$500, MATCH(TRIM(E55) & "|" & TRIM(F55), PrimerPrices!$D$2:$D$500, 0)) ), INDEX(ProbePrices!$D$2:$D$500, MATCH(TRIM(D55) & "|" & TRIM(E55) & "|" & TRIM(F55), ProbePrices!$E$2:$E$500, 0)) )} | I55: =IFERROR(__xludf.DUMMYFUNCTION("IF( C55="""", """", LEN(C55) - LEN(REGEXREPLACE(UPPER(C55), ""[^AGTC]"", """")) ) "),"")
A56: 33 | G56: =IF(C56="", "", LEN(C56)) | H56: {=IF( ISBLANK(D56), IF( ISBLANK(C56), "", G56 * INDEX(PrimerPrices!$C$2:$C$500, MATCH(TRIM(E56) & "|" & TRIM(F56), PrimerPrices!$D$2:$D$500, 0)) ), INDEX(ProbePrices!$D$2:$D$500, MATCH(TRIM(D56) & "|" & TRIM(E56) & "|" & TRIM(F56), ProbePrices!$E$2:$E$500, 0)) )} | I56: =IFERROR(__xludf.DUMMYFUNCTION("IF( C56="""", """", LEN(C56) - LEN(REGEXREPLACE(UPPER(C56), ""[^AGTC]"", """")) ) "),"")
A57: 34 | G57: =IF(C57="", "", LEN(C57)) | H57: {=IF( ISBLANK(D57), IF( ISBLANK(C57), "", G57 * INDEX(PrimerPrices!$C$2:$C$500, MATCH(TRIM(E57) & "|" & TRIM(F57), PrimerPrices!$D$2:$D$500, 0)) ), INDEX(ProbePrices!$D$2:$D$500, MATCH(TRIM(D57) & "|" & TRIM(E57) & "|" & TRIM(F57), ProbePrices!$E$2:$E$500, 0)) )} | I57: =IFERROR(__xludf.DUMMYFUNCTION("IF( C57="""", """", LEN(C57) - LEN(REGEXREPLACE(UPPER(C57), ""[^AGTC]"", """")) ) "),"")
A58: 35 | G58: =IF(C58="", "", LEN(C58)) | H58: {=IF( ISBLANK(D58), IF( ISBLANK(C58), "", G58 * INDEX(PrimerPrices!$C$2:$C$500, MATCH(TRIM(E58) & "|" & TRIM(F58), PrimerPrices!$D$2:$D$500, 0)) ), INDEX(ProbePrices!$D$2:$D$500, MATCH(TRIM(D58) & "|" & TRIM(E58) & "|" & TRIM(F58), ProbePrices!$E$2:$E$500, 0)) )} | I58: =IFERROR(__xludf.DUMMYFUNCTION("IF( C58="""", """", LEN(C58) - LEN(REGEXREPLACE(UPPER(C58), ""[^AGTC]"", """")) ) "),"")
A59: 36 | G59: =IF(C59="", "", LEN(C59)) | H59: {=IF( ISBLANK(D59), IF( ISBLANK(C59), "", G59 * INDEX(PrimerPrices!$C$2:$C$500, MATCH(TRIM(E59) & "|" & TRIM(F59), PrimerPrices!$D$2:$D$500, 0)) ), INDEX(ProbePrices!$D$2:$D$500, MATCH(TRIM(D59) & "|" & TRIM(E59) & "|" & TRIM(F59), ProbePrices!$E$2:$E$500, 0)) )} | I59: =IFERROR(__xludf.DUMMYFUNCTION("IF( C59="""", """", LEN(C59) - LEN(REGEXREPLACE(UPPER(C59), ""[^AGTC]"", """")) ) "),"")
A60: 37 | G60: =IF(C60="", "", LEN(C60)) | H60: {=IF( ISBLANK(D60), IF( ISBLANK(C60), "", G60 * INDEX(PrimerPrices!$C$2:$C$500, MATCH(TRIM(E60) & "|" & TRIM(F60), PrimerPrices!$D$2:$D$500, 0)) ), INDEX(ProbePrices!$D$2:$D$500, MATCH(TRIM(D60) & "|" & TRIM(E60) & "|" & TRIM(F60), ProbePrices!$E$2:$E$500, 0)) )} | I60: =IFERROR(__xludf.DUMMYFUNCTION("IF( C60="""", """", LEN(C60) - LEN(REGEXREPLACE(UPPER(C60), ""[^AGTC]"", """")) ) "),"")
A61: 38 | G61: =IF(C61="", "", LEN(C61)) | H61: {=IF( ISBLANK(D61), IF( ISBLANK(C61), "", G61 * INDEX(PrimerPrices!$C$2:$C$500, MATCH(TRIM(E61) & "|" & TRIM(F61), PrimerPrices!$D$2:$D$500, 0)) ), INDEX(ProbePrices!$D$2:$D$500, MATCH(TRIM(D61) & "|" & TRIM(E61) & "|" & TRIM(F61), ProbePrices!$E$2:$E$500, 0)) )} | I61: =IFERROR(__xludf.DUMMYFUNCTION("IF( C61="""", """", LEN(C61) - LEN(REGEXREPLACE(UPPER(C61), ""[^AGTC]"", """")) ) "),"")
A62: 39 | G62: =IF(C62="", "", LEN(C62)) | H62: {=IF( ISBLANK(D62), IF( ISBLANK(C62), "", G62 * INDEX(PrimerPrices!$C$2:$C$500, MATCH(TRIM(E62) & "|" & TRIM(F62), PrimerPrices!$D$2:$D$500, 0)) ), INDEX(ProbePrices!$D$2:$D$500, MATCH(TRIM(D62) & "|" & TRIM(E62) & "|" & TRIM(F62), ProbePrices!$E$2:$E$500, 0)) )} | I62: =IFERROR(__xludf.DUMMYFUNCTION("IF( C62="""", """", LEN(C62) - LEN(REGEXREPLACE(UPPER(C62), ""[^AGTC]"", """")) ) "),"")
A63: 40 | G63: =IF(C63="", "", LEN(C63)) | H63: {=IF( ISBLANK(D63), IF( ISBLANK(C63), "", G63 * INDEX(PrimerPrices!$C$2:$C$500, MATCH(TRIM(E63) & "|" & TRIM(F63), PrimerPrices!$D$2:$D$500, 0)) ), INDEX(ProbePrices!$D$2:$D$500, MATCH(TRIM(D63) & "|" & TRIM(E63) & "|" & TRIM(F63), ProbePrices!$E$2:$E$500, 0)) )} | I63: =IFERROR(__xludf.DUMMYFUNCTION("IF( C63="""", """", LEN(C63) - LEN(REGEXREPLACE(UPPER(C63), ""[^AGTC]"", """")) ) "),"")
A64: 41 | G64: =IF(C64="", "", LEN(C64)) | H64: {=IF( ISBLANK(D64), IF( ISBLANK(C64), "", G64 * INDEX(PrimerPrices!$C$2:$C$500, MATCH(TRIM(E64) & "|" & TRIM(F64), PrimerPrices!$D$2:$D$500, 0)) ), INDEX(ProbePrices!$D$2:$D$500, MATCH(TRIM(D64) & "|" & TRIM(E64) & "|" & TRIM(F64), ProbePrices!$E$2:$E$500, 0)) )} | I64: =IFERROR(__xludf.DUMMYFUNCTION("IF( C64="""", """", LEN(C64) - LEN(REGEXREPLACE(UPPER(C64), ""[^AGTC]"", """")) ) "),"")
A65: 42 | G65: =IF(C65="", "", LEN(C65)) | H65: {=IF( ISBLANK(D65), IF( ISBLANK(C65), "", G65 * INDEX(PrimerPrices!$C$2:$C$500, MATCH(TRIM(E65) & "|" & TRIM(F65), PrimerPrices!$D$2:$D$500, 0)) ), INDEX(ProbePrices!$D$2:$D$500, MATCH(TRIM(D65) & "|" & TRIM(E65) & "|" & TRIM(F65), ProbePrices!$E$2:$E$500, 0)) )} | I65: =IFERROR(__xludf.DUMMYFUNCTION("IF( C65="""", """", LEN(C65) - LEN(REGEXREPLACE(UPPER(C65), ""[^AGTC]"", """")) ) "),"")
A66: 43 | G66: =IF(C66="", "", LEN(C66)) | H66: {=IF( ISBLANK(D66), IF( ISBLANK(C66), "", G66 * INDEX(PrimerPrices!$C$2:$C$500, MATCH(TRIM(E66) & "|" & TRIM(F66), PrimerPrices!$D$2:$D$500, 0)) ), INDEX(ProbePrices!$D$2:$D$500, MATCH(TRIM(D66) & "|" & TRIM(E66) & "|" & TRIM(F66), ProbePrices!$E$2:$E$500, 0)) )} | I66: =IFERROR(__xludf.DUMMYFUNCTION("IF( C66="""", """", LEN(C66) - LEN(REGEXREPLACE(UPPER(C66), ""[^AGTC]"", """")) ) "),"")
A67: 44 | G67: =IF(C67="", "", LEN(C67)) | H67: {=IF( ISBLANK(D67), IF( ISBLANK(C67), "", G67 * INDEX(PrimerPrices!$C$2:$C$500, MATCH(TRIM(E67) & "|" & TRIM(F67), PrimerPrices!$D$2:$D$500, 0)) ), INDEX(ProbePrices!$D$2:$D$500, MATCH(TRIM(D67) & "|" & TRIM(E67) & "|" & TRIM(F67), ProbePrices!$E$2:$E$500, 0)) )} | I67: =IFERROR(__xludf.DUMMYFUNCTION("IF( C67="""", """", LEN(C67) - LEN(REGEXREPLACE(UPPER(C67), ""[^AGTC]"", """")) ) "),"")
A68: 45 | G68: =IF(C68="", "", LEN(C68)) | H68: {=IF( ISBLANK(D68), IF( ISBLANK(C68), "", G68 * INDEX(PrimerPrices!$C$2:$C$500, MATCH(TRIM(E68) & "|" & TRIM(F68), PrimerPrices!$D$2:$D$500, 0)) ), INDEX(ProbePrices!$D$2:$D$500, MATCH(TRIM(D68) & "|" & TRIM(E68) & "|" & TRIM(F68), ProbePrices!$E$2:$E$500, 0)) )} | I68: =IFERROR(__xludf.DUMMYFUNCTION("IF( C68="""", """", LEN(C68) - LEN(REGEXREPLACE(UPPER(C68), ""[^AGTC]"", """")) ) "),"")
A69: 46 | G69: =IF(C69="", "", LEN(C69)) | H69: {=IF( ISBLANK(D69), IF( ISBLANK(C69), "", G69 * INDEX(PrimerPrices!$C$2:$C$500, MATCH(TRIM(E69) & "|" & TRIM(F69), PrimerPrices!$D$2:$D$500, 0)) ), INDEX(ProbePrices!$D$2:$D$500, MATCH(TRIM(D69) & "|" & TRIM(E69) & "|" & TRIM(F69), ProbePrices!$E$2:$E$500, 0)) )} | I69: =IFERROR(__xludf.DUMMYFUNCTION("IF( C69="""", """", LEN(C69) - LEN(REGEXREPLACE(UPPER(C69), ""[^AGTC]"", """")) ) "),"")
A70: 47 | G70: =IF(C70="", "", LEN(C70)) | H70: {=IF( ISBLANK(D70), IF( ISBLANK(C70), "", G70 * INDEX(PrimerPrices!$C$2:$C$500, MATCH(TRIM(E70) & "|" & TRIM(F70), PrimerPrices!$D$2:$D$500, 0)) ), INDEX(ProbePrices!$D$2:$D$500, MATCH(TRIM(D70) & "|" & TRIM(E70) & "|" & TRIM(F70), ProbePrices!$E$2:$E$500, 0)) )} | I70: =IFERROR(__xludf.DUMMYFUNCTION("IF( C70="""", """", LEN(C70) - LEN(REGEXREPLACE(UPPER(C70), ""[^AGTC]"", """")) ) "),"")
A71: 48 | G71: =IF(C71="", "", LEN(C71)) | H71: {=IF( ISBLANK(D71), IF( ISBLANK(C71), "", G71 * INDEX(PrimerPrices!$C$2:$C$500, MATCH(TRIM(E71) & "|" & TRIM(F71), PrimerPrices!$D$2:$D$500, 0)) ), INDEX(ProbePrices!$D$2:$D$500, MATCH(TRIM(D71) & "|" & TRIM(E71) & "|" & TRIM(F71), ProbePrices!$E$2:$E$500, 0)) )} | I71: =IFERROR(__xludf.DUMMYFUNCTION("IF( C71="""", """", LEN(C71) - LEN(REGEXREPLACE(UPPER(C71), ""[^AGTC]"", """")) ) "),"")
A72: 49 | G72: =IF(C72="", "", LEN(C72)) | H72: {=IF( ISBLANK(D72), IF( ISBLANK(C72), "", G72 * INDEX(PrimerPrices!$C$2:$C$500, MATCH(TRIM(E72) & "|" & TRIM(F72), PrimerPrices!$D$2:$D$500, 0)) ), INDEX(ProbePrices!$D$2:$D$500, MATCH(TRIM(D72) & "|" & TRIM(E72) & "|" & TRIM(F72), ProbePrices!$E$2:$E$500, 0)) )} | I72: =IFERROR(__xludf.DUMMYFUNCTION("IF( C72="""", """", LEN(C72) - LEN(REGEXREPLACE(UPPER(C72), ""[^AGTC]"", """")) ) "),"")
A73: 50 | G73: =IF(C73="", "", LEN(C73)) | H73: {=IF( ISBLANK(D73), IF( ISBLANK(C73), "", G73 * INDEX(PrimerPrices!$C$2:$C$500, MATCH(TRIM(E73) & "|" & TRIM(F73), PrimerPrices!$D$2:$D$500, 0)) ), INDEX(ProbePrices!$D$2:$D$500, MATCH(TRIM(D73) & "|" & TRIM(E73) & "|" & TRIM(F73), ProbePrices!$E$2:$E$500, 0)) )} | I73: =IFERROR(__xludf.DUMMYFUNCTION("IF( C73="""", """", LEN(C73) - LEN(REGEXREPLACE(UPPER(C73), ""[^AGTC]"", """")) ) "),"")
A74: 51 | G74: =IF(C74="", "", LEN(C74)) | H74: {=IF( ISBLANK(D74), IF( ISBLANK(C74), "", G74 * INDEX(PrimerPrices!$C$2:$C$500, MATCH(TRIM(E74) & "|" & TRIM(F74), PrimerPrices!$D$2:$D$500, 0)) ), INDEX(ProbePrices!$D$2:$D$500, MATCH(TRIM(D74) & "|" & TRIM(E74) & "|" & TRIM(F74), ProbePrices!$E$2:$E$500, 0)) )} | I74: =IFERROR(__xludf.DUMMYFUNCTION("IF( C74="""", """", LEN(C74) - LEN(REGEXREPLACE(UPPER(C74), ""[^AGTC]"", """")) ) "),"")
A75: 52 | G75: =IF(C75="", "", LEN(C75)) | H75: {=IF( ISBLANK(D75), IF( ISBLANK(C75), "", G75 * INDEX(PrimerPrices!$C$2:$C$500, MATCH(TRIM(E75) & "|" & TRIM(F75), PrimerPrices!$D$2:$D$500, 0)) ), INDEX(ProbePrices!$D$2:$D$500, MATCH(TRIM(D75) & "|" & TRIM(E75) & "|" & TRIM(F75), ProbePrices!$E$2:$E$500, 0)) )} | I75: =IFERROR(__xludf.DUMMYFUNCTION("IF( C75="""", """", LEN(C75) - LEN(REGEXREPLACE(UPPER(C75), ""[^AGTC]"", """")) ) "),"")
A76: 53 | G76: =IF(C76="", "", LEN(C76)) | H76: {=IF( ISBLANK(D76), IF( ISBLANK(C76), "", G76 * INDEX(PrimerPrices!$C$2:$C$500, MATCH(TRIM(E76) & "|" & TRIM(F76), PrimerPrices!$D$2:$D$500, 0)) ), INDEX(ProbePrices!$D$2:$D$500, MATCH(TRIM(D76) & "|" & TRIM(E76) & "|" & TRIM(F76), ProbePrices!$E$2:$E$500, 0)) )} | I76: =IFERROR(__xludf.DUMMYFUNCTION("IF( C76="""", """", LEN(C76) - LEN(REGEXREPLACE(UPPER(C76), ""[^AGTC]"", """")) ) "),"")
A77: 54 | G77: =IF(C77="", "", LEN(C77)) | H77: {=IF( ISBLANK(D77), IF( ISBLANK(C77), "", G77 * INDEX(PrimerPrices!$C$2:$C$500, MATCH(TRIM(E77) & "|" & TRIM(F77), PrimerPrices!$D$2:$D$500, 0)) ), INDEX(ProbePrices!$D$2:$D$500, MATCH(TRIM(D77) & "|" & TRIM(E77) & "|" & TRIM(F77), ProbePrices!$E$2:$E$500, 0)) )} | I77: =IFERROR(__xludf.DUMMYFUNCTION("IF( C77="""", """", LEN(C77) - LEN(REGEXREPLACE(UPPER(C77), ""[^AGTC]"", """")) ) "),"")
A78: 55 | G78: =IF(C78="", "", LEN(C78)) | H78: {=IF( ISBLANK(D78), IF( ISBLANK(C78), "", G78 * INDEX(PrimerPrices!$C$2:$C$500, MATCH(TRIM(E78) & "|" & TRIM(F78), PrimerPrices!$D$2:$D$500, 0)) ), INDEX(ProbePrices!$D$2:$D$500, MATCH(TRIM(D78) & "|" & TRIM(E78) & "|" & TRIM(F78), ProbePrices!$E$2:$E$500, 0)) )} | I78: =IFERROR(__xludf.DUMMYFUNCTION("IF( C78="""", """", LEN(C78) - LEN(REGEXREPLACE(UPPER(C78), ""[^AGTC]"", """")) ) "),"")
A79: 56 | G79: =IF(C79="", "", LEN(C79)) | H79: {=IF( ISBLANK(D79), IF( ISBLANK(C79), "", G79 * INDEX(PrimerPrices!$C$2:$C$500, MATCH(TRIM(E79) & "|" & TRIM(F79), PrimerPrices!$D$2:$D$500, 0)) ), INDEX(ProbePrices!$D$2:$D$500, MATCH(TRIM(D79) & "|" & TRIM(E79) & "|" & TRIM(F79), ProbePrices!$E$2:$E$500, 0)) )} | I79: =IFERROR(__xludf.DUMMYFUNCTION("IF( C79="""", """", LEN(C79) - LEN(REGEXREPLACE(UPPER(C79), ""[^AGTC]"", """")) ) "),"")
A80: 57 | G80: =IF(C80="", "", LEN(C80)) | H80: {=IF( ISBLANK(D80), IF( ISBLANK(C80), "", G80 * INDEX(PrimerPrices!$C$2:$C$500, MATCH(TRIM(E80) & "|" & TRIM(F80), PrimerPrices!$D$2:$D$500, 0)) ), INDEX(ProbePrices!$D$2:$D$500, MATCH(TRIM(D80) & "|" & TRIM(E80) & "|" & TRIM(F80), ProbePrices!$E$2:$E$500, 0)) )} | I80: =IFERROR(__xludf.DUMMYFUNCTION("IF( C80="""", """", LEN(C80) - LEN(REGEXREPLACE(UPPER(C80), ""[^AGTC]"", """")) ) "),"")
A81: 58 | G81: =IF(C81="", "", LEN(C81)) | H81: {=IF( ISBLANK(D81), IF( ISBLANK(C81), "", G81 * INDEX(PrimerPrices!$C$2:$C$500, MATCH(TRIM(E81) & "|" & TRIM(F81), PrimerPrices!$D$2:$D$500, 0)) ), INDEX(ProbePrices!$D$2:$D$500, MATCH(TRIM(D81) & "|" & TRIM(E81) & "|" & TRIM(F81), ProbePrices!$E$2:$E$500, 0)) )} | I81: =IFERROR(__xludf.DUMMYFUNCTION("IF( C81="""", """", LEN(C81) - LEN(REGEXREPLACE(UPPER(C81), ""[^AGTC]"", """")) ) "),"")
A82: 59 | G82: =IF(C82="", "", LEN(C82)) | H82: {=IF( ISBLANK(D82), IF( ISBLANK(C82), "", G82 * INDEX(PrimerPrices!$C$2:$C$500, MATCH(TRIM(E82) & "|" & TRIM(F82), PrimerPrices!$D$2:$D$500, 0)) ), INDEX(ProbePrices!$D$2:$D$500, MATCH(TRIM(D82) & "|" & TRIM(E82) & "|" & TRIM(F82), ProbePrices!$E$2:$E$500, 0)) )} | I82: =IFERROR(__xludf.DUMMYFUNCTION("IF( C82="""", """", LEN(C82) - LEN(REGEXREPLACE(UPPER(C82), ""[^AGTC]"", """")) ) "),"")
A83: 60 | G83: =IF(C83="", "", LEN(C83)) | H83: {=IF( ISBLANK(D83), IF( ISBLANK(C83), "", G83 * INDEX(PrimerPrices!$C$2:$C$500, MATCH(TRIM(E83) & "|" & TRIM(F83), PrimerPrices!$D$2:$D$500, 0)) ), INDEX(ProbePrices!$D$2:$D$500, MATCH(TRIM(D83) & "|" & TRIM(E83) & "|" & TRIM(F83), ProbePrices!$E$2:$E$500, 0)) )} | I83: =IFERROR(__xludf.DUMMYFUNCTION("IF( C83="""", """", LEN(C83) - LEN(REGEXREPLACE(UPPER(C83), ""[^AGTC]"", """")) ) "),"")
A84: 61 | G84: =IF(C84="", "", LEN(C84)) | H84: {=IF( ISBLANK(D84), IF( ISBLANK(C84), "", G84 * INDEX(PrimerPrices!$C$2:$C$500, MATCH(TRIM(E84) & "|" & TRIM(F84), PrimerPrices!$D$2:$D$500, 0)) ), INDEX(ProbePrices!$D$2:$D$500, MATCH(TRIM(D84) & "|" & TRIM(E84) & "|" & TRIM(F84), ProbePrices!$E$2:$E$500, 0)) )} | I84: =IFERROR(__xludf.DUMMYFUNCTION("IF( C84="""", """", LEN(C84) - LEN(REGEXREPLACE(UPPER(C84), ""[^AGTC]"", """")) ) "),"")
A85: 62 | G85: =IF(C85="", "", LEN(C85)) | H85: {=IF( ISBLANK(D85), IF( ISBLANK(C85), "", G85 * INDEX(PrimerPrices!$C$2:$C$500, MATCH(TRIM(E85) & "|" & TRIM(F85), PrimerPrices!$D$2:$D$500, 0)) ), INDEX(ProbePrices!$D$2:$D$500, MATCH(TRIM(D85) & "|" & TRIM(E85) & "|" & TRIM(F85), ProbePrices!$E$2:$E$500, 0)) )} | I85: =IFERROR(__xludf.DUMMYFUNCTION("IF( C85="""", """", LEN(C85) - LEN(REGEXREPLACE(UPPER(C85), ""[^AGTC]"", """")) ) "),"")
A86: 63 | G86: =IF(C86="", "", LEN(C86)) | H86: {=IF( ISBLANK(D86), IF( ISBLANK(C86), "", G86 * INDEX(PrimerPrices!$C$2:$C$500, MATCH(TRIM(E86) & "|" & TRIM(F86), PrimerPrices!$D$2:$D$500, 0)) ), INDEX(ProbePrices!$D$2:$D$500, MATCH(TRIM(D86) & "|" & TRIM(E86) & "|" & TRIM(F86), ProbePrices!$E$2:$E$500, 0)) )} | I86: =IFERROR(__xludf.DUMMYFUNCTION("IF( C86="""", """", LEN(C86) - LEN(REGEXREPLACE(UPPER(C86), ""[^AGTC]"", """")) ) "),"")
A87: 64 | G87: =IF(C87="", "", LEN(C87)) | H87: {=IF( ISBLANK(D87), IF( ISBLANK(C87), "", G87 * INDEX(PrimerPrices!$C$2:$C$500, MATCH(TRIM(E87) & "|" & TRIM(F87), PrimerPrices!$D$2:$D$500, 0)) ), INDEX(ProbePrices!$D$2:$D$500, MATCH(TRIM(D87) & "|" & TRIM(E87) & "|" & TRIM(F87), ProbePrices!$E$2:$E$500, 0)) )} | I87: =IFERROR(__xludf.DUMMYFUNCTION("IF( C87="""", """", LEN(C87) - LEN(REGEXREPLACE(UPPER(C87), ""[^AGTC]"", """")) ) "),"")
A88: 65 | G88: =IF(C88="", "", LEN(C88)) | H88: {=IF( ISBLANK(D88), IF( ISBLANK(C88), "", G88 * INDEX(PrimerPrices!$C$2:$C$500, MATCH(TRIM(E88) & "|" & TRIM(F88), PrimerPrices!$D$2:$D$500, 0)) ), INDEX(ProbePrices!$D$2:$D$500, MATCH(TRIM(D88) & "|" & TRIM(E88) & "|" & TRIM(F88), ProbePrices!$E$2:$E$500, 0)) )} | I88: =IFERROR(__xludf.DUMMYFUNCTION("IF( C88="""", """", LEN(C88) - LEN(REGEXREPLACE(UPPER(C88), ""[^AGTC]"", """")) ) "),"")
A89: 66 | G89: =IF(C89="", "", LEN(C89)) | H89: {=IF( ISBLANK(D89), IF( ISBLANK(C89), "", G89 * INDEX(PrimerPrices!$C$2:$C$500, MATCH(TRIM(E89) & "|" & TRIM(F89), PrimerPrices!$D$2:$D$500, 0)) ), INDEX(ProbePrices!$D$2:$D$500, MATCH(TRIM(D89) & "|" & TRIM(E89) & "|" & TRIM(F89), ProbePrices!$E$2:$E$500, 0)) )} | I89: =IFERROR(__xludf.DUMMYFUNCTION("IF( C89="""", """", LEN(C89) - LEN(REGEXREPLACE(UPPER(C89), ""[^AGTC]"", """")) ) "),"")
A90: 67 | G90: =IF(C90="", "", LEN(C90)) | H90: {=IF( ISBLANK(D90), IF( ISBLANK(C90), "", G90 * INDEX(PrimerPrices!$C$2:$C$500, MATCH(TRIM(E90) & "|" & TRIM(F90), PrimerPrices!$D$2:$D$500, 0)) ), INDEX(ProbePrices!$D$2:$D$500, MATCH(TRIM(D90) & "|" & TRIM(E90) & "|" & TRIM(F90), ProbePrices!$E$2:$E$500, 0)) )} | I90: =IFERROR(__xludf.DUMMYFUNCTION("IF( C90="""", """", LEN(C90) - LEN(REGEXREPLACE(UPPER(C90), ""[^AGTC]"", """")) ) "),"")
A91: 68 | G91: =IF(C91="", "", LEN(C91)) | H91: {=IF( ISBLANK(D91), IF( ISBLANK(C91), "", G91 * INDEX(PrimerPrices!$C$2:$C$500, MATCH(TRIM(E91) & "|" & TRIM(F91), PrimerPrices!$D$2:$D$500, 0)) ), INDEX(ProbePrices!$D$2:$D$500, MATCH(TRIM(D91) & "|" & TRIM(E91) & "|" & TRIM(F91), ProbePrices!$E$2:$E$500, 0)) )} | I91: =IFERROR(__xludf.DUMMYFUNCTION("IF( C91="""", """", LEN(C91) - LEN(REGEXREPLACE(UPPER(C91), ""[^AGTC]"", """")) ) "),"")
A92: 69 | G92: =IF(C92="", "", LEN(C92)) | H92: {=IF( ISBLANK(D92), IF( ISBLANK(C92), "", G92 * INDEX(PrimerPrices!$C$2:$C$500, MATCH(TRIM(E92) & "|" & TRIM(F92), PrimerPrices!$D$2:$D$500, 0)) ), INDEX(ProbePrices!$D$2:$D$500, MATCH(TRIM(D92) & "|" & TRIM(E92) & "|" & TRIM(F92), ProbePrices!$E$2:$E$500, 0)) )} | I92: =IFERROR(__xludf.DUMMYFUNCTION("IF( C92="""", """", LEN(C92) - LEN(REGEXREPLACE(UPPER(C92), ""[^AGTC]"", """")) ) "),"")
A93: 70 | G93: =IF(C93="", "", LEN(C93)) | H93: {=IF( ISBLANK(D93), IF( ISBLANK(C93), "", G93 * INDEX(PrimerPrices!$C$2:$C$500, MATCH(TRIM(E93) & "|" & TRIM(F93), PrimerPrices!$D$2:$D$500, 0)) ), INDEX(ProbePrices!$D$2:$D$500, MATCH(TRIM(D93) & "|" & TRIM(E93) & "|" & TRIM(F93), ProbePrices!$E$2:$E$500, 0)) )} | I93: =IFERROR(__xludf.DUMMYFUNCTION("IF( C93="""", """", LEN(C93) - LEN(REGEXREPLACE(UPPER(C93), ""[^AGTC]"", """")) ) "),"")
A94: 71 | G94: =IF(C94="", "", LEN(C94)) | H94: {=IF( ISBLANK(D94), IF( ISBLANK(C94), "", G94 * INDEX(PrimerPrices!$C$2:$C$500, MATCH(TRIM(E94) & "|" & TRIM(F94), PrimerPrices!$D$2:$D$500, 0)) ), INDEX(ProbePrices!$D$2:$D$500, MATCH(TRIM(D94) & "|" & TRIM(E94) & "|" & TRIM(F94), ProbePrices!$E$2:$E$500, 0)) )} | I94: =IFERROR(__xludf.DUMMYFUNCTION("IF( C94="""", """", LEN(C94) - LEN(REGEXREPLACE(UPPER(C94), ""[^AGTC]"", """")) ) "),"")
A95: 72 | G95: =IF(C95="", "", LEN(C95)) | H95: {=IF( ISBLANK(D95), IF( ISBLANK(C95), "", G95 * INDEX(PrimerPrices!$C$2:$C$500, MATCH(TRIM(E95) & "|" & TRIM(F95), PrimerPrices!$D$2:$D$500, 0)) ), INDEX(ProbePrices!$D$2:$D$500, MATCH(TRIM(D95) & "|" & TRIM(E95) & "|" & TRIM(F95), ProbePrices!$E$2:$E$500, 0)) )} | I95: =IFERROR(__xludf.DUMMYFUNCTION("IF( C95="""", """", LEN(C95) - LEN(REGEXREPLACE(UPPER(C95), ""[^AGTC]"", """")) ) "),"")
A96: 73 | G96: =IF(C96="", "", LEN(C96)) | H96: {=IF( ISBLANK(D96), IF( ISBLANK(C96), "", G96 * INDEX(PrimerPrices!$C$2:$C$500, MATCH(TRIM(E96) & "|" & TRIM(F96), PrimerPrices!$D$2:$D$500, 0)) ), INDEX(ProbePrices!$D$2:$D$500, MATCH(TRIM(D96) & "|" & TRIM(E96) & "|" & TRIM(F96), ProbePrices!$E$2:$E$500, 0)) )} | I96: =IFERROR(__xludf.DUMMYFUNCTION("IF( C96="""", """", LEN(C96) - LEN(REGEXREPLACE(UPPER(C96), ""[^AGTC]"", """")) ) "),"")
A97: 74 | G97: =IF(C97="", "", LEN(C97)) | H97: {=IF( ISBLANK(D97), IF( ISBLANK(C97), "", G97 * INDEX(PrimerPrices!$C$2:$C$500, MATCH(TRIM(E97) & "|" & TRIM(F97), PrimerPrices!$D$2:$D$500, 0)) ), INDEX(ProbePrices!$D$2:$D$500, MATCH(TRIM(D97) & "|" & TRIM(E97) & "|" & TRIM(F97), ProbePrices!$E$2:$E$500, 0)) )} | I97: =IFERROR(__xludf.DUMMYFUNCTION("IF( C97="""", """", LEN(C97) - LEN(REGEXREPLACE(UPPER(C97), ""[^AGTC]"", """")) ) "),"")
A98: 75 | G98: =IF(C98="", "", LEN(C98)) | H98: {=IF( ISBLANK(D98), IF( ISBLANK(C98), "", G98 * INDEX(PrimerPrices!$C$2:$C$500, MATCH(TRIM(E98) & "|" & TRIM(F98), PrimerPrices!$D$2:$D$500, 0)) ), INDEX(ProbePrices!$D$2:$D$500, MATCH(TRIM(D98) & "|" & TRIM(E98) & "|" & TRIM(F98), ProbePrices!$E$2:$E$500, 0)) )} | I98: =IFERROR(__xludf.DUMMYFUNCTION("IF( C98="""", """", LEN(C98) - LEN(REGEXREPLACE(UPPER(C98), ""[^AGTC]"", """")) ) "),"")
A99: 76 | G99: =IF(C99="", "", LEN(C99)) | H99: {=IF( ISBLANK(D99), IF( ISBLANK(C99), "", G99 * INDEX(PrimerPrices!$C$2:$C$500, MATCH(TRIM(E99) & "|" & TRIM(F99), PrimerPrices!$D$2:$D$500, 0)) ), INDEX(ProbePrices!$D$2:$D$500, MATCH(TRIM(D99) & "|" & TRIM(E99) & "|" & TRIM(F99), ProbePrices!$E$2:$E$500, 0)) )} | I99: =IFERROR(__xludf.DUMMYFUNCTION("IF( C99="""", """", LEN(C99) - LEN(REGEXREPLACE(UPPER(C99), ""[^AGTC]"", """")) ) "),"")
A100: 77 | G100: =IF(C100="", "", LEN(C100)) | H100: {=IF( ISBLANK(D100), IF( ISBLANK(C100), "", G100 * INDEX(PrimerPrices!$C$2:$C$500, MATCH(TRIM(E100) & "|" & TRIM(F100), PrimerPrices!$D$2:$D$500, 0)) ), INDEX(ProbePrices!$D$2:$D$500, MATCH(TRIM(D100) & "|" & TRIM(E100) & "|" & TRIM(F100), ProbePrices!$E$2:$E$500, 0)) )} | I100: =IFERROR(__xludf.DUMMYFUNCTION("IF( C100="""", """", LEN(C100) - LEN(REGEXREPLACE(UPPER(C100), ""[^AGTC]"", """")) ) "),"")
A101: 78 | G101: =IF(C101="", "", LEN(C101)) | H101: {=IF( ISBLANK(D101), IF( ISBLANK(C101), "", G101 * INDEX(PrimerPrices!$C$2:$C$500, MATCH(TRIM(E101) & "|" & TRIM(F101), PrimerPrices!$D$2:$D$500, 0)) ), INDEX(ProbePrices!$D$2:$D$500, MATCH(TRIM(D101) & "|" & TRIM(E101) & "|" & TRIM(F101), ProbePrices!$E$2:$E$500, 0)) )} | I101: =IFERROR(__xludf.DUMMYFUNCTION("IF( C101="""", """", LEN(C101) - LEN(REGEXREPLACE(UPPER(C101), ""[^AGTC]"", """")) ) "),"")
...

Sheet Product Price List
B2: PRODUCT PRICE LIST
B5: Product Name | C5: 5' Modification | D5: Synthesis Scale | H5: 3' Modification | I5: Purification | J5: Delivery Time
D6: 25 nmol | E6: 50 nmol | F6: 100 nmol | G6: 200 nmol
B7: Primer | C7: None | D7: X | E7: €0,25 | F7: €0,30 | G7: €0,40 | H7: None | I7: Desalt | J7: 3 Business Days
B8: OPC | C8: None | D8: X | E8: €0,30 | F8: €0,35 | G8: €0,45 | H8: None | I8: OPC | J8: 3 Business Days
B9: Primer(-PK) | C9: None | D9: X | E9: €0,30 | F9: €0,35 | G9: €0,45 | H9: None | I9: RPC/OPC | J9: 3 Business Days
B10: Primer (HPLC) | C10: None | D10: X | E10: €0,35 | F10: €0,40 | G10: €0,50 | H10: None | I10: HPLC | J10: 3 Business Days
B11: Product Name | C11: 5' Modification | D11: Synthesis Scale | H11: 3' Modification | I11: Purification | J11: Delivery Time
D12: 25 nmol | E12: 50 nmol | F12: 100 nmol | G12: 200 nmol
B13: 5' FAM | C13: FAM | D13: X | E13: 60 | F13: 80 | G13: 100 | H13: None | I13: HPLC | J13: 3 Business Days
B14: 5' HEX | C14: HEX | D14: X | E14: 60 | F14: 80 | G14: 100 | H14: None | I14: HPLC | J14: 3 Business Days
B15: 5' ROX | C15: ROX | D15: X | E15: 80 | F15: 100 | G15: 120 | H15: None | I15: HPLC | J15: 3 Business Days
B16: 5' Cy5 | C16: Cy5 | D16: X | E16: 80 | F16: 100 | G16: 120 | H16: None | I16: HPLC | J16: 3 Business Days
B17: 5' Cy5.5 | C17: Cy5.5 | D17: X | E17: 100 | F17: 120 | G17: 150 | H17: None | I17: HPLC | J17: 10 Business Days
B18: 5' Cy3 | C18: Cy3 | D18: X | E18: 80 | F18: 100 | G18: 120 | H18: None | I18: HPLC | J18: 3 Business Days
B19: 5' Cy3.5 | C19: Cy3.5 | D19: X | E19: 100 | F19: 120 | G19: 150 | H19: None | I19: HPLC | J19: 10 Business Days
B20: 5' VIC | C20: VIC | D20: X | E20: 70 | F20: 90 | G20: 110 | H20: None | I20: HPLC | J20: 3 Business Days
B21: 5' NED | C21: NED | D21: X | E21: 70 | F21: 90 | G21: 110 | H21: None | I21: HPLC | J21: 10 Business Days
B22: 5' JOE | C22: JOE | D22: X | E22: 70 | F22: 90 | G22: 110 | H22: None | I22: HPLC | J22: 10 Business Days
B23: 5' PET | C23: PET | D23: X | E23: 70 | F23: 90 | G23: 110 | H23: None | I23: HPLC | J23: 10 Business Days
B24: 5' Yakima Yellow | C24: Yakima Yellow | D24: X | E24: 80 | F24: 100 | G24: 120 | H24: None | I24: HPLC | J24: 3 Business Days
... B27: 5' Hexyl Amine | C27: Hexyl Amine | D27: X | E27: 80 | F27: 120 | G27: 150 | H27: None | I27: HPLC | J27: 3 Business Days
B28: Product Name | C28: 5' Modification | D28: Synthesis Scale | H28: 3' Modification | I28: Purification | J28: Delivery Time
D29: 25 nmol | E29: 50 nmol | F29: 100 nmol | G29: 200 nmol
B30: FAM - BHQ | C30: FAM | D30: X | E30: 120 | F30: 150 | G30: 180 | H30: BHQ1 | I30: HPLC | J30: 3 Business Days
B31: HEX - BHQ | C31: HEX | D31: X | E31: 120 | F31: 150 | G31: 180 | H31: BHQ1 | I31: HPLC | J31: 3 Business Days
B32: ROX - BHQ2 | C32: ROX | D32: X | E32: 300 | F32: 320 | G32: 380 | H32: BHQ2 | I32: HPLC | J32: 3 Business Days
B33: Cy5 - BHQ2 | C33: Cy5 | D33: X | E33: 300 | F33: 320 | G33: 380 | H33: BHQ2 | I33: HPLC | J33: 3 Business Days
B34: Cy5,5 - BHQ2 | C34: Cy5,5 | D34: X | E34: 400 | F34: 420 | G34: 450 | H34: BHQ2 | I34: HPLC | J34: 10 Business Days
B35: Cy3 - BHQ2 | C35: Cy3 | D35: X | E35: 400 | F35: 420 | G35: 450 | H35: BHQ2 | I35: HPLC | J35: 3 Business Days
B36: Cy3.5 - BHQ2 | C36: Cy3.5 | D36: X | E36: 400 | F36: 420 | G36: 450 | H36: BHQ2 | I36: HPLC | J36: 10 Business Days
B37: FAM - FQFQ | C37: FAM | D37: X | E37: 200 | F37: 220 | G37: 250 | H37: Internal Quencher | I37: HPLC | J37: 3 Business Days
B38: HEX - FQFQ | C38: HEX | D38: X | E38: 200 | F38: 220 | G38: 250 | H38: Internal Quencher | I38: HPLC | J38: 3 Business Days
B39: FAM - MGB | C39: FAM | D39: X | E39: 150 | F39: 180 | G39: 200 | H39: MGB | I39: HPLC | J39: 3 Business Days
B40: HEX - MGB | C40: HEX | D40: X | E40: 150 | F40: 180 | G40: 200 | H40: MGB | I40: HPLC | J40: 3 Business Days
B41: Tamra - BHQ | C41: TAMRA | D41: X | E41: 180 | F41: 220 | G41: 250 | H41: BHQ1 | I41: HPLC | J41: 3 Business Days
... B48: HEX - Tamra | C48: HEX | D48: X | E48: 120 | F48: 150 | G48: 180 | H48: Tamra | I48: HPLC | J48: 3 Business Days
B49: VIC - BHQ | C49: VIC | D49: X | E49: 130 | F49: 160 | G49: 190 | H49: BHQ1 | I49: HPLC
B50: Product Name | C50: 5' Modification | D50: Synthesis Scale | H50: 3' Modification | I50: Purification | J50: Delivery Time
D51: 25 nmol | E51: 50 nmol | F51: 100 nmol | G51: 200 nmol
B52: 5'/3' Biotin | C52: Biotin/- | D52: X | E52: 80 | F52: 120 | G52: 150 | H52: -/Biotin | I52: HPLC | J52: 3 Business Days
B53: 5'/3' Tamra | C53: Tamra/- | D53: X | E53: 70 | F53: 150 | G53: 200 | H53: -/Tamra | I53: HPLC | J53: 3 Business Days
B54: 5'/3' Thiol | C54: Thiol/- | D54: X | E54: 80 | F54: 110 | G54: 140 | H54: -/Thiol | I54: HPLC | J54: 3 Business Days
B55: 5'/3' Phosphorylation | C55: Phosphorylation/- | D55: X | E55: 80 | F55: 110 | G55: 140 | H55: -/Phosphorylation | I55: HPLC | J55: 3 Business Days
B56: 5'/3' Digoxigenin | C56: Digoxigenin/- | D56: 380 | H56: -/Digoxigenin | I56: HPLC | J56: 3 Business Days
B57: 5'/3' Spacer C3 | C57: Spacer C3/- | D57: X | E57: 50 | F57: 70 | G57: 90 | H57: -/Spacer C3 | I57: HPLC | J57: 3 Business Days
B58: 5'/3' Azyde | C58: Azyde/- | D58: X | E58: 0 | F58: 0 | G58: 0 | H58: -/Azyde | I58: HPLC | J58: 10 Business Days
B59: 5'/3' Alkyne | C59: Alkyne/- | D59: X | E59: 0 | F59: 0 | G59: 0 | H59: -/Alkyne | I59: HPLC | J59: 10 Business Days
B60: Product Name | C60: 5' Modification | D60: Synthesis Scale | H60: 3' Modification | I60: Purification | J60: Delivery Time
D61: 25 nmol | E61: 50 nmol | F61: 100 nmol | G61: 200 nmol
B62: LNA/base | C62: None | D62: X | E62: €10 per Base | F62: €10 per Base | G62: €10 per Base | H62: None | I62: HPLC/desalt | J62: 5 Business Days
B63: Inosine/base | C63: None | D63: X | E63: €10 per Base | F63: €10 per Base | G63: €10 per Base | H63: None | I63: HPLC/desalt | J63: 3 Business Days
B64: Phosphorothioate/base | C64: None | D64: X | E64: €10 per Base | F64: €10 per Base | G64: €10 per Base | H64: None | I64: HPLC/desalt | J64: 3 Business Days
B65: Internal Spacer C3 | C65: None | D65: X | E65: 50 | F65: 70 | G65: 90 | H65: None | I65: HPLC/desalt | J65: 3 Business Days
B66: Degenerate Primer IUB Codes
B67: IUB CODE | C67: DESCRIPTION | D67: TO CREATE YOUR DEGENERATE PRIMER ORDERS, PLEASE USE THE IUB CODES | I67: IUB CODE | J67: DESCRIPTION
B68: G | C68: Guanine | I68: S (Strong) | J68: C + G
B69: A | C69: Adenine | I69: W (Weak) | J69: A + T
B70: T | C70: Thymine | I70: B (not A) | J70: C + G + T
B71: C | C71: Cytosine | I71: D (not C) | J71: G + A + T
B72: R (puRine) | C72: A + G | I72: H (not G) | J72: A + C + T
B73: Y (pYrimidine) | C73: C + T | I73: V (not T) | J73: A + C + G
B74: M (aMino) | C74: A + C | I74: N (aNy) | J74: A + C + G + T
B75: K (Keto) | C75: G + T | I75: X | J75: Label

Sheet PrimerPrices
A1: Scale | B1: Purification | C1: Price per nt | D1: Combo
A2: 50 nmol | B2: DESALT | C2: 0.25 | D2: =TRIM(A2) & "|" & TRIM(B2) -> 50 nmol|DESALT
A3: 100 nmol | B3: DESALT | C3: 0.3 | D3: =TRIM(A3) & "|" & TRIM(B3) -> 100 nmol|DESALT
A4: 200 nmol | B4: DESALT | C4: 0.4 | D4: =TRIM(A4) & "|" & TRIM(B4) -> 200 nmol|DESALT
A5: 50 nmol | B5: HPLC | C5: 0.35 | D5: =TRIM(A5) & "|" & TRIM(B5) -> 50 nmol|HPLC
A6: 100 nmol | B6: HPLC | C6: 0.4 | D6: =TRIM(A6) & "|" & TRIM(B6) -> 100 nmol|HPLC
A7: 200 nmol | B7: HPLC | C7: 0.5 | D7: =TRIM(A7) & "|" & TRIM(B7) -> 200 nmol|HPLC
A8: 50 nmol | B8: RPC | C8: 0.3 | D8: =TRIM(A8) & "|" & TRIM(B8) -> 50 nmol|RPC
A9: 100 nmol | B9: RPC | C9: 0.35 | D9: =TRIM(A9) & "|" & TRIM(B9) -> 100 nmol|RPC
A10: 200 nmol | B10: RPC | C10: 0.45 | D10: =TRIM(A10) & "|" & TRIM(B10) -> 200 nmol|RPC
A11: 50 nmol | B11: OPC | C11: 0.3 | D11: =TRIM(A11) & "|" & TRIM(B11) -> 50 nmol|OPC
A12: 100 nmol | B12: OPC | C12: 0.35 | D12: =TRIM(A12) & "|" & TRIM(B12) -> 100 nmol|OPC
A13: 200 nmol | B13: OPC | C13: 0.45 | D13: =TRIM(A13) & "|" & TRIM(B13) -> 200 nmol|OPC

Sheet ProbePrices
A1: Modification | B1: Scale | C1: Purification | D1: Flat Price | E1: New
A2: 5' FAM | B2: 50 nmol | C2: HPLC | D2: 60 | E2: =TRIM(A2) & "|" & TRIM(B2) & "|" & TRIM(C2) -> 5' FAM|50 nmol|HPLC
A3: 5' FAM | B3: 100 nmol | C3: HPLC | D3: 80 | E3: =TRIM(A3) & "|" & TRIM(B3) & "|" & TRIM(C3) -> 5' FAM|100 nmol|HPLC
A4: 5' FAM | B4: 200 nmol | C4: HPLC | D4: 100 | E4: =TRIM(A4) & "|" & TRIM(B4) & "|" & TRIM(C4) -> 5' FAM|200 nmol|HPLC
A5: 5' HEX | B5: 50 nmol | C5: HPLC | D5: 60 | E5: =TRIM(A5) & "|" & TRIM(B5) & "|" & TRIM(C5) -> 5' HEX|50 nmol|HPLC
A6: 5' HEX | B6: 100 nmol | C6: HPLC | D6: 80 | E6: =TRIM(A6) & "|" & TRIM(B6) & "|" & TRIM(C6) -> 5' HEX|100 nmol|HPLC
A7: 5' HEX | B7: 200 nmol | C7: HPLC | D7: 100 | E7: =TRIM(A7) & "|" & TRIM(B7) & "|" & TRIM(C7) -> 5' HEX|200 nmol|HPLC
A8: 5' ROX | B8: 50 nmol | C8: HPLC | D8: 80 | E8: =TRIM(A8) & "|" & TRIM(B8) & "|" & TRIM(C8) -> 5' ROX|50 nmol|HPLC
A9: 5' ROX | B9: 100 nmol | C9: HPLC | D9: 100 | E9: =TRIM(A9) & "|" & TRIM(B9) & "|" & TRIM(C9) -> 5' ROX|100 nmol|HPLC
A10: 5' ROX | B10: 200 nmol | C10: HPLC | D10: 120 | E10: =TRIM(A10) & "|" & TRIM(B10) & "|" & TRIM(C10) -> 5' ROX|200 nmol|HPLC
A11: 5' Cy5 | B11: 50 nmol | C11: HPLC | D11: 80 | E11: =TRIM(A11) & "|" & TRIM(B11) & "|" & TRIM(C11) -> 5' Cy5|50 nmol|HPLC
A12: 5' Cy5 | B12: 100 nmol | C12: HPLC | D12: 100 | E12: =TRIM(A12) & "|" & TRIM(B12) & "|" & TRIM(C12) -> 5' Cy5|100 nmol|HPLC
A13: 5' Cy5 | B13: 200 nmol | C13: HPLC | D13: 120 | E13: =TRIM(A13) & "|" & TRIM(B13) & "|" & TRIM(C13) -> 5' Cy5|200 nmol|HPLC
... A131: Internal Spacer C3 | B131: 200 nmol | C131: HPLC | D131: 90 | E131: =TRIM(A131) & "|" & TRIM(B131) & "|" & TRIM(C131) -> Internal Spacer C3|200 nmol|HPLC

Sheet DropdownSources
A1: Modifications | B1: Scales | C1: Purifications
A2: 5' FAM | B2: 50 nmol | C2: DESALT
A3: 5' HEX | B3: 100 nmol | C3: HPLC
A4: 5' ROX | B4: 200 nmol | C4: RPC
A5: 5' Cy5 | C5: OPC
A6: 5' FAM - BHQ1 3'
A7: 5' HEX - BHQ1 3'
A8: 5' ROX - BHQ2 3'
A9: 5' Cy5 - BHQ2 3'
A10: 5' FAM - FQFQ 3'
A11: 5' HEX - FQFQ 3'
A12: 5' FAM - MGB 3'
A13: 5' HEX - MGB 3'
A14: 5' Tamra - BHQ1 3'
A15: 5' Cy5.5
A16: 5' Cy3
A17: 5' Cy3.5
... A45: Internal Spacer C3
